BEGIN:VCALENDAR
VERSION:2.0
PRODID:-//Street Life Ministries - ECPv6.15.20//NONSGML v1.0//EN
CALSCALE:GREGORIAN
METHOD:PUBLISH
X-ORIGINAL-URL:https://streetlifeministries.org
X-WR-CALDESC:Events for Street Life Ministries
REFRESH-INTERVAL;VALUE=DURATION:PT1H
X-Robots-Tag:noindex
X-PUBLISHED-TTL:PT1H
BEGIN:VTIMEZONE
TZID:America/Los_Angeles
BEGIN:DAYLIGHT
TZOFFSETFROM:-0800
TZOFFSETTO:-0700
TZNAME:PDT
DTSTART:20240310T100000
END:DAYLIGHT
BEGIN:STANDARD
TZOFFSETFROM:-0700
TZOFFSETTO:-0800
TZNAME:PST
DTSTART:20241103T090000
END:STANDARD
BEGIN:DAYLIGHT
TZOFFSETFROM:-0800
TZOFFSETTO:-0700
TZNAME:PDT
DTSTART:20250309T100000
END:DAYLIGHT
BEGIN:STANDARD
TZOFFSETFROM:-0700
TZOFFSETTO:-0800
TZNAME:PST
DTSTART:20251102T090000
END:STANDARD
BEGIN:DAYLIGHT
TZOFFSETFROM:-0800
TZOFFSETTO:-0700
TZNAME:PDT
DTSTART:20260308T100000
END:DAYLIGHT
BEGIN:STANDARD
TZOFFSETFROM:-0700
TZOFFSETTO:-0800
TZNAME:PST
DTSTART:20261101T090000
END:STANDARD
END:VTIMEZONE
BEGIN:VEVENT
DTSTART;TZID=America/Los_Angeles:20251006T184500
DTEND;TZID=America/Los_Angeles:20251006T200000
DTSTAMP:20260422T192817
CREATED:20250624T175118Z
LAST-MODIFIED:20250624T175118Z
UID:10001738-1759776300-1759780800@streetlifeministries.org
SUMMARY:RWC Meals & Fellowship
DESCRIPTION:
URL:https://streetlifeministries.org/event/rwc-meals-fellowship-2/2025-10-06/
LOCATION:RWC Meals + Fellowship\, 1300 Middlefield Road\, Redwood City\, 94063\, United States
END:VEVENT
BEGIN:VEVENT
DTSTART;TZID=America/Los_Angeles:20251003T184500
DTEND;TZID=America/Los_Angeles:20251003T200000
DTSTAMP:20260422T192817
CREATED:20250624T175118Z
LAST-MODIFIED:20250624T175118Z
UID:10001737-1759517100-1759521600@streetlifeministries.org
SUMMARY:RWC Meals & Fellowship
DESCRIPTION:
URL:https://streetlifeministries.org/event/rwc-meals-fellowship-2/2025-10-03/
LOCATION:RWC Meals + Fellowship\, 1300 Middlefield Road\, Redwood City\, 94063\, United States
END:VEVENT
BEGIN:VEVENT
DTSTART;TZID=America/Los_Angeles:20251001T184500
DTEND;TZID=America/Los_Angeles:20251001T200000
DTSTAMP:20260422T192817
CREATED:20250624T175118Z
LAST-MODIFIED:20250624T175118Z
UID:10001736-1759344300-1759348800@streetlifeministries.org
SUMMARY:RWC Meals & Fellowship
DESCRIPTION:
URL:https://streetlifeministries.org/event/rwc-meals-fellowship-2/2025-10-01/
LOCATION:RWC Meals + Fellowship\, 1300 Middlefield Road\, Redwood City\, 94063\, United States
END:VEVENT
BEGIN:VEVENT
DTSTART;TZID=America/Los_Angeles:20250929T184500
DTEND;TZID=America/Los_Angeles:20250929T200000
DTSTAMP:20260422T192817
CREATED:20250624T175118Z
LAST-MODIFIED:20250624T175118Z
UID:10001735-1759171500-1759176000@streetlifeministries.org
SUMMARY:RWC Meals & Fellowship
DESCRIPTION:
URL:https://streetlifeministries.org/event/rwc-meals-fellowship-2/2025-09-29/
LOCATION:RWC Meals + Fellowship\, 1300 Middlefield Road\, Redwood City\, 94063\, United States
END:VEVENT
BEGIN:VEVENT
DTSTART;TZID=America/Los_Angeles:20250926T184500
DTEND;TZID=America/Los_Angeles:20250926T200000
DTSTAMP:20260422T192817
CREATED:20250624T175118Z
LAST-MODIFIED:20250624T175118Z
UID:10001734-1758912300-1758916800@streetlifeministries.org
SUMMARY:RWC Meals & Fellowship
DESCRIPTION:
URL:https://streetlifeministries.org/event/rwc-meals-fellowship-2/2025-09-26/
LOCATION:RWC Meals + Fellowship\, 1300 Middlefield Road\, Redwood City\, 94063\, United States
END:VEVENT
BEGIN:VEVENT
DTSTART;TZID=America/Los_Angeles:20250924T184500
DTEND;TZID=America/Los_Angeles:20250924T200000
DTSTAMP:20260422T192817
CREATED:20250624T175118Z
LAST-MODIFIED:20250624T175118Z
UID:10001733-1758739500-1758744000@streetlifeministries.org
SUMMARY:RWC Meals & Fellowship
DESCRIPTION:
URL:https://streetlifeministries.org/event/rwc-meals-fellowship-2/2025-09-24/
LOCATION:RWC Meals + Fellowship\, 1300 Middlefield Road\, Redwood City\, 94063\, United States
END:VEVENT
BEGIN:VEVENT
DTSTART;TZID=America/Los_Angeles:20250922T184500
DTEND;TZID=America/Los_Angeles:20250922T200000
DTSTAMP:20260422T192817
CREATED:20250624T175118Z
LAST-MODIFIED:20250624T175118Z
UID:10001732-1758566700-1758571200@streetlifeministries.org
SUMMARY:RWC Meals & Fellowship
DESCRIPTION:
URL:https://streetlifeministries.org/event/rwc-meals-fellowship-2/2025-09-22/
LOCATION:RWC Meals + Fellowship\, 1300 Middlefield Road\, Redwood City\, 94063\, United States
END:VEVENT
BEGIN:VEVENT
DTSTART;TZID=America/Los_Angeles:20250919T184500
DTEND;TZID=America/Los_Angeles:20250919T200000
DTSTAMP:20260422T192817
CREATED:20250624T175118Z
LAST-MODIFIED:20250624T175118Z
UID:10001731-1758307500-1758312000@streetlifeministries.org
SUMMARY:RWC Meals & Fellowship
DESCRIPTION:
URL:https://streetlifeministries.org/event/rwc-meals-fellowship-2/2025-09-19/
LOCATION:RWC Meals + Fellowship\, 1300 Middlefield Road\, Redwood City\, 94063\, United States
END:VEVENT
BEGIN:VEVENT
DTSTART;TZID=America/Los_Angeles:20250917T184500
DTEND;TZID=America/Los_Angeles:20250917T200000
DTSTAMP:20260422T192817
CREATED:20250624T175118Z
LAST-MODIFIED:20250624T175118Z
UID:10001730-1758134700-1758139200@streetlifeministries.org
SUMMARY:RWC Meals & Fellowship
DESCRIPTION:
URL:https://streetlifeministries.org/event/rwc-meals-fellowship-2/2025-09-17/
LOCATION:RWC Meals + Fellowship\, 1300 Middlefield Road\, Redwood City\, 94063\, United States
END:VEVENT
BEGIN:VEVENT
DTSTART;TZID=America/Los_Angeles:20250915T184500
DTEND;TZID=America/Los_Angeles:20250915T200000
DTSTAMP:20260422T192817
CREATED:20250624T175118Z
LAST-MODIFIED:20250624T175118Z
UID:10001729-1757961900-1757966400@streetlifeministries.org
SUMMARY:RWC Meals & Fellowship
DESCRIPTION:
URL:https://streetlifeministries.org/event/rwc-meals-fellowship-2/2025-09-15/
LOCATION:RWC Meals + Fellowship\, 1300 Middlefield Road\, Redwood City\, 94063\, United States
END:VEVENT
BEGIN:VEVENT
DTSTART;TZID=America/Los_Angeles:20250912T184500
DTEND;TZID=America/Los_Angeles:20250912T200000
DTSTAMP:20260422T192817
CREATED:20250624T175118Z
LAST-MODIFIED:20250624T175118Z
UID:10001728-1757702700-1757707200@streetlifeministries.org
SUMMARY:RWC Meals & Fellowship
DESCRIPTION:
URL:https://streetlifeministries.org/event/rwc-meals-fellowship-2/2025-09-12/
LOCATION:RWC Meals + Fellowship\, 1300 Middlefield Road\, Redwood City\, 94063\, United States
END:VEVENT
BEGIN:VEVENT
DTSTART;TZID=America/Los_Angeles:20250910T184500
DTEND;TZID=America/Los_Angeles:20250910T200000
DTSTAMP:20260422T192817
CREATED:20250624T175118Z
LAST-MODIFIED:20250624T175118Z
UID:10001727-1757529900-1757534400@streetlifeministries.org
SUMMARY:RWC Meals & Fellowship
DESCRIPTION:
URL:https://streetlifeministries.org/event/rwc-meals-fellowship-2/2025-09-10/
LOCATION:RWC Meals + Fellowship\, 1300 Middlefield Road\, Redwood City\, 94063\, United States
END:VEVENT
BEGIN:VEVENT
DTSTART;TZID=America/Los_Angeles:20250908T184500
DTEND;TZID=America/Los_Angeles:20250908T200000
DTSTAMP:20260422T192817
CREATED:20250624T175118Z
LAST-MODIFIED:20250624T175118Z
UID:10001726-1757357100-1757361600@streetlifeministries.org
SUMMARY:RWC Meals & Fellowship
DESCRIPTION:
URL:https://streetlifeministries.org/event/rwc-meals-fellowship-2/2025-09-08/
LOCATION:RWC Meals + Fellowship\, 1300 Middlefield Road\, Redwood City\, 94063\, United States
END:VEVENT
BEGIN:VEVENT
DTSTART;TZID=America/Los_Angeles:20250905T184500
DTEND;TZID=America/Los_Angeles:20250905T200000
DTSTAMP:20260422T192817
CREATED:20250624T175118Z
LAST-MODIFIED:20250624T175118Z
UID:10001725-1757097900-1757102400@streetlifeministries.org
SUMMARY:RWC Meals & Fellowship
DESCRIPTION:
URL:https://streetlifeministries.org/event/rwc-meals-fellowship-2/2025-09-05/
LOCATION:RWC Meals + Fellowship\, 1300 Middlefield Road\, Redwood City\, 94063\, United States
END:VEVENT
BEGIN:VEVENT
DTSTART;TZID=America/Los_Angeles:20250903T184500
DTEND;TZID=America/Los_Angeles:20250903T200000
DTSTAMP:20260422T192817
CREATED:20250624T175118Z
LAST-MODIFIED:20250624T175118Z
UID:10001724-1756925100-1756929600@streetlifeministries.org
SUMMARY:RWC Meals & Fellowship
DESCRIPTION:
URL:https://streetlifeministries.org/event/rwc-meals-fellowship-2/2025-09-03/
LOCATION:RWC Meals + Fellowship\, 1300 Middlefield Road\, Redwood City\, 94063\, United States
END:VEVENT
BEGIN:VEVENT
DTSTART;TZID=America/Los_Angeles:20250901T184500
DTEND;TZID=America/Los_Angeles:20250901T200000
DTSTAMP:20260422T192817
CREATED:20250624T175118Z
LAST-MODIFIED:20250624T175118Z
UID:10001723-1756752300-1756756800@streetlifeministries.org
SUMMARY:RWC Meals & Fellowship
DESCRIPTION:
URL:https://streetlifeministries.org/event/rwc-meals-fellowship-2/2025-09-01/
LOCATION:RWC Meals + Fellowship\, 1300 Middlefield Road\, Redwood City\, 94063\, United States
END:VEVENT
BEGIN:VEVENT
DTSTART;TZID=America/Los_Angeles:20250829T184500
DTEND;TZID=America/Los_Angeles:20250829T200000
DTSTAMP:20260422T192817
CREATED:20250624T175118Z
LAST-MODIFIED:20250624T175118Z
UID:10001722-1756493100-1756497600@streetlifeministries.org
SUMMARY:RWC Meals & Fellowship
DESCRIPTION:
URL:https://streetlifeministries.org/event/rwc-meals-fellowship-2/2025-08-29/
LOCATION:RWC Meals + Fellowship\, 1300 Middlefield Road\, Redwood City\, 94063\, United States
END:VEVENT
BEGIN:VEVENT
DTSTART;TZID=America/Los_Angeles:20250827T184500
DTEND;TZID=America/Los_Angeles:20250827T200000
DTSTAMP:20260422T192817
CREATED:20250624T175118Z
LAST-MODIFIED:20250624T175118Z
UID:10001721-1756320300-1756324800@streetlifeministries.org
SUMMARY:RWC Meals & Fellowship
DESCRIPTION:
URL:https://streetlifeministries.org/event/rwc-meals-fellowship-2/2025-08-27/
LOCATION:RWC Meals + Fellowship\, 1300 Middlefield Road\, Redwood City\, 94063\, United States
END:VEVENT
BEGIN:VEVENT
DTSTART;TZID=America/Los_Angeles:20250825T184500
DTEND;TZID=America/Los_Angeles:20250825T200000
DTSTAMP:20260422T192817
CREATED:20250624T175118Z
LAST-MODIFIED:20250624T175118Z
UID:10001720-1756147500-1756152000@streetlifeministries.org
SUMMARY:RWC Meals & Fellowship
DESCRIPTION:
URL:https://streetlifeministries.org/event/rwc-meals-fellowship-2/2025-08-25/
LOCATION:RWC Meals + Fellowship\, 1300 Middlefield Road\, Redwood City\, 94063\, United States
END:VEVENT
BEGIN:VEVENT
DTSTART;TZID=America/Los_Angeles:20250822T184500
DTEND;TZID=America/Los_Angeles:20250822T200000
DTSTAMP:20260422T192817
CREATED:20250624T175118Z
LAST-MODIFIED:20250624T175118Z
UID:10001719-1755888300-1755892800@streetlifeministries.org
SUMMARY:RWC Meals & Fellowship
DESCRIPTION:
URL:https://streetlifeministries.org/event/rwc-meals-fellowship-2/2025-08-22/
LOCATION:RWC Meals + Fellowship\, 1300 Middlefield Road\, Redwood City\, 94063\, United States
END:VEVENT
BEGIN:VEVENT
DTSTART;TZID=America/Los_Angeles:20250820T184500
DTEND;TZID=America/Los_Angeles:20250820T200000
DTSTAMP:20260422T192817
CREATED:20250624T175118Z
LAST-MODIFIED:20250624T175118Z
UID:10001718-1755715500-1755720000@streetlifeministries.org
SUMMARY:RWC Meals & Fellowship
DESCRIPTION:
URL:https://streetlifeministries.org/event/rwc-meals-fellowship-2/2025-08-20/
LOCATION:RWC Meals + Fellowship\, 1300 Middlefield Road\, Redwood City\, 94063\, United States
END:VEVENT
BEGIN:VEVENT
DTSTART;TZID=America/Los_Angeles:20250818T184500
DTEND;TZID=America/Los_Angeles:20250818T200000
DTSTAMP:20260422T192817
CREATED:20250624T175118Z
LAST-MODIFIED:20250624T175118Z
UID:10001717-1755542700-1755547200@streetlifeministries.org
SUMMARY:RWC Meals & Fellowship
DESCRIPTION:
URL:https://streetlifeministries.org/event/rwc-meals-fellowship-2/2025-08-18/
LOCATION:RWC Meals + Fellowship\, 1300 Middlefield Road\, Redwood City\, 94063\, United States
END:VEVENT
BEGIN:VEVENT
DTSTART;TZID=America/Los_Angeles:20250815T184500
DTEND;TZID=America/Los_Angeles:20250815T200000
DTSTAMP:20260422T192817
CREATED:20250624T175118Z
LAST-MODIFIED:20250624T175118Z
UID:10001716-1755283500-1755288000@streetlifeministries.org
SUMMARY:RWC Meals & Fellowship
DESCRIPTION:
URL:https://streetlifeministries.org/event/rwc-meals-fellowship-2/2025-08-15/
LOCATION:RWC Meals + Fellowship\, 1300 Middlefield Road\, Redwood City\, 94063\, United States
END:VEVENT
BEGIN:VEVENT
DTSTART;TZID=America/Los_Angeles:20250813T184500
DTEND;TZID=America/Los_Angeles:20250813T200000
DTSTAMP:20260422T192817
CREATED:20250624T175118Z
LAST-MODIFIED:20250624T175118Z
UID:10001715-1755110700-1755115200@streetlifeministries.org
SUMMARY:RWC Meals & Fellowship
DESCRIPTION:
URL:https://streetlifeministries.org/event/rwc-meals-fellowship-2/2025-08-13/
LOCATION:RWC Meals + Fellowship\, 1300 Middlefield Road\, Redwood City\, 94063\, United States
END:VEVENT
BEGIN:VEVENT
DTSTART;TZID=America/Los_Angeles:20250811T184500
DTEND;TZID=America/Los_Angeles:20250811T200000
DTSTAMP:20260422T192817
CREATED:20250624T175118Z
LAST-MODIFIED:20250624T175118Z
UID:10001714-1754937900-1754942400@streetlifeministries.org
SUMMARY:RWC Meals & Fellowship
DESCRIPTION:
URL:https://streetlifeministries.org/event/rwc-meals-fellowship-2/2025-08-11/
LOCATION:RWC Meals + Fellowship\, 1300 Middlefield Road\, Redwood City\, 94063\, United States
END:VEVENT
BEGIN:VEVENT
DTSTART;TZID=America/Los_Angeles:20250808T184500
DTEND;TZID=America/Los_Angeles:20250808T200000
DTSTAMP:20260422T192817
CREATED:20250624T175118Z
LAST-MODIFIED:20250624T175118Z
UID:10001713-1754678700-1754683200@streetlifeministries.org
SUMMARY:RWC Meals & Fellowship
DESCRIPTION:
URL:https://streetlifeministries.org/event/rwc-meals-fellowship-2/2025-08-08/
LOCATION:RWC Meals + Fellowship\, 1300 Middlefield Road\, Redwood City\, 94063\, United States
END:VEVENT
BEGIN:VEVENT
DTSTART;TZID=America/Los_Angeles:20250806T184500
DTEND;TZID=America/Los_Angeles:20250806T200000
DTSTAMP:20260422T192817
CREATED:20250624T175118Z
LAST-MODIFIED:20250624T175118Z
UID:10001712-1754505900-1754510400@streetlifeministries.org
SUMMARY:RWC Meals & Fellowship
DESCRIPTION:
URL:https://streetlifeministries.org/event/rwc-meals-fellowship-2/2025-08-06/
LOCATION:RWC Meals + Fellowship\, 1300 Middlefield Road\, Redwood City\, 94063\, United States
END:VEVENT
BEGIN:VEVENT
DTSTART;TZID=America/Los_Angeles:20250804T184500
DTEND;TZID=America/Los_Angeles:20250804T200000
DTSTAMP:20260422T192817
CREATED:20250624T175118Z
LAST-MODIFIED:20250624T175118Z
UID:10001711-1754333100-1754337600@streetlifeministries.org
SUMMARY:RWC Meals & Fellowship
DESCRIPTION:
URL:https://streetlifeministries.org/event/rwc-meals-fellowship-2/2025-08-04/
LOCATION:RWC Meals + Fellowship\, 1300 Middlefield Road\, Redwood City\, 94063\, United States
END:VEVENT
BEGIN:VEVENT
DTSTART;TZID=America/Los_Angeles:20250801T184500
DTEND;TZID=America/Los_Angeles:20250801T200000
DTSTAMP:20260422T192817
CREATED:20250624T175118Z
LAST-MODIFIED:20250624T175118Z
UID:10001710-1754073900-1754078400@streetlifeministries.org
SUMMARY:RWC Meals & Fellowship
DESCRIPTION:
URL:https://streetlifeministries.org/event/rwc-meals-fellowship-2/2025-08-01/
LOCATION:RWC Meals + Fellowship\, 1300 Middlefield Road\, Redwood City\, 94063\, United States
END:VEVENT
BEGIN:VEVENT
DTSTART;TZID=America/Los_Angeles:20250730T184500
DTEND;TZID=America/Los_Angeles:20250730T200000
DTSTAMP:20260422T192817
CREATED:20250624T175118Z
LAST-MODIFIED:20250624T175118Z
UID:10001709-1753901100-1753905600@streetlifeministries.org
SUMMARY:RWC Meals & Fellowship
DESCRIPTION:
URL:https://streetlifeministries.org/event/rwc-meals-fellowship-2/2025-07-30/
LOCATION:RWC Meals + Fellowship\, 1300 Middlefield Road\, Redwood City\, 94063\, United States
END:VEVENT
END:VCALENDAR