BEGIN:VCALENDAR
VERSION:2.0
PRODID:-//Street Life Ministries - ECPv6.15.20//NONSGML v1.0//EN
CALSCALE:GREGORIAN
METHOD:PUBLISH
X-ORIGINAL-URL:https://streetlifeministries.org
X-WR-CALDESC:Events for Street Life Ministries
REFRESH-INTERVAL;VALUE=DURATION:PT1H
X-Robots-Tag:noindex
X-PUBLISHED-TTL:PT1H
BEGIN:VTIMEZONE
TZID:America/Los_Angeles
BEGIN:DAYLIGHT
TZOFFSETFROM:-0800
TZOFFSETTO:-0700
TZNAME:PDT
DTSTART:20240310T100000
END:DAYLIGHT
BEGIN:STANDARD
TZOFFSETFROM:-0700
TZOFFSETTO:-0800
TZNAME:PST
DTSTART:20241103T090000
END:STANDARD
BEGIN:DAYLIGHT
TZOFFSETFROM:-0800
TZOFFSETTO:-0700
TZNAME:PDT
DTSTART:20250309T100000
END:DAYLIGHT
BEGIN:STANDARD
TZOFFSETFROM:-0700
TZOFFSETTO:-0800
TZNAME:PST
DTSTART:20251102T090000
END:STANDARD
BEGIN:DAYLIGHT
TZOFFSETFROM:-0800
TZOFFSETTO:-0700
TZNAME:PDT
DTSTART:20260308T100000
END:DAYLIGHT
BEGIN:STANDARD
TZOFFSETFROM:-0700
TZOFFSETTO:-0800
TZNAME:PST
DTSTART:20261101T090000
END:STANDARD
END:VTIMEZONE
BEGIN:VEVENT
DTSTART;TZID=America/Los_Angeles:20251201T184500
DTEND;TZID=America/Los_Angeles:20251201T200000
DTSTAMP:20260422T162411
CREATED:20250624T175118Z
LAST-MODIFIED:20250624T175118Z
UID:10001762-1764614700-1764619200@streetlifeministries.org
SUMMARY:RWC Meals & Fellowship
DESCRIPTION:
URL:https://streetlifeministries.org/event/rwc-meals-fellowship-2/2025-12-01/
LOCATION:RWC Meals + Fellowship\, 1300 Middlefield Road\, Redwood City\, 94063\, United States
END:VEVENT
BEGIN:VEVENT
DTSTART;TZID=America/Los_Angeles:20251128T184500
DTEND;TZID=America/Los_Angeles:20251128T200000
DTSTAMP:20260422T162411
CREATED:20250624T175118Z
LAST-MODIFIED:20250624T175118Z
UID:10001761-1764355500-1764360000@streetlifeministries.org
SUMMARY:RWC Meals & Fellowship
DESCRIPTION:
URL:https://streetlifeministries.org/event/rwc-meals-fellowship-2/2025-11-28/
LOCATION:RWC Meals + Fellowship\, 1300 Middlefield Road\, Redwood City\, 94063\, United States
END:VEVENT
BEGIN:VEVENT
DTSTART;TZID=America/Los_Angeles:20251126T184500
DTEND;TZID=America/Los_Angeles:20251126T200000
DTSTAMP:20260422T162411
CREATED:20250624T175118Z
LAST-MODIFIED:20250624T175118Z
UID:10001760-1764182700-1764187200@streetlifeministries.org
SUMMARY:RWC Meals & Fellowship
DESCRIPTION:
URL:https://streetlifeministries.org/event/rwc-meals-fellowship-2/2025-11-26/
LOCATION:RWC Meals + Fellowship\, 1300 Middlefield Road\, Redwood City\, 94063\, United States
END:VEVENT
BEGIN:VEVENT
DTSTART;TZID=America/Los_Angeles:20251124T184500
DTEND;TZID=America/Los_Angeles:20251124T200000
DTSTAMP:20260422T162411
CREATED:20250624T175118Z
LAST-MODIFIED:20250624T175118Z
UID:10001759-1764009900-1764014400@streetlifeministries.org
SUMMARY:RWC Meals & Fellowship
DESCRIPTION:
URL:https://streetlifeministries.org/event/rwc-meals-fellowship-2/2025-11-24/
LOCATION:RWC Meals + Fellowship\, 1300 Middlefield Road\, Redwood City\, 94063\, United States
END:VEVENT
BEGIN:VEVENT
DTSTART;TZID=America/Los_Angeles:20251121T184500
DTEND;TZID=America/Los_Angeles:20251121T200000
DTSTAMP:20260422T162411
CREATED:20250624T175118Z
LAST-MODIFIED:20250624T175118Z
UID:10001758-1763750700-1763755200@streetlifeministries.org
SUMMARY:RWC Meals & Fellowship
DESCRIPTION:
URL:https://streetlifeministries.org/event/rwc-meals-fellowship-2/2025-11-21/
LOCATION:RWC Meals + Fellowship\, 1300 Middlefield Road\, Redwood City\, 94063\, United States
END:VEVENT
BEGIN:VEVENT
DTSTART;TZID=America/Los_Angeles:20251119T184500
DTEND;TZID=America/Los_Angeles:20251119T200000
DTSTAMP:20260422T162411
CREATED:20250624T175118Z
LAST-MODIFIED:20250624T175118Z
UID:10001757-1763577900-1763582400@streetlifeministries.org
SUMMARY:RWC Meals & Fellowship
DESCRIPTION:
URL:https://streetlifeministries.org/event/rwc-meals-fellowship-2/2025-11-19/
LOCATION:RWC Meals + Fellowship\, 1300 Middlefield Road\, Redwood City\, 94063\, United States
END:VEVENT
BEGIN:VEVENT
DTSTART;TZID=America/Los_Angeles:20251117T184500
DTEND;TZID=America/Los_Angeles:20251117T200000
DTSTAMP:20260422T162411
CREATED:20250624T175118Z
LAST-MODIFIED:20250624T175118Z
UID:10001756-1763405100-1763409600@streetlifeministries.org
SUMMARY:RWC Meals & Fellowship
DESCRIPTION:
URL:https://streetlifeministries.org/event/rwc-meals-fellowship-2/2025-11-17/
LOCATION:RWC Meals + Fellowship\, 1300 Middlefield Road\, Redwood City\, 94063\, United States
END:VEVENT
BEGIN:VEVENT
DTSTART;TZID=America/Los_Angeles:20251114T184500
DTEND;TZID=America/Los_Angeles:20251114T200000
DTSTAMP:20260422T162411
CREATED:20250624T175118Z
LAST-MODIFIED:20250624T175118Z
UID:10001755-1763145900-1763150400@streetlifeministries.org
SUMMARY:RWC Meals & Fellowship
DESCRIPTION:
URL:https://streetlifeministries.org/event/rwc-meals-fellowship-2/2025-11-14/
LOCATION:RWC Meals + Fellowship\, 1300 Middlefield Road\, Redwood City\, 94063\, United States
END:VEVENT
BEGIN:VEVENT
DTSTART;TZID=America/Los_Angeles:20251112T184500
DTEND;TZID=America/Los_Angeles:20251112T200000
DTSTAMP:20260422T162411
CREATED:20250624T175118Z
LAST-MODIFIED:20250624T175118Z
UID:10001754-1762973100-1762977600@streetlifeministries.org
SUMMARY:RWC Meals & Fellowship
DESCRIPTION:
URL:https://streetlifeministries.org/event/rwc-meals-fellowship-2/2025-11-12/
LOCATION:RWC Meals + Fellowship\, 1300 Middlefield Road\, Redwood City\, 94063\, United States
END:VEVENT
BEGIN:VEVENT
DTSTART;TZID=America/Los_Angeles:20251110T184500
DTEND;TZID=America/Los_Angeles:20251110T200000
DTSTAMP:20260422T162411
CREATED:20250624T175118Z
LAST-MODIFIED:20250624T175118Z
UID:10001753-1762800300-1762804800@streetlifeministries.org
SUMMARY:RWC Meals & Fellowship
DESCRIPTION:
URL:https://streetlifeministries.org/event/rwc-meals-fellowship-2/2025-11-10/
LOCATION:RWC Meals + Fellowship\, 1300 Middlefield Road\, Redwood City\, 94063\, United States
END:VEVENT
BEGIN:VEVENT
DTSTART;TZID=America/Los_Angeles:20251107T184500
DTEND;TZID=America/Los_Angeles:20251107T200000
DTSTAMP:20260422T162411
CREATED:20250624T175118Z
LAST-MODIFIED:20250624T175118Z
UID:10001752-1762541100-1762545600@streetlifeministries.org
SUMMARY:RWC Meals & Fellowship
DESCRIPTION:
URL:https://streetlifeministries.org/event/rwc-meals-fellowship-2/2025-11-07/
LOCATION:RWC Meals + Fellowship\, 1300 Middlefield Road\, Redwood City\, 94063\, United States
END:VEVENT
BEGIN:VEVENT
DTSTART;TZID=America/Los_Angeles:20251105T184500
DTEND;TZID=America/Los_Angeles:20251105T200000
DTSTAMP:20260422T162411
CREATED:20250624T175118Z
LAST-MODIFIED:20250624T175118Z
UID:10001751-1762368300-1762372800@streetlifeministries.org
SUMMARY:RWC Meals & Fellowship
DESCRIPTION:
URL:https://streetlifeministries.org/event/rwc-meals-fellowship-2/2025-11-05/
LOCATION:RWC Meals + Fellowship\, 1300 Middlefield Road\, Redwood City\, 94063\, United States
END:VEVENT
BEGIN:VEVENT
DTSTART;TZID=America/Los_Angeles:20251103T184500
DTEND;TZID=America/Los_Angeles:20251103T200000
DTSTAMP:20260422T162411
CREATED:20250624T175118Z
LAST-MODIFIED:20250624T175118Z
UID:10001750-1762195500-1762200000@streetlifeministries.org
SUMMARY:RWC Meals & Fellowship
DESCRIPTION:
URL:https://streetlifeministries.org/event/rwc-meals-fellowship-2/2025-11-03/
LOCATION:RWC Meals + Fellowship\, 1300 Middlefield Road\, Redwood City\, 94063\, United States
END:VEVENT
BEGIN:VEVENT
DTSTART;TZID=America/Los_Angeles:20251031T184500
DTEND;TZID=America/Los_Angeles:20251031T200000
DTSTAMP:20260422T162411
CREATED:20250624T175118Z
LAST-MODIFIED:20250624T175118Z
UID:10001749-1761936300-1761940800@streetlifeministries.org
SUMMARY:RWC Meals & Fellowship
DESCRIPTION:
URL:https://streetlifeministries.org/event/rwc-meals-fellowship-2/2025-10-31/
LOCATION:RWC Meals + Fellowship\, 1300 Middlefield Road\, Redwood City\, 94063\, United States
END:VEVENT
BEGIN:VEVENT
DTSTART;TZID=America/Los_Angeles:20251029T184500
DTEND;TZID=America/Los_Angeles:20251029T200000
DTSTAMP:20260422T162411
CREATED:20250624T175118Z
LAST-MODIFIED:20250624T175118Z
UID:10001748-1761763500-1761768000@streetlifeministries.org
SUMMARY:RWC Meals & Fellowship
DESCRIPTION:
URL:https://streetlifeministries.org/event/rwc-meals-fellowship-2/2025-10-29/
LOCATION:RWC Meals + Fellowship\, 1300 Middlefield Road\, Redwood City\, 94063\, United States
END:VEVENT
BEGIN:VEVENT
DTSTART;TZID=America/Los_Angeles:20251027T184500
DTEND;TZID=America/Los_Angeles:20251027T200000
DTSTAMP:20260422T162411
CREATED:20250624T175118Z
LAST-MODIFIED:20250624T175118Z
UID:10001747-1761590700-1761595200@streetlifeministries.org
SUMMARY:RWC Meals & Fellowship
DESCRIPTION:
URL:https://streetlifeministries.org/event/rwc-meals-fellowship-2/2025-10-27/
LOCATION:RWC Meals + Fellowship\, 1300 Middlefield Road\, Redwood City\, 94063\, United States
END:VEVENT
BEGIN:VEVENT
DTSTART;TZID=America/Los_Angeles:20251024T184500
DTEND;TZID=America/Los_Angeles:20251024T200000
DTSTAMP:20260422T162411
CREATED:20250624T175118Z
LAST-MODIFIED:20250624T175118Z
UID:10001746-1761331500-1761336000@streetlifeministries.org
SUMMARY:RWC Meals & Fellowship
DESCRIPTION:
URL:https://streetlifeministries.org/event/rwc-meals-fellowship-2/2025-10-24/
LOCATION:RWC Meals + Fellowship\, 1300 Middlefield Road\, Redwood City\, 94063\, United States
END:VEVENT
BEGIN:VEVENT
DTSTART;TZID=America/Los_Angeles:20251022T184500
DTEND;TZID=America/Los_Angeles:20251022T200000
DTSTAMP:20260422T162411
CREATED:20250624T175118Z
LAST-MODIFIED:20250624T175118Z
UID:10001745-1761158700-1761163200@streetlifeministries.org
SUMMARY:RWC Meals & Fellowship
DESCRIPTION:
URL:https://streetlifeministries.org/event/rwc-meals-fellowship-2/2025-10-22/
LOCATION:RWC Meals + Fellowship\, 1300 Middlefield Road\, Redwood City\, 94063\, United States
END:VEVENT
BEGIN:VEVENT
DTSTART;TZID=America/Los_Angeles:20251020T184500
DTEND;TZID=America/Los_Angeles:20251020T200000
DTSTAMP:20260422T162411
CREATED:20250624T175118Z
LAST-MODIFIED:20250624T175118Z
UID:10001744-1760985900-1760990400@streetlifeministries.org
SUMMARY:RWC Meals & Fellowship
DESCRIPTION:
URL:https://streetlifeministries.org/event/rwc-meals-fellowship-2/2025-10-20/
LOCATION:RWC Meals + Fellowship\, 1300 Middlefield Road\, Redwood City\, 94063\, United States
END:VEVENT
BEGIN:VEVENT
DTSTART;TZID=America/Los_Angeles:20251017T184500
DTEND;TZID=America/Los_Angeles:20251017T200000
DTSTAMP:20260422T162411
CREATED:20250624T175118Z
LAST-MODIFIED:20250624T175118Z
UID:10001743-1760726700-1760731200@streetlifeministries.org
SUMMARY:RWC Meals & Fellowship
DESCRIPTION:
URL:https://streetlifeministries.org/event/rwc-meals-fellowship-2/2025-10-17/
LOCATION:RWC Meals + Fellowship\, 1300 Middlefield Road\, Redwood City\, 94063\, United States
END:VEVENT
BEGIN:VEVENT
DTSTART;TZID=America/Los_Angeles:20251015T184500
DTEND;TZID=America/Los_Angeles:20251015T200000
DTSTAMP:20260422T162411
CREATED:20250624T175118Z
LAST-MODIFIED:20250624T175118Z
UID:10001742-1760553900-1760558400@streetlifeministries.org
SUMMARY:RWC Meals & Fellowship
DESCRIPTION:
URL:https://streetlifeministries.org/event/rwc-meals-fellowship-2/2025-10-15/
LOCATION:RWC Meals + Fellowship\, 1300 Middlefield Road\, Redwood City\, 94063\, United States
END:VEVENT
BEGIN:VEVENT
DTSTART;TZID=America/Los_Angeles:20251013T184500
DTEND;TZID=America/Los_Angeles:20251013T200000
DTSTAMP:20260422T162411
CREATED:20250624T175118Z
LAST-MODIFIED:20250624T175118Z
UID:10001741-1760381100-1760385600@streetlifeministries.org
SUMMARY:RWC Meals & Fellowship
DESCRIPTION:
URL:https://streetlifeministries.org/event/rwc-meals-fellowship-2/2025-10-13/
LOCATION:RWC Meals + Fellowship\, 1300 Middlefield Road\, Redwood City\, 94063\, United States
END:VEVENT
BEGIN:VEVENT
DTSTART;TZID=America/Los_Angeles:20251010T184500
DTEND;TZID=America/Los_Angeles:20251010T200000
DTSTAMP:20260422T162411
CREATED:20250624T175118Z
LAST-MODIFIED:20250624T175118Z
UID:10001740-1760121900-1760126400@streetlifeministries.org
SUMMARY:RWC Meals & Fellowship
DESCRIPTION:
URL:https://streetlifeministries.org/event/rwc-meals-fellowship-2/2025-10-10/
LOCATION:RWC Meals + Fellowship\, 1300 Middlefield Road\, Redwood City\, 94063\, United States
END:VEVENT
BEGIN:VEVENT
DTSTART;TZID=America/Los_Angeles:20251008T184500
DTEND;TZID=America/Los_Angeles:20251008T200000
DTSTAMP:20260422T162411
CREATED:20250624T175118Z
LAST-MODIFIED:20250624T175118Z
UID:10001739-1759949100-1759953600@streetlifeministries.org
SUMMARY:RWC Meals & Fellowship
DESCRIPTION:
URL:https://streetlifeministries.org/event/rwc-meals-fellowship-2/2025-10-08/
LOCATION:RWC Meals + Fellowship\, 1300 Middlefield Road\, Redwood City\, 94063\, United States
END:VEVENT
BEGIN:VEVENT
DTSTART;TZID=America/Los_Angeles:20251006T184500
DTEND;TZID=America/Los_Angeles:20251006T200000
DTSTAMP:20260422T162411
CREATED:20250624T175118Z
LAST-MODIFIED:20250624T175118Z
UID:10001738-1759776300-1759780800@streetlifeministries.org
SUMMARY:RWC Meals & Fellowship
DESCRIPTION:
URL:https://streetlifeministries.org/event/rwc-meals-fellowship-2/2025-10-06/
LOCATION:RWC Meals + Fellowship\, 1300 Middlefield Road\, Redwood City\, 94063\, United States
END:VEVENT
BEGIN:VEVENT
DTSTART;TZID=America/Los_Angeles:20251003T184500
DTEND;TZID=America/Los_Angeles:20251003T200000
DTSTAMP:20260422T162411
CREATED:20250624T175118Z
LAST-MODIFIED:20250624T175118Z
UID:10001737-1759517100-1759521600@streetlifeministries.org
SUMMARY:RWC Meals & Fellowship
DESCRIPTION:
URL:https://streetlifeministries.org/event/rwc-meals-fellowship-2/2025-10-03/
LOCATION:RWC Meals + Fellowship\, 1300 Middlefield Road\, Redwood City\, 94063\, United States
END:VEVENT
BEGIN:VEVENT
DTSTART;TZID=America/Los_Angeles:20251001T184500
DTEND;TZID=America/Los_Angeles:20251001T200000
DTSTAMP:20260422T162411
CREATED:20250624T175118Z
LAST-MODIFIED:20250624T175118Z
UID:10001736-1759344300-1759348800@streetlifeministries.org
SUMMARY:RWC Meals & Fellowship
DESCRIPTION:
URL:https://streetlifeministries.org/event/rwc-meals-fellowship-2/2025-10-01/
LOCATION:RWC Meals + Fellowship\, 1300 Middlefield Road\, Redwood City\, 94063\, United States
END:VEVENT
BEGIN:VEVENT
DTSTART;TZID=America/Los_Angeles:20250929T184500
DTEND;TZID=America/Los_Angeles:20250929T200000
DTSTAMP:20260422T162411
CREATED:20250624T175118Z
LAST-MODIFIED:20250624T175118Z
UID:10001735-1759171500-1759176000@streetlifeministries.org
SUMMARY:RWC Meals & Fellowship
DESCRIPTION:
URL:https://streetlifeministries.org/event/rwc-meals-fellowship-2/2025-09-29/
LOCATION:RWC Meals + Fellowship\, 1300 Middlefield Road\, Redwood City\, 94063\, United States
END:VEVENT
BEGIN:VEVENT
DTSTART;TZID=America/Los_Angeles:20250926T184500
DTEND;TZID=America/Los_Angeles:20250926T200000
DTSTAMP:20260422T162411
CREATED:20250624T175118Z
LAST-MODIFIED:20250624T175118Z
UID:10001734-1758912300-1758916800@streetlifeministries.org
SUMMARY:RWC Meals & Fellowship
DESCRIPTION:
URL:https://streetlifeministries.org/event/rwc-meals-fellowship-2/2025-09-26/
LOCATION:RWC Meals + Fellowship\, 1300 Middlefield Road\, Redwood City\, 94063\, United States
END:VEVENT
BEGIN:VEVENT
DTSTART;TZID=America/Los_Angeles:20250924T184500
DTEND;TZID=America/Los_Angeles:20250924T200000
DTSTAMP:20260422T162411
CREATED:20250624T175118Z
LAST-MODIFIED:20250624T175118Z
UID:10001733-1758739500-1758744000@streetlifeministries.org
SUMMARY:RWC Meals & Fellowship
DESCRIPTION:
URL:https://streetlifeministries.org/event/rwc-meals-fellowship-2/2025-09-24/
LOCATION:RWC Meals + Fellowship\, 1300 Middlefield Road\, Redwood City\, 94063\, United States
END:VEVENT
END:VCALENDAR