BEGIN:VCALENDAR
VERSION:2.0
PRODID:-//Street Life Ministries - ECPv6.15.20//NONSGML v1.0//EN
CALSCALE:GREGORIAN
METHOD:PUBLISH
X-WR-CALNAME:Street Life Ministries
X-ORIGINAL-URL:https://streetlifeministries.org
X-WR-CALDESC:Events for Street Life Ministries
REFRESH-INTERVAL;VALUE=DURATION:PT1H
X-Robots-Tag:noindex
X-PUBLISHED-TTL:PT1H
BEGIN:VTIMEZONE
TZID:America/Los_Angeles
BEGIN:DAYLIGHT
TZOFFSETFROM:-0800
TZOFFSETTO:-0700
TZNAME:PDT
DTSTART:20200308T100000
END:DAYLIGHT
BEGIN:STANDARD
TZOFFSETFROM:-0700
TZOFFSETTO:-0800
TZNAME:PST
DTSTART:20201101T090000
END:STANDARD
BEGIN:DAYLIGHT
TZOFFSETFROM:-0800
TZOFFSETTO:-0700
TZNAME:PDT
DTSTART:20210314T100000
END:DAYLIGHT
BEGIN:STANDARD
TZOFFSETFROM:-0700
TZOFFSETTO:-0800
TZNAME:PST
DTSTART:20211107T090000
END:STANDARD
BEGIN:DAYLIGHT
TZOFFSETFROM:-0800
TZOFFSETTO:-0700
TZNAME:PDT
DTSTART:20220313T100000
END:DAYLIGHT
BEGIN:STANDARD
TZOFFSETFROM:-0700
TZOFFSETTO:-0800
TZNAME:PST
DTSTART:20221106T090000
END:STANDARD
END:VTIMEZONE
BEGIN:VEVENT
DTSTART;TZID=America/Los_Angeles:20211112T184500
DTEND;TZID=America/Los_Angeles:20211112T200000
DTSTAMP:20260420T141928
CREATED:20210823T072249Z
LAST-MODIFIED:20230209T204419Z
UID:10000585-1636742700-1636747200@streetlifeministries.org
SUMMARY:RWC Meal + Fellowship
DESCRIPTION:Street Life Ministries is a community-based non-profit that serves the homeless and at-risk population of the Mid-Peninsula. We build environments and relationships where community volunteers can provide food\, clothing\, housing referral\, addiction recovery\, and other personal support.
URL:https://streetlifeministries.org/event/rwc-meal-fellowship/2021-11-12/
LOCATION:RWC Meals + Fellowship\, 1300 Middlefield Road\, Redwood City\, 94063\, United States
END:VEVENT
BEGIN:VEVENT
DTSTART;TZID=America/Los_Angeles:20211110T184500
DTEND;TZID=America/Los_Angeles:20211110T200000
DTSTAMP:20260420T141928
CREATED:20210823T072249Z
LAST-MODIFIED:20230209T204419Z
UID:10000584-1636569900-1636574400@streetlifeministries.org
SUMMARY:RWC Meal + Fellowship
DESCRIPTION:Street Life Ministries is a community-based non-profit that serves the homeless and at-risk population of the Mid-Peninsula. We build environments and relationships where community volunteers can provide food\, clothing\, housing referral\, addiction recovery\, and other personal support.
URL:https://streetlifeministries.org/event/rwc-meal-fellowship/2021-11-10/
LOCATION:RWC Meals + Fellowship\, 1300 Middlefield Road\, Redwood City\, 94063\, United States
END:VEVENT
BEGIN:VEVENT
DTSTART;TZID=America/Los_Angeles:20211108T184500
DTEND;TZID=America/Los_Angeles:20211108T200000
DTSTAMP:20260420T141928
CREATED:20210823T072249Z
LAST-MODIFIED:20230209T204419Z
UID:10000583-1636397100-1636401600@streetlifeministries.org
SUMMARY:RWC Meal + Fellowship
DESCRIPTION:Street Life Ministries is a community-based non-profit that serves the homeless and at-risk population of the Mid-Peninsula. We build environments and relationships where community volunteers can provide food\, clothing\, housing referral\, addiction recovery\, and other personal support.
URL:https://streetlifeministries.org/event/rwc-meal-fellowship/2021-11-08/
LOCATION:RWC Meals + Fellowship\, 1300 Middlefield Road\, Redwood City\, 94063\, United States
END:VEVENT
BEGIN:VEVENT
DTSTART;TZID=America/Los_Angeles:20211105T184500
DTEND;TZID=America/Los_Angeles:20211105T200000
DTSTAMP:20260420T141928
CREATED:20210823T072249Z
LAST-MODIFIED:20230209T204419Z
UID:10000582-1636137900-1636142400@streetlifeministries.org
SUMMARY:RWC Meal + Fellowship
DESCRIPTION:Street Life Ministries is a community-based non-profit that serves the homeless and at-risk population of the Mid-Peninsula. We build environments and relationships where community volunteers can provide food\, clothing\, housing referral\, addiction recovery\, and other personal support.
URL:https://streetlifeministries.org/event/rwc-meal-fellowship/2021-11-05/
LOCATION:RWC Meals + Fellowship\, 1300 Middlefield Road\, Redwood City\, 94063\, United States
END:VEVENT
BEGIN:VEVENT
DTSTART;TZID=America/Los_Angeles:20211103T184500
DTEND;TZID=America/Los_Angeles:20211103T200000
DTSTAMP:20260420T141928
CREATED:20210823T072249Z
LAST-MODIFIED:20230209T204419Z
UID:10000581-1635965100-1635969600@streetlifeministries.org
SUMMARY:RWC Meal + Fellowship
DESCRIPTION:Street Life Ministries is a community-based non-profit that serves the homeless and at-risk population of the Mid-Peninsula. We build environments and relationships where community volunteers can provide food\, clothing\, housing referral\, addiction recovery\, and other personal support.
URL:https://streetlifeministries.org/event/rwc-meal-fellowship/2021-11-03/
LOCATION:RWC Meals + Fellowship\, 1300 Middlefield Road\, Redwood City\, 94063\, United States
END:VEVENT
BEGIN:VEVENT
DTSTART;TZID=America/Los_Angeles:20211101T184500
DTEND;TZID=America/Los_Angeles:20211101T200000
DTSTAMP:20260420T141928
CREATED:20210823T072249Z
LAST-MODIFIED:20230209T204419Z
UID:10000580-1635792300-1635796800@streetlifeministries.org
SUMMARY:RWC Meal + Fellowship
DESCRIPTION:Street Life Ministries is a community-based non-profit that serves the homeless and at-risk population of the Mid-Peninsula. We build environments and relationships where community volunteers can provide food\, clothing\, housing referral\, addiction recovery\, and other personal support.
URL:https://streetlifeministries.org/event/rwc-meal-fellowship/2021-11-01/
LOCATION:RWC Meals + Fellowship\, 1300 Middlefield Road\, Redwood City\, 94063\, United States
END:VEVENT
BEGIN:VEVENT
DTSTART;TZID=America/Los_Angeles:20211029T184500
DTEND;TZID=America/Los_Angeles:20211029T200000
DTSTAMP:20260420T141928
CREATED:20210823T072249Z
LAST-MODIFIED:20230209T204419Z
UID:10000579-1635533100-1635537600@streetlifeministries.org
SUMMARY:RWC Meal + Fellowship
DESCRIPTION:Street Life Ministries is a community-based non-profit that serves the homeless and at-risk population of the Mid-Peninsula. We build environments and relationships where community volunteers can provide food\, clothing\, housing referral\, addiction recovery\, and other personal support.
URL:https://streetlifeministries.org/event/rwc-meal-fellowship/2021-10-29/
LOCATION:RWC Meals + Fellowship\, 1300 Middlefield Road\, Redwood City\, 94063\, United States
END:VEVENT
BEGIN:VEVENT
DTSTART;TZID=America/Los_Angeles:20211027T184500
DTEND;TZID=America/Los_Angeles:20211027T200000
DTSTAMP:20260420T141928
CREATED:20210823T072249Z
LAST-MODIFIED:20230209T204419Z
UID:10000578-1635360300-1635364800@streetlifeministries.org
SUMMARY:RWC Meal + Fellowship
DESCRIPTION:Street Life Ministries is a community-based non-profit that serves the homeless and at-risk population of the Mid-Peninsula. We build environments and relationships where community volunteers can provide food\, clothing\, housing referral\, addiction recovery\, and other personal support.
URL:https://streetlifeministries.org/event/rwc-meal-fellowship/2021-10-27/
LOCATION:RWC Meals + Fellowship\, 1300 Middlefield Road\, Redwood City\, 94063\, United States
END:VEVENT
BEGIN:VEVENT
DTSTART;TZID=America/Los_Angeles:20211025T184500
DTEND;TZID=America/Los_Angeles:20211025T200000
DTSTAMP:20260420T141928
CREATED:20210823T072249Z
LAST-MODIFIED:20230209T204419Z
UID:10000577-1635187500-1635192000@streetlifeministries.org
SUMMARY:RWC Meal + Fellowship
DESCRIPTION:Street Life Ministries is a community-based non-profit that serves the homeless and at-risk population of the Mid-Peninsula. We build environments and relationships where community volunteers can provide food\, clothing\, housing referral\, addiction recovery\, and other personal support.
URL:https://streetlifeministries.org/event/rwc-meal-fellowship/2021-10-25/
LOCATION:RWC Meals + Fellowship\, 1300 Middlefield Road\, Redwood City\, 94063\, United States
END:VEVENT
BEGIN:VEVENT
DTSTART;TZID=America/Los_Angeles:20211022T184500
DTEND;TZID=America/Los_Angeles:20211022T200000
DTSTAMP:20260420T141928
CREATED:20210823T072249Z
LAST-MODIFIED:20230209T204419Z
UID:10000576-1634928300-1634932800@streetlifeministries.org
SUMMARY:RWC Meal + Fellowship
DESCRIPTION:Street Life Ministries is a community-based non-profit that serves the homeless and at-risk population of the Mid-Peninsula. We build environments and relationships where community volunteers can provide food\, clothing\, housing referral\, addiction recovery\, and other personal support.
URL:https://streetlifeministries.org/event/rwc-meal-fellowship/2021-10-22/
LOCATION:RWC Meals + Fellowship\, 1300 Middlefield Road\, Redwood City\, 94063\, United States
END:VEVENT
BEGIN:VEVENT
DTSTART;TZID=America/Los_Angeles:20211020T184500
DTEND;TZID=America/Los_Angeles:20211020T200000
DTSTAMP:20260420T141928
CREATED:20210823T072249Z
LAST-MODIFIED:20230209T204419Z
UID:10000575-1634755500-1634760000@streetlifeministries.org
SUMMARY:RWC Meal + Fellowship
DESCRIPTION:Street Life Ministries is a community-based non-profit that serves the homeless and at-risk population of the Mid-Peninsula. We build environments and relationships where community volunteers can provide food\, clothing\, housing referral\, addiction recovery\, and other personal support.
URL:https://streetlifeministries.org/event/rwc-meal-fellowship/2021-10-20/
LOCATION:RWC Meals + Fellowship\, 1300 Middlefield Road\, Redwood City\, 94063\, United States
END:VEVENT
BEGIN:VEVENT
DTSTART;TZID=America/Los_Angeles:20211018T184500
DTEND;TZID=America/Los_Angeles:20211018T200000
DTSTAMP:20260420T141928
CREATED:20210823T072249Z
LAST-MODIFIED:20230209T204419Z
UID:10000574-1634582700-1634587200@streetlifeministries.org
SUMMARY:RWC Meal + Fellowship
DESCRIPTION:Street Life Ministries is a community-based non-profit that serves the homeless and at-risk population of the Mid-Peninsula. We build environments and relationships where community volunteers can provide food\, clothing\, housing referral\, addiction recovery\, and other personal support.
URL:https://streetlifeministries.org/event/rwc-meal-fellowship/2021-10-18/
LOCATION:RWC Meals + Fellowship\, 1300 Middlefield Road\, Redwood City\, 94063\, United States
END:VEVENT
BEGIN:VEVENT
DTSTART;TZID=America/Los_Angeles:20211015T184500
DTEND;TZID=America/Los_Angeles:20211015T200000
DTSTAMP:20260420T141928
CREATED:20210823T072249Z
LAST-MODIFIED:20230209T204419Z
UID:10000573-1634323500-1634328000@streetlifeministries.org
SUMMARY:RWC Meal + Fellowship
DESCRIPTION:Street Life Ministries is a community-based non-profit that serves the homeless and at-risk population of the Mid-Peninsula. We build environments and relationships where community volunteers can provide food\, clothing\, housing referral\, addiction recovery\, and other personal support.
URL:https://streetlifeministries.org/event/rwc-meal-fellowship/2021-10-15/
LOCATION:RWC Meals + Fellowship\, 1300 Middlefield Road\, Redwood City\, 94063\, United States
END:VEVENT
BEGIN:VEVENT
DTSTART;TZID=America/Los_Angeles:20211013T184500
DTEND;TZID=America/Los_Angeles:20211013T200000
DTSTAMP:20260420T141928
CREATED:20210823T072249Z
LAST-MODIFIED:20230209T204419Z
UID:10000572-1634150700-1634155200@streetlifeministries.org
SUMMARY:RWC Meal + Fellowship
DESCRIPTION:Street Life Ministries is a community-based non-profit that serves the homeless and at-risk population of the Mid-Peninsula. We build environments and relationships where community volunteers can provide food\, clothing\, housing referral\, addiction recovery\, and other personal support.
URL:https://streetlifeministries.org/event/rwc-meal-fellowship/2021-10-13/
LOCATION:RWC Meals + Fellowship\, 1300 Middlefield Road\, Redwood City\, 94063\, United States
END:VEVENT
BEGIN:VEVENT
DTSTART;TZID=America/Los_Angeles:20211011T184500
DTEND;TZID=America/Los_Angeles:20211011T200000
DTSTAMP:20260420T141928
CREATED:20210823T072249Z
LAST-MODIFIED:20230209T204419Z
UID:10000571-1633977900-1633982400@streetlifeministries.org
SUMMARY:RWC Meal + Fellowship
DESCRIPTION:Street Life Ministries is a community-based non-profit that serves the homeless and at-risk population of the Mid-Peninsula. We build environments and relationships where community volunteers can provide food\, clothing\, housing referral\, addiction recovery\, and other personal support.
URL:https://streetlifeministries.org/event/rwc-meal-fellowship/2021-10-11/
LOCATION:RWC Meals + Fellowship\, 1300 Middlefield Road\, Redwood City\, 94063\, United States
END:VEVENT
BEGIN:VEVENT
DTSTART;TZID=America/Los_Angeles:20211008T184500
DTEND;TZID=America/Los_Angeles:20211008T200000
DTSTAMP:20260420T141928
CREATED:20210823T072249Z
LAST-MODIFIED:20230209T204419Z
UID:10000570-1633718700-1633723200@streetlifeministries.org
SUMMARY:RWC Meal + Fellowship
DESCRIPTION:Street Life Ministries is a community-based non-profit that serves the homeless and at-risk population of the Mid-Peninsula. We build environments and relationships where community volunteers can provide food\, clothing\, housing referral\, addiction recovery\, and other personal support.
URL:https://streetlifeministries.org/event/rwc-meal-fellowship/2021-10-08/
LOCATION:RWC Meals + Fellowship\, 1300 Middlefield Road\, Redwood City\, 94063\, United States
END:VEVENT
BEGIN:VEVENT
DTSTART;TZID=America/Los_Angeles:20211006T184500
DTEND;TZID=America/Los_Angeles:20211006T200000
DTSTAMP:20260420T141928
CREATED:20210823T072249Z
LAST-MODIFIED:20230209T204419Z
UID:10000569-1633545900-1633550400@streetlifeministries.org
SUMMARY:RWC Meal + Fellowship
DESCRIPTION:Street Life Ministries is a community-based non-profit that serves the homeless and at-risk population of the Mid-Peninsula. We build environments and relationships where community volunteers can provide food\, clothing\, housing referral\, addiction recovery\, and other personal support.
URL:https://streetlifeministries.org/event/rwc-meal-fellowship/2021-10-06/
LOCATION:RWC Meals + Fellowship\, 1300 Middlefield Road\, Redwood City\, 94063\, United States
END:VEVENT
BEGIN:VEVENT
DTSTART;TZID=America/Los_Angeles:20211004T184500
DTEND;TZID=America/Los_Angeles:20211004T200000
DTSTAMP:20260420T141928
CREATED:20210823T072249Z
LAST-MODIFIED:20230209T204419Z
UID:10000568-1633373100-1633377600@streetlifeministries.org
SUMMARY:RWC Meal + Fellowship
DESCRIPTION:Street Life Ministries is a community-based non-profit that serves the homeless and at-risk population of the Mid-Peninsula. We build environments and relationships where community volunteers can provide food\, clothing\, housing referral\, addiction recovery\, and other personal support.
URL:https://streetlifeministries.org/event/rwc-meal-fellowship/2021-10-04/
LOCATION:RWC Meals + Fellowship\, 1300 Middlefield Road\, Redwood City\, 94063\, United States
END:VEVENT
BEGIN:VEVENT
DTSTART;TZID=America/Los_Angeles:20211001T184500
DTEND;TZID=America/Los_Angeles:20211001T200000
DTSTAMP:20260420T141928
CREATED:20210823T072249Z
LAST-MODIFIED:20230209T204419Z
UID:10000567-1633113900-1633118400@streetlifeministries.org
SUMMARY:RWC Meal + Fellowship
DESCRIPTION:Street Life Ministries is a community-based non-profit that serves the homeless and at-risk population of the Mid-Peninsula. We build environments and relationships where community volunteers can provide food\, clothing\, housing referral\, addiction recovery\, and other personal support.
URL:https://streetlifeministries.org/event/rwc-meal-fellowship/2021-10-01/
LOCATION:RWC Meals + Fellowship\, 1300 Middlefield Road\, Redwood City\, 94063\, United States
END:VEVENT
BEGIN:VEVENT
DTSTART;TZID=America/Los_Angeles:20210929T184500
DTEND;TZID=America/Los_Angeles:20210929T200000
DTSTAMP:20260420T141928
CREATED:20210823T072249Z
LAST-MODIFIED:20230209T204419Z
UID:10000566-1632941100-1632945600@streetlifeministries.org
SUMMARY:RWC Meal + Fellowship
DESCRIPTION:Street Life Ministries is a community-based non-profit that serves the homeless and at-risk population of the Mid-Peninsula. We build environments and relationships where community volunteers can provide food\, clothing\, housing referral\, addiction recovery\, and other personal support.
URL:https://streetlifeministries.org/event/rwc-meal-fellowship/2021-09-29/
LOCATION:RWC Meals + Fellowship\, 1300 Middlefield Road\, Redwood City\, 94063\, United States
END:VEVENT
BEGIN:VEVENT
DTSTART;TZID=America/Los_Angeles:20210927T184500
DTEND;TZID=America/Los_Angeles:20210927T200000
DTSTAMP:20260420T141928
CREATED:20210823T072249Z
LAST-MODIFIED:20230209T204419Z
UID:10000565-1632768300-1632772800@streetlifeministries.org
SUMMARY:RWC Meal + Fellowship
DESCRIPTION:Street Life Ministries is a community-based non-profit that serves the homeless and at-risk population of the Mid-Peninsula. We build environments and relationships where community volunteers can provide food\, clothing\, housing referral\, addiction recovery\, and other personal support.
URL:https://streetlifeministries.org/event/rwc-meal-fellowship/2021-09-27/
LOCATION:RWC Meals + Fellowship\, 1300 Middlefield Road\, Redwood City\, 94063\, United States
END:VEVENT
BEGIN:VEVENT
DTSTART;TZID=America/Los_Angeles:20210924T184500
DTEND;TZID=America/Los_Angeles:20210924T200000
DTSTAMP:20260420T141928
CREATED:20210823T072249Z
LAST-MODIFIED:20230209T204419Z
UID:10000564-1632509100-1632513600@streetlifeministries.org
SUMMARY:RWC Meal + Fellowship
DESCRIPTION:Street Life Ministries is a community-based non-profit that serves the homeless and at-risk population of the Mid-Peninsula. We build environments and relationships where community volunteers can provide food\, clothing\, housing referral\, addiction recovery\, and other personal support.
URL:https://streetlifeministries.org/event/rwc-meal-fellowship/2021-09-24/
LOCATION:RWC Meals + Fellowship\, 1300 Middlefield Road\, Redwood City\, 94063\, United States
END:VEVENT
BEGIN:VEVENT
DTSTART;TZID=America/Los_Angeles:20210922T184500
DTEND;TZID=America/Los_Angeles:20210922T200000
DTSTAMP:20260420T141928
CREATED:20210823T072249Z
LAST-MODIFIED:20230209T204419Z
UID:10000563-1632336300-1632340800@streetlifeministries.org
SUMMARY:RWC Meal + Fellowship
DESCRIPTION:Street Life Ministries is a community-based non-profit that serves the homeless and at-risk population of the Mid-Peninsula. We build environments and relationships where community volunteers can provide food\, clothing\, housing referral\, addiction recovery\, and other personal support.
URL:https://streetlifeministries.org/event/rwc-meal-fellowship/2021-09-22/
LOCATION:RWC Meals + Fellowship\, 1300 Middlefield Road\, Redwood City\, 94063\, United States
END:VEVENT
BEGIN:VEVENT
DTSTART;TZID=America/Los_Angeles:20210920T184500
DTEND;TZID=America/Los_Angeles:20210920T200000
DTSTAMP:20260420T141928
CREATED:20210823T072249Z
LAST-MODIFIED:20230209T204419Z
UID:10000562-1632163500-1632168000@streetlifeministries.org
SUMMARY:RWC Meal + Fellowship
DESCRIPTION:Street Life Ministries is a community-based non-profit that serves the homeless and at-risk population of the Mid-Peninsula. We build environments and relationships where community volunteers can provide food\, clothing\, housing referral\, addiction recovery\, and other personal support.
URL:https://streetlifeministries.org/event/rwc-meal-fellowship/2021-09-20/
LOCATION:RWC Meals + Fellowship\, 1300 Middlefield Road\, Redwood City\, 94063\, United States
END:VEVENT
BEGIN:VEVENT
DTSTART;TZID=America/Los_Angeles:20210917T184500
DTEND;TZID=America/Los_Angeles:20210917T200000
DTSTAMP:20260420T141928
CREATED:20210823T072249Z
LAST-MODIFIED:20230209T204419Z
UID:10000561-1631904300-1631908800@streetlifeministries.org
SUMMARY:RWC Meal + Fellowship
DESCRIPTION:Street Life Ministries is a community-based non-profit that serves the homeless and at-risk population of the Mid-Peninsula. We build environments and relationships where community volunteers can provide food\, clothing\, housing referral\, addiction recovery\, and other personal support.
URL:https://streetlifeministries.org/event/rwc-meal-fellowship/2021-09-17/
LOCATION:RWC Meals + Fellowship\, 1300 Middlefield Road\, Redwood City\, 94063\, United States
END:VEVENT
BEGIN:VEVENT
DTSTART;TZID=America/Los_Angeles:20210915T184500
DTEND;TZID=America/Los_Angeles:20210915T200000
DTSTAMP:20260420T141928
CREATED:20210823T072249Z
LAST-MODIFIED:20230209T204419Z
UID:10000560-1631731500-1631736000@streetlifeministries.org
SUMMARY:RWC Meal + Fellowship
DESCRIPTION:Street Life Ministries is a community-based non-profit that serves the homeless and at-risk population of the Mid-Peninsula. We build environments and relationships where community volunteers can provide food\, clothing\, housing referral\, addiction recovery\, and other personal support.
URL:https://streetlifeministries.org/event/rwc-meal-fellowship/2021-09-15/
LOCATION:RWC Meals + Fellowship\, 1300 Middlefield Road\, Redwood City\, 94063\, United States
END:VEVENT
BEGIN:VEVENT
DTSTART;TZID=America/Los_Angeles:20210913T184500
DTEND;TZID=America/Los_Angeles:20210913T200000
DTSTAMP:20260420T141928
CREATED:20210823T072249Z
LAST-MODIFIED:20230209T204419Z
UID:10000559-1631558700-1631563200@streetlifeministries.org
SUMMARY:RWC Meal + Fellowship
DESCRIPTION:Street Life Ministries is a community-based non-profit that serves the homeless and at-risk population of the Mid-Peninsula. We build environments and relationships where community volunteers can provide food\, clothing\, housing referral\, addiction recovery\, and other personal support.
URL:https://streetlifeministries.org/event/rwc-meal-fellowship/2021-09-13/
LOCATION:RWC Meals + Fellowship\, 1300 Middlefield Road\, Redwood City\, 94063\, United States
END:VEVENT
BEGIN:VEVENT
DTSTART;TZID=America/Los_Angeles:20210910T184500
DTEND;TZID=America/Los_Angeles:20210910T200000
DTSTAMP:20260420T141928
CREATED:20210823T072249Z
LAST-MODIFIED:20230209T204419Z
UID:10000558-1631299500-1631304000@streetlifeministries.org
SUMMARY:RWC Meal + Fellowship
DESCRIPTION:Street Life Ministries is a community-based non-profit that serves the homeless and at-risk population of the Mid-Peninsula. We build environments and relationships where community volunteers can provide food\, clothing\, housing referral\, addiction recovery\, and other personal support.
URL:https://streetlifeministries.org/event/rwc-meal-fellowship/2021-09-10/
LOCATION:RWC Meals + Fellowship\, 1300 Middlefield Road\, Redwood City\, 94063\, United States
END:VEVENT
BEGIN:VEVENT
DTSTART;TZID=America/Los_Angeles:20210908T184500
DTEND;TZID=America/Los_Angeles:20210908T200000
DTSTAMP:20260420T141928
CREATED:20210823T072249Z
LAST-MODIFIED:20230209T204419Z
UID:10000557-1631126700-1631131200@streetlifeministries.org
SUMMARY:RWC Meal + Fellowship
DESCRIPTION:Street Life Ministries is a community-based non-profit that serves the homeless and at-risk population of the Mid-Peninsula. We build environments and relationships where community volunteers can provide food\, clothing\, housing referral\, addiction recovery\, and other personal support.
URL:https://streetlifeministries.org/event/rwc-meal-fellowship/2021-09-08/
LOCATION:RWC Meals + Fellowship\, 1300 Middlefield Road\, Redwood City\, 94063\, United States
END:VEVENT
BEGIN:VEVENT
DTSTART;TZID=America/Los_Angeles:20210906T184500
DTEND;TZID=America/Los_Angeles:20210906T200000
DTSTAMP:20260420T141928
CREATED:20210823T072249Z
LAST-MODIFIED:20230209T204419Z
UID:10000556-1630953900-1630958400@streetlifeministries.org
SUMMARY:RWC Meal + Fellowship
DESCRIPTION:Street Life Ministries is a community-based non-profit that serves the homeless and at-risk population of the Mid-Peninsula. We build environments and relationships where community volunteers can provide food\, clothing\, housing referral\, addiction recovery\, and other personal support.
URL:https://streetlifeministries.org/event/rwc-meal-fellowship/2021-09-06/
LOCATION:RWC Meals + Fellowship\, 1300 Middlefield Road\, Redwood City\, 94063\, United States
END:VEVENT
END:VCALENDAR