BEGIN:VCALENDAR
VERSION:2.0
PRODID:-//Street Life Ministries - ECPv6.15.20//NONSGML v1.0//EN
CALSCALE:GREGORIAN
METHOD:PUBLISH
X-WR-CALNAME:Street Life Ministries
X-ORIGINAL-URL:https://streetlifeministries.org
X-WR-CALDESC:Events for Street Life Ministries
REFRESH-INTERVAL;VALUE=DURATION:PT1H
X-Robots-Tag:noindex
X-PUBLISHED-TTL:PT1H
BEGIN:VTIMEZONE
TZID:America/Los_Angeles
BEGIN:DAYLIGHT
TZOFFSETFROM:-0800
TZOFFSETTO:-0700
TZNAME:PDT
DTSTART:20200308T100000
END:DAYLIGHT
BEGIN:STANDARD
TZOFFSETFROM:-0700
TZOFFSETTO:-0800
TZNAME:PST
DTSTART:20201101T090000
END:STANDARD
BEGIN:DAYLIGHT
TZOFFSETFROM:-0800
TZOFFSETTO:-0700
TZNAME:PDT
DTSTART:20210314T100000
END:DAYLIGHT
BEGIN:STANDARD
TZOFFSETFROM:-0700
TZOFFSETTO:-0800
TZNAME:PST
DTSTART:20211107T090000
END:STANDARD
BEGIN:DAYLIGHT
TZOFFSETFROM:-0800
TZOFFSETTO:-0700
TZNAME:PDT
DTSTART:20220313T100000
END:DAYLIGHT
BEGIN:STANDARD
TZOFFSETFROM:-0700
TZOFFSETTO:-0800
TZNAME:PST
DTSTART:20221106T090000
END:STANDARD
BEGIN:DAYLIGHT
TZOFFSETFROM:-0800
TZOFFSETTO:-0700
TZNAME:PDT
DTSTART:20230312T100000
END:DAYLIGHT
BEGIN:STANDARD
TZOFFSETFROM:-0700
TZOFFSETTO:-0800
TZNAME:PST
DTSTART:20231105T090000
END:STANDARD
END:VTIMEZONE
BEGIN:VEVENT
DTSTART;TZID=America/Los_Angeles:20220107T184500
DTEND;TZID=America/Los_Angeles:20220107T200000
DTSTAMP:20260420T111230
CREATED:20210823T072249Z
LAST-MODIFIED:20230209T204419Z
UID:10000609-1641581100-1641585600@streetlifeministries.org
SUMMARY:RWC Meal + Fellowship
DESCRIPTION:Street Life Ministries is a community-based non-profit that serves the homeless and at-risk population of the Mid-Peninsula. We build environments and relationships where community volunteers can provide food\, clothing\, housing referral\, addiction recovery\, and other personal support.
URL:https://streetlifeministries.org/event/rwc-meal-fellowship/2022-01-07/
LOCATION:RWC Meals + Fellowship\, 1300 Middlefield Road\, Redwood City\, 94063\, United States
END:VEVENT
BEGIN:VEVENT
DTSTART;TZID=America/Los_Angeles:20220105T184500
DTEND;TZID=America/Los_Angeles:20220105T200000
DTSTAMP:20260420T111230
CREATED:20210823T072249Z
LAST-MODIFIED:20230209T204419Z
UID:10000608-1641408300-1641412800@streetlifeministries.org
SUMMARY:RWC Meal + Fellowship
DESCRIPTION:Street Life Ministries is a community-based non-profit that serves the homeless and at-risk population of the Mid-Peninsula. We build environments and relationships where community volunteers can provide food\, clothing\, housing referral\, addiction recovery\, and other personal support.
URL:https://streetlifeministries.org/event/rwc-meal-fellowship/2022-01-05/
LOCATION:RWC Meals + Fellowship\, 1300 Middlefield Road\, Redwood City\, 94063\, United States
END:VEVENT
BEGIN:VEVENT
DTSTART;TZID=America/Los_Angeles:20220103T184500
DTEND;TZID=America/Los_Angeles:20220103T200000
DTSTAMP:20260420T111230
CREATED:20210823T072249Z
LAST-MODIFIED:20230209T204419Z
UID:10000607-1641235500-1641240000@streetlifeministries.org
SUMMARY:RWC Meal + Fellowship
DESCRIPTION:Street Life Ministries is a community-based non-profit that serves the homeless and at-risk population of the Mid-Peninsula. We build environments and relationships where community volunteers can provide food\, clothing\, housing referral\, addiction recovery\, and other personal support.
URL:https://streetlifeministries.org/event/rwc-meal-fellowship/2022-01-03/
LOCATION:RWC Meals + Fellowship\, 1300 Middlefield Road\, Redwood City\, 94063\, United States
END:VEVENT
BEGIN:VEVENT
DTSTART;TZID=America/Los_Angeles:20211231T184500
DTEND;TZID=America/Los_Angeles:20211231T200000
DTSTAMP:20260420T111230
CREATED:20210823T072249Z
LAST-MODIFIED:20230209T204419Z
UID:10000606-1640976300-1640980800@streetlifeministries.org
SUMMARY:RWC Meal + Fellowship
DESCRIPTION:Street Life Ministries is a community-based non-profit that serves the homeless and at-risk population of the Mid-Peninsula. We build environments and relationships where community volunteers can provide food\, clothing\, housing referral\, addiction recovery\, and other personal support.
URL:https://streetlifeministries.org/event/rwc-meal-fellowship/2021-12-31/
LOCATION:RWC Meals + Fellowship\, 1300 Middlefield Road\, Redwood City\, 94063\, United States
END:VEVENT
BEGIN:VEVENT
DTSTART;TZID=America/Los_Angeles:20211229T184500
DTEND;TZID=America/Los_Angeles:20211229T200000
DTSTAMP:20260420T111230
CREATED:20210823T072249Z
LAST-MODIFIED:20230209T204419Z
UID:10000605-1640803500-1640808000@streetlifeministries.org
SUMMARY:RWC Meal + Fellowship
DESCRIPTION:Street Life Ministries is a community-based non-profit that serves the homeless and at-risk population of the Mid-Peninsula. We build environments and relationships where community volunteers can provide food\, clothing\, housing referral\, addiction recovery\, and other personal support.
URL:https://streetlifeministries.org/event/rwc-meal-fellowship/2021-12-29/
LOCATION:RWC Meals + Fellowship\, 1300 Middlefield Road\, Redwood City\, 94063\, United States
END:VEVENT
BEGIN:VEVENT
DTSTART;TZID=America/Los_Angeles:20211227T184500
DTEND;TZID=America/Los_Angeles:20211227T200000
DTSTAMP:20260420T111230
CREATED:20210823T072249Z
LAST-MODIFIED:20230209T204419Z
UID:10000604-1640630700-1640635200@streetlifeministries.org
SUMMARY:RWC Meal + Fellowship
DESCRIPTION:Street Life Ministries is a community-based non-profit that serves the homeless and at-risk population of the Mid-Peninsula. We build environments and relationships where community volunteers can provide food\, clothing\, housing referral\, addiction recovery\, and other personal support.
URL:https://streetlifeministries.org/event/rwc-meal-fellowship/2021-12-27/
LOCATION:RWC Meals + Fellowship\, 1300 Middlefield Road\, Redwood City\, 94063\, United States
END:VEVENT
BEGIN:VEVENT
DTSTART;TZID=America/Los_Angeles:20211224T184500
DTEND;TZID=America/Los_Angeles:20211224T200000
DTSTAMP:20260420T111230
CREATED:20210823T072249Z
LAST-MODIFIED:20230209T204419Z
UID:10000603-1640371500-1640376000@streetlifeministries.org
SUMMARY:RWC Meal + Fellowship
DESCRIPTION:Street Life Ministries is a community-based non-profit that serves the homeless and at-risk population of the Mid-Peninsula. We build environments and relationships where community volunteers can provide food\, clothing\, housing referral\, addiction recovery\, and other personal support.
URL:https://streetlifeministries.org/event/rwc-meal-fellowship/2021-12-24/
LOCATION:RWC Meals + Fellowship\, 1300 Middlefield Road\, Redwood City\, 94063\, United States
END:VEVENT
BEGIN:VEVENT
DTSTART;TZID=America/Los_Angeles:20211222T184500
DTEND;TZID=America/Los_Angeles:20211222T200000
DTSTAMP:20260420T111230
CREATED:20210823T072249Z
LAST-MODIFIED:20230209T204419Z
UID:10000602-1640198700-1640203200@streetlifeministries.org
SUMMARY:RWC Meal + Fellowship
DESCRIPTION:Street Life Ministries is a community-based non-profit that serves the homeless and at-risk population of the Mid-Peninsula. We build environments and relationships where community volunteers can provide food\, clothing\, housing referral\, addiction recovery\, and other personal support.
URL:https://streetlifeministries.org/event/rwc-meal-fellowship/2021-12-22/
LOCATION:RWC Meals + Fellowship\, 1300 Middlefield Road\, Redwood City\, 94063\, United States
END:VEVENT
BEGIN:VEVENT
DTSTART;TZID=America/Los_Angeles:20211220T184500
DTEND;TZID=America/Los_Angeles:20211220T200000
DTSTAMP:20260420T111230
CREATED:20210823T072249Z
LAST-MODIFIED:20230209T204419Z
UID:10000601-1640025900-1640030400@streetlifeministries.org
SUMMARY:RWC Meal + Fellowship
DESCRIPTION:Street Life Ministries is a community-based non-profit that serves the homeless and at-risk population of the Mid-Peninsula. We build environments and relationships where community volunteers can provide food\, clothing\, housing referral\, addiction recovery\, and other personal support.
URL:https://streetlifeministries.org/event/rwc-meal-fellowship/2021-12-20/
LOCATION:RWC Meals + Fellowship\, 1300 Middlefield Road\, Redwood City\, 94063\, United States
END:VEVENT
BEGIN:VEVENT
DTSTART;TZID=America/Los_Angeles:20211217T184500
DTEND;TZID=America/Los_Angeles:20211217T200000
DTSTAMP:20260420T111230
CREATED:20210823T072249Z
LAST-MODIFIED:20230209T204419Z
UID:10000600-1639766700-1639771200@streetlifeministries.org
SUMMARY:RWC Meal + Fellowship
DESCRIPTION:Street Life Ministries is a community-based non-profit that serves the homeless and at-risk population of the Mid-Peninsula. We build environments and relationships where community volunteers can provide food\, clothing\, housing referral\, addiction recovery\, and other personal support.
URL:https://streetlifeministries.org/event/rwc-meal-fellowship/2021-12-17/
LOCATION:RWC Meals + Fellowship\, 1300 Middlefield Road\, Redwood City\, 94063\, United States
END:VEVENT
BEGIN:VEVENT
DTSTART;TZID=America/Los_Angeles:20211215T184500
DTEND;TZID=America/Los_Angeles:20211215T200000
DTSTAMP:20260420T111230
CREATED:20210823T072249Z
LAST-MODIFIED:20230209T204419Z
UID:10000599-1639593900-1639598400@streetlifeministries.org
SUMMARY:RWC Meal + Fellowship
DESCRIPTION:Street Life Ministries is a community-based non-profit that serves the homeless and at-risk population of the Mid-Peninsula. We build environments and relationships where community volunteers can provide food\, clothing\, housing referral\, addiction recovery\, and other personal support.
URL:https://streetlifeministries.org/event/rwc-meal-fellowship/2021-12-15/
LOCATION:RWC Meals + Fellowship\, 1300 Middlefield Road\, Redwood City\, 94063\, United States
END:VEVENT
BEGIN:VEVENT
DTSTART;TZID=America/Los_Angeles:20211213T184500
DTEND;TZID=America/Los_Angeles:20211213T200000
DTSTAMP:20260420T111230
CREATED:20210823T072249Z
LAST-MODIFIED:20230209T204419Z
UID:10000598-1639421100-1639425600@streetlifeministries.org
SUMMARY:RWC Meal + Fellowship
DESCRIPTION:Street Life Ministries is a community-based non-profit that serves the homeless and at-risk population of the Mid-Peninsula. We build environments and relationships where community volunteers can provide food\, clothing\, housing referral\, addiction recovery\, and other personal support.
URL:https://streetlifeministries.org/event/rwc-meal-fellowship/2021-12-13/
LOCATION:RWC Meals + Fellowship\, 1300 Middlefield Road\, Redwood City\, 94063\, United States
END:VEVENT
BEGIN:VEVENT
DTSTART;TZID=America/Los_Angeles:20211210T184500
DTEND;TZID=America/Los_Angeles:20211210T200000
DTSTAMP:20260420T111230
CREATED:20210823T072249Z
LAST-MODIFIED:20230209T204419Z
UID:10000597-1639161900-1639166400@streetlifeministries.org
SUMMARY:RWC Meal + Fellowship
DESCRIPTION:Street Life Ministries is a community-based non-profit that serves the homeless and at-risk population of the Mid-Peninsula. We build environments and relationships where community volunteers can provide food\, clothing\, housing referral\, addiction recovery\, and other personal support.
URL:https://streetlifeministries.org/event/rwc-meal-fellowship/2021-12-10/
LOCATION:RWC Meals + Fellowship\, 1300 Middlefield Road\, Redwood City\, 94063\, United States
END:VEVENT
BEGIN:VEVENT
DTSTART;TZID=America/Los_Angeles:20211208T184500
DTEND;TZID=America/Los_Angeles:20211208T200000
DTSTAMP:20260420T111230
CREATED:20210823T072249Z
LAST-MODIFIED:20230209T204419Z
UID:10000596-1638989100-1638993600@streetlifeministries.org
SUMMARY:RWC Meal + Fellowship
DESCRIPTION:Street Life Ministries is a community-based non-profit that serves the homeless and at-risk population of the Mid-Peninsula. We build environments and relationships where community volunteers can provide food\, clothing\, housing referral\, addiction recovery\, and other personal support.
URL:https://streetlifeministries.org/event/rwc-meal-fellowship/2021-12-08/
LOCATION:RWC Meals + Fellowship\, 1300 Middlefield Road\, Redwood City\, 94063\, United States
END:VEVENT
BEGIN:VEVENT
DTSTART;TZID=America/Los_Angeles:20211206T184500
DTEND;TZID=America/Los_Angeles:20211206T200000
DTSTAMP:20260420T111230
CREATED:20210823T072249Z
LAST-MODIFIED:20230209T204419Z
UID:10000595-1638816300-1638820800@streetlifeministries.org
SUMMARY:RWC Meal + Fellowship
DESCRIPTION:Street Life Ministries is a community-based non-profit that serves the homeless and at-risk population of the Mid-Peninsula. We build environments and relationships where community volunteers can provide food\, clothing\, housing referral\, addiction recovery\, and other personal support.
URL:https://streetlifeministries.org/event/rwc-meal-fellowship/2021-12-06/
LOCATION:RWC Meals + Fellowship\, 1300 Middlefield Road\, Redwood City\, 94063\, United States
END:VEVENT
BEGIN:VEVENT
DTSTART;TZID=America/Los_Angeles:20211203T184500
DTEND;TZID=America/Los_Angeles:20211203T200000
DTSTAMP:20260420T111230
CREATED:20210823T072249Z
LAST-MODIFIED:20230209T204419Z
UID:10000594-1638557100-1638561600@streetlifeministries.org
SUMMARY:RWC Meal + Fellowship
DESCRIPTION:Street Life Ministries is a community-based non-profit that serves the homeless and at-risk population of the Mid-Peninsula. We build environments and relationships where community volunteers can provide food\, clothing\, housing referral\, addiction recovery\, and other personal support.
URL:https://streetlifeministries.org/event/rwc-meal-fellowship/2021-12-03/
LOCATION:RWC Meals + Fellowship\, 1300 Middlefield Road\, Redwood City\, 94063\, United States
END:VEVENT
BEGIN:VEVENT
DTSTART;TZID=America/Los_Angeles:20211201T184500
DTEND;TZID=America/Los_Angeles:20211201T200000
DTSTAMP:20260420T111230
CREATED:20210823T072249Z
LAST-MODIFIED:20230209T204419Z
UID:10000593-1638384300-1638388800@streetlifeministries.org
SUMMARY:RWC Meal + Fellowship
DESCRIPTION:Street Life Ministries is a community-based non-profit that serves the homeless and at-risk population of the Mid-Peninsula. We build environments and relationships where community volunteers can provide food\, clothing\, housing referral\, addiction recovery\, and other personal support.
URL:https://streetlifeministries.org/event/rwc-meal-fellowship/2021-12-01/
LOCATION:RWC Meals + Fellowship\, 1300 Middlefield Road\, Redwood City\, 94063\, United States
END:VEVENT
BEGIN:VEVENT
DTSTART;TZID=America/Los_Angeles:20211129T184500
DTEND;TZID=America/Los_Angeles:20211129T200000
DTSTAMP:20260420T111230
CREATED:20210823T072249Z
LAST-MODIFIED:20230209T204419Z
UID:10000592-1638211500-1638216000@streetlifeministries.org
SUMMARY:RWC Meal + Fellowship
DESCRIPTION:Street Life Ministries is a community-based non-profit that serves the homeless and at-risk population of the Mid-Peninsula. We build environments and relationships where community volunteers can provide food\, clothing\, housing referral\, addiction recovery\, and other personal support.
URL:https://streetlifeministries.org/event/rwc-meal-fellowship/2021-11-29/
LOCATION:RWC Meals + Fellowship\, 1300 Middlefield Road\, Redwood City\, 94063\, United States
END:VEVENT
BEGIN:VEVENT
DTSTART;TZID=America/Los_Angeles:20211126T184500
DTEND;TZID=America/Los_Angeles:20211126T200000
DTSTAMP:20260420T111230
CREATED:20210823T072249Z
LAST-MODIFIED:20230209T204419Z
UID:10000591-1637952300-1637956800@streetlifeministries.org
SUMMARY:RWC Meal + Fellowship
DESCRIPTION:Street Life Ministries is a community-based non-profit that serves the homeless and at-risk population of the Mid-Peninsula. We build environments and relationships where community volunteers can provide food\, clothing\, housing referral\, addiction recovery\, and other personal support.
URL:https://streetlifeministries.org/event/rwc-meal-fellowship/2021-11-26/
LOCATION:RWC Meals + Fellowship\, 1300 Middlefield Road\, Redwood City\, 94063\, United States
END:VEVENT
BEGIN:VEVENT
DTSTART;TZID=America/Los_Angeles:20211124T184500
DTEND;TZID=America/Los_Angeles:20211124T200000
DTSTAMP:20260420T111230
CREATED:20210823T072249Z
LAST-MODIFIED:20230209T204419Z
UID:10000590-1637779500-1637784000@streetlifeministries.org
SUMMARY:RWC Meal + Fellowship
DESCRIPTION:Street Life Ministries is a community-based non-profit that serves the homeless and at-risk population of the Mid-Peninsula. We build environments and relationships where community volunteers can provide food\, clothing\, housing referral\, addiction recovery\, and other personal support.
URL:https://streetlifeministries.org/event/rwc-meal-fellowship/2021-11-24/
LOCATION:RWC Meals + Fellowship\, 1300 Middlefield Road\, Redwood City\, 94063\, United States
END:VEVENT
BEGIN:VEVENT
DTSTART;TZID=America/Los_Angeles:20211122T184500
DTEND;TZID=America/Los_Angeles:20211122T200000
DTSTAMP:20260420T111230
CREATED:20210823T072249Z
LAST-MODIFIED:20230209T204419Z
UID:10000589-1637606700-1637611200@streetlifeministries.org
SUMMARY:RWC Meal + Fellowship
DESCRIPTION:Street Life Ministries is a community-based non-profit that serves the homeless and at-risk population of the Mid-Peninsula. We build environments and relationships where community volunteers can provide food\, clothing\, housing referral\, addiction recovery\, and other personal support.
URL:https://streetlifeministries.org/event/rwc-meal-fellowship/2021-11-22/
LOCATION:RWC Meals + Fellowship\, 1300 Middlefield Road\, Redwood City\, 94063\, United States
END:VEVENT
BEGIN:VEVENT
DTSTART;TZID=America/Los_Angeles:20211119T184500
DTEND;TZID=America/Los_Angeles:20211119T200000
DTSTAMP:20260420T111230
CREATED:20210823T072249Z
LAST-MODIFIED:20230209T204419Z
UID:10000588-1637347500-1637352000@streetlifeministries.org
SUMMARY:RWC Meal + Fellowship
DESCRIPTION:Street Life Ministries is a community-based non-profit that serves the homeless and at-risk population of the Mid-Peninsula. We build environments and relationships where community volunteers can provide food\, clothing\, housing referral\, addiction recovery\, and other personal support.
URL:https://streetlifeministries.org/event/rwc-meal-fellowship/2021-11-19/
LOCATION:RWC Meals + Fellowship\, 1300 Middlefield Road\, Redwood City\, 94063\, United States
END:VEVENT
BEGIN:VEVENT
DTSTART;TZID=America/Los_Angeles:20211117T184500
DTEND;TZID=America/Los_Angeles:20211117T200000
DTSTAMP:20260420T111230
CREATED:20210823T072249Z
LAST-MODIFIED:20230209T204419Z
UID:10000587-1637174700-1637179200@streetlifeministries.org
SUMMARY:RWC Meal + Fellowship
DESCRIPTION:Street Life Ministries is a community-based non-profit that serves the homeless and at-risk population of the Mid-Peninsula. We build environments and relationships where community volunteers can provide food\, clothing\, housing referral\, addiction recovery\, and other personal support.
URL:https://streetlifeministries.org/event/rwc-meal-fellowship/2021-11-17/
LOCATION:RWC Meals + Fellowship\, 1300 Middlefield Road\, Redwood City\, 94063\, United States
END:VEVENT
BEGIN:VEVENT
DTSTART;TZID=America/Los_Angeles:20211115T184500
DTEND;TZID=America/Los_Angeles:20211115T200000
DTSTAMP:20260420T111230
CREATED:20210823T072249Z
LAST-MODIFIED:20230209T204419Z
UID:10000586-1637001900-1637006400@streetlifeministries.org
SUMMARY:RWC Meal + Fellowship
DESCRIPTION:Street Life Ministries is a community-based non-profit that serves the homeless and at-risk population of the Mid-Peninsula. We build environments and relationships where community volunteers can provide food\, clothing\, housing referral\, addiction recovery\, and other personal support.
URL:https://streetlifeministries.org/event/rwc-meal-fellowship/2021-11-15/
LOCATION:RWC Meals + Fellowship\, 1300 Middlefield Road\, Redwood City\, 94063\, United States
END:VEVENT
BEGIN:VEVENT
DTSTART;TZID=America/Los_Angeles:20211112T184500
DTEND;TZID=America/Los_Angeles:20211112T200000
DTSTAMP:20260420T111230
CREATED:20210823T072249Z
LAST-MODIFIED:20230209T204419Z
UID:10000585-1636742700-1636747200@streetlifeministries.org
SUMMARY:RWC Meal + Fellowship
DESCRIPTION:Street Life Ministries is a community-based non-profit that serves the homeless and at-risk population of the Mid-Peninsula. We build environments and relationships where community volunteers can provide food\, clothing\, housing referral\, addiction recovery\, and other personal support.
URL:https://streetlifeministries.org/event/rwc-meal-fellowship/2021-11-12/
LOCATION:RWC Meals + Fellowship\, 1300 Middlefield Road\, Redwood City\, 94063\, United States
END:VEVENT
BEGIN:VEVENT
DTSTART;TZID=America/Los_Angeles:20211110T184500
DTEND;TZID=America/Los_Angeles:20211110T200000
DTSTAMP:20260420T111230
CREATED:20210823T072249Z
LAST-MODIFIED:20230209T204419Z
UID:10000584-1636569900-1636574400@streetlifeministries.org
SUMMARY:RWC Meal + Fellowship
DESCRIPTION:Street Life Ministries is a community-based non-profit that serves the homeless and at-risk population of the Mid-Peninsula. We build environments and relationships where community volunteers can provide food\, clothing\, housing referral\, addiction recovery\, and other personal support.
URL:https://streetlifeministries.org/event/rwc-meal-fellowship/2021-11-10/
LOCATION:RWC Meals + Fellowship\, 1300 Middlefield Road\, Redwood City\, 94063\, United States
END:VEVENT
BEGIN:VEVENT
DTSTART;TZID=America/Los_Angeles:20211108T184500
DTEND;TZID=America/Los_Angeles:20211108T200000
DTSTAMP:20260420T111230
CREATED:20210823T072249Z
LAST-MODIFIED:20230209T204419Z
UID:10000583-1636397100-1636401600@streetlifeministries.org
SUMMARY:RWC Meal + Fellowship
DESCRIPTION:Street Life Ministries is a community-based non-profit that serves the homeless and at-risk population of the Mid-Peninsula. We build environments and relationships where community volunteers can provide food\, clothing\, housing referral\, addiction recovery\, and other personal support.
URL:https://streetlifeministries.org/event/rwc-meal-fellowship/2021-11-08/
LOCATION:RWC Meals + Fellowship\, 1300 Middlefield Road\, Redwood City\, 94063\, United States
END:VEVENT
BEGIN:VEVENT
DTSTART;TZID=America/Los_Angeles:20211105T184500
DTEND;TZID=America/Los_Angeles:20211105T200000
DTSTAMP:20260420T111230
CREATED:20210823T072249Z
LAST-MODIFIED:20230209T204419Z
UID:10000582-1636137900-1636142400@streetlifeministries.org
SUMMARY:RWC Meal + Fellowship
DESCRIPTION:Street Life Ministries is a community-based non-profit that serves the homeless and at-risk population of the Mid-Peninsula. We build environments and relationships where community volunteers can provide food\, clothing\, housing referral\, addiction recovery\, and other personal support.
URL:https://streetlifeministries.org/event/rwc-meal-fellowship/2021-11-05/
LOCATION:RWC Meals + Fellowship\, 1300 Middlefield Road\, Redwood City\, 94063\, United States
END:VEVENT
BEGIN:VEVENT
DTSTART;TZID=America/Los_Angeles:20211103T184500
DTEND;TZID=America/Los_Angeles:20211103T200000
DTSTAMP:20260420T111230
CREATED:20210823T072249Z
LAST-MODIFIED:20230209T204419Z
UID:10000581-1635965100-1635969600@streetlifeministries.org
SUMMARY:RWC Meal + Fellowship
DESCRIPTION:Street Life Ministries is a community-based non-profit that serves the homeless and at-risk population of the Mid-Peninsula. We build environments and relationships where community volunteers can provide food\, clothing\, housing referral\, addiction recovery\, and other personal support.
URL:https://streetlifeministries.org/event/rwc-meal-fellowship/2021-11-03/
LOCATION:RWC Meals + Fellowship\, 1300 Middlefield Road\, Redwood City\, 94063\, United States
END:VEVENT
BEGIN:VEVENT
DTSTART;TZID=America/Los_Angeles:20211101T184500
DTEND;TZID=America/Los_Angeles:20211101T200000
DTSTAMP:20260420T111230
CREATED:20210823T072249Z
LAST-MODIFIED:20230209T204419Z
UID:10000580-1635792300-1635796800@streetlifeministries.org
SUMMARY:RWC Meal + Fellowship
DESCRIPTION:Street Life Ministries is a community-based non-profit that serves the homeless and at-risk population of the Mid-Peninsula. We build environments and relationships where community volunteers can provide food\, clothing\, housing referral\, addiction recovery\, and other personal support.
URL:https://streetlifeministries.org/event/rwc-meal-fellowship/2021-11-01/
LOCATION:RWC Meals + Fellowship\, 1300 Middlefield Road\, Redwood City\, 94063\, United States
END:VEVENT
END:VCALENDAR