BEGIN:VCALENDAR
VERSION:2.0
PRODID:-//Street Life Ministries - ECPv6.15.20//NONSGML v1.0//EN
CALSCALE:GREGORIAN
METHOD:PUBLISH
X-WR-CALNAME:Street Life Ministries
X-ORIGINAL-URL:https://streetlifeministries.org
X-WR-CALDESC:Events for Street Life Ministries
REFRESH-INTERVAL;VALUE=DURATION:PT1H
X-Robots-Tag:noindex
X-PUBLISHED-TTL:PT1H
BEGIN:VTIMEZONE
TZID:America/Los_Angeles
BEGIN:DAYLIGHT
TZOFFSETFROM:-0800
TZOFFSETTO:-0700
TZNAME:PDT
DTSTART:20200308T100000
END:DAYLIGHT
BEGIN:STANDARD
TZOFFSETFROM:-0700
TZOFFSETTO:-0800
TZNAME:PST
DTSTART:20201101T090000
END:STANDARD
BEGIN:DAYLIGHT
TZOFFSETFROM:-0800
TZOFFSETTO:-0700
TZNAME:PDT
DTSTART:20210314T100000
END:DAYLIGHT
BEGIN:STANDARD
TZOFFSETFROM:-0700
TZOFFSETTO:-0800
TZNAME:PST
DTSTART:20211107T090000
END:STANDARD
BEGIN:DAYLIGHT
TZOFFSETFROM:-0800
TZOFFSETTO:-0700
TZNAME:PDT
DTSTART:20220313T100000
END:DAYLIGHT
BEGIN:STANDARD
TZOFFSETFROM:-0700
TZOFFSETTO:-0800
TZNAME:PST
DTSTART:20221106T090000
END:STANDARD
BEGIN:DAYLIGHT
TZOFFSETFROM:-0800
TZOFFSETTO:-0700
TZNAME:PDT
DTSTART:20230312T100000
END:DAYLIGHT
BEGIN:STANDARD
TZOFFSETFROM:-0700
TZOFFSETTO:-0800
TZNAME:PST
DTSTART:20231105T090000
END:STANDARD
END:VTIMEZONE
BEGIN:VEVENT
DTSTART;TZID=America/Los_Angeles:20220304T184500
DTEND;TZID=America/Los_Angeles:20220304T200000
DTSTAMP:20260420T081850
CREATED:20210823T072249Z
LAST-MODIFIED:20230209T204419Z
UID:10000633-1646419500-1646424000@streetlifeministries.org
SUMMARY:RWC Meal + Fellowship
DESCRIPTION:Street Life Ministries is a community-based non-profit that serves the homeless and at-risk population of the Mid-Peninsula. We build environments and relationships where community volunteers can provide food\, clothing\, housing referral\, addiction recovery\, and other personal support.
URL:https://streetlifeministries.org/event/rwc-meal-fellowship/2022-03-04/
LOCATION:RWC Meals + Fellowship\, 1300 Middlefield Road\, Redwood City\, 94063\, United States
END:VEVENT
BEGIN:VEVENT
DTSTART;TZID=America/Los_Angeles:20220302T184500
DTEND;TZID=America/Los_Angeles:20220302T200000
DTSTAMP:20260420T081850
CREATED:20210823T072249Z
LAST-MODIFIED:20230209T204419Z
UID:10000632-1646246700-1646251200@streetlifeministries.org
SUMMARY:RWC Meal + Fellowship
DESCRIPTION:Street Life Ministries is a community-based non-profit that serves the homeless and at-risk population of the Mid-Peninsula. We build environments and relationships where community volunteers can provide food\, clothing\, housing referral\, addiction recovery\, and other personal support.
URL:https://streetlifeministries.org/event/rwc-meal-fellowship/2022-03-02/
LOCATION:RWC Meals + Fellowship\, 1300 Middlefield Road\, Redwood City\, 94063\, United States
END:VEVENT
BEGIN:VEVENT
DTSTART;TZID=America/Los_Angeles:20220228T184500
DTEND;TZID=America/Los_Angeles:20220228T200000
DTSTAMP:20260420T081850
CREATED:20210823T072249Z
LAST-MODIFIED:20230209T204419Z
UID:10000631-1646073900-1646078400@streetlifeministries.org
SUMMARY:RWC Meal + Fellowship
DESCRIPTION:Street Life Ministries is a community-based non-profit that serves the homeless and at-risk population of the Mid-Peninsula. We build environments and relationships where community volunteers can provide food\, clothing\, housing referral\, addiction recovery\, and other personal support.
URL:https://streetlifeministries.org/event/rwc-meal-fellowship/2022-02-28/
LOCATION:RWC Meals + Fellowship\, 1300 Middlefield Road\, Redwood City\, 94063\, United States
END:VEVENT
BEGIN:VEVENT
DTSTART;TZID=America/Los_Angeles:20220225T184500
DTEND;TZID=America/Los_Angeles:20220225T200000
DTSTAMP:20260420T081850
CREATED:20210823T072249Z
LAST-MODIFIED:20230209T204419Z
UID:10000630-1645814700-1645819200@streetlifeministries.org
SUMMARY:RWC Meal + Fellowship
DESCRIPTION:Street Life Ministries is a community-based non-profit that serves the homeless and at-risk population of the Mid-Peninsula. We build environments and relationships where community volunteers can provide food\, clothing\, housing referral\, addiction recovery\, and other personal support.
URL:https://streetlifeministries.org/event/rwc-meal-fellowship/2022-02-25/
LOCATION:RWC Meals + Fellowship\, 1300 Middlefield Road\, Redwood City\, 94063\, United States
END:VEVENT
BEGIN:VEVENT
DTSTART;TZID=America/Los_Angeles:20220223T184500
DTEND;TZID=America/Los_Angeles:20220223T200000
DTSTAMP:20260420T081850
CREATED:20210823T072249Z
LAST-MODIFIED:20230209T204419Z
UID:10000629-1645641900-1645646400@streetlifeministries.org
SUMMARY:RWC Meal + Fellowship
DESCRIPTION:Street Life Ministries is a community-based non-profit that serves the homeless and at-risk population of the Mid-Peninsula. We build environments and relationships where community volunteers can provide food\, clothing\, housing referral\, addiction recovery\, and other personal support.
URL:https://streetlifeministries.org/event/rwc-meal-fellowship/2022-02-23/
LOCATION:RWC Meals + Fellowship\, 1300 Middlefield Road\, Redwood City\, 94063\, United States
END:VEVENT
BEGIN:VEVENT
DTSTART;TZID=America/Los_Angeles:20220221T184500
DTEND;TZID=America/Los_Angeles:20220221T200000
DTSTAMP:20260420T081850
CREATED:20210823T072249Z
LAST-MODIFIED:20230209T204419Z
UID:10000628-1645469100-1645473600@streetlifeministries.org
SUMMARY:RWC Meal + Fellowship
DESCRIPTION:Street Life Ministries is a community-based non-profit that serves the homeless and at-risk population of the Mid-Peninsula. We build environments and relationships where community volunteers can provide food\, clothing\, housing referral\, addiction recovery\, and other personal support.
URL:https://streetlifeministries.org/event/rwc-meal-fellowship/2022-02-21/
LOCATION:RWC Meals + Fellowship\, 1300 Middlefield Road\, Redwood City\, 94063\, United States
END:VEVENT
BEGIN:VEVENT
DTSTART;TZID=America/Los_Angeles:20220218T184500
DTEND;TZID=America/Los_Angeles:20220218T200000
DTSTAMP:20260420T081850
CREATED:20210823T072249Z
LAST-MODIFIED:20230209T204419Z
UID:10000627-1645209900-1645214400@streetlifeministries.org
SUMMARY:RWC Meal + Fellowship
DESCRIPTION:Street Life Ministries is a community-based non-profit that serves the homeless and at-risk population of the Mid-Peninsula. We build environments and relationships where community volunteers can provide food\, clothing\, housing referral\, addiction recovery\, and other personal support.
URL:https://streetlifeministries.org/event/rwc-meal-fellowship/2022-02-18/
LOCATION:RWC Meals + Fellowship\, 1300 Middlefield Road\, Redwood City\, 94063\, United States
END:VEVENT
BEGIN:VEVENT
DTSTART;TZID=America/Los_Angeles:20220216T184500
DTEND;TZID=America/Los_Angeles:20220216T200000
DTSTAMP:20260420T081850
CREATED:20210823T072249Z
LAST-MODIFIED:20230209T204419Z
UID:10000626-1645037100-1645041600@streetlifeministries.org
SUMMARY:RWC Meal + Fellowship
DESCRIPTION:Street Life Ministries is a community-based non-profit that serves the homeless and at-risk population of the Mid-Peninsula. We build environments and relationships where community volunteers can provide food\, clothing\, housing referral\, addiction recovery\, and other personal support.
URL:https://streetlifeministries.org/event/rwc-meal-fellowship/2022-02-16/
LOCATION:RWC Meals + Fellowship\, 1300 Middlefield Road\, Redwood City\, 94063\, United States
END:VEVENT
BEGIN:VEVENT
DTSTART;TZID=America/Los_Angeles:20220214T184500
DTEND;TZID=America/Los_Angeles:20220214T200000
DTSTAMP:20260420T081850
CREATED:20210823T072249Z
LAST-MODIFIED:20230209T204419Z
UID:10000625-1644864300-1644868800@streetlifeministries.org
SUMMARY:RWC Meal + Fellowship
DESCRIPTION:Street Life Ministries is a community-based non-profit that serves the homeless and at-risk population of the Mid-Peninsula. We build environments and relationships where community volunteers can provide food\, clothing\, housing referral\, addiction recovery\, and other personal support.
URL:https://streetlifeministries.org/event/rwc-meal-fellowship/2022-02-14/
LOCATION:RWC Meals + Fellowship\, 1300 Middlefield Road\, Redwood City\, 94063\, United States
END:VEVENT
BEGIN:VEVENT
DTSTART;TZID=America/Los_Angeles:20220211T184500
DTEND;TZID=America/Los_Angeles:20220211T200000
DTSTAMP:20260420T081850
CREATED:20210823T072249Z
LAST-MODIFIED:20230209T204419Z
UID:10000624-1644605100-1644609600@streetlifeministries.org
SUMMARY:RWC Meal + Fellowship
DESCRIPTION:Street Life Ministries is a community-based non-profit that serves the homeless and at-risk population of the Mid-Peninsula. We build environments and relationships where community volunteers can provide food\, clothing\, housing referral\, addiction recovery\, and other personal support.
URL:https://streetlifeministries.org/event/rwc-meal-fellowship/2022-02-11/
LOCATION:RWC Meals + Fellowship\, 1300 Middlefield Road\, Redwood City\, 94063\, United States
END:VEVENT
BEGIN:VEVENT
DTSTART;TZID=America/Los_Angeles:20220209T184500
DTEND;TZID=America/Los_Angeles:20220209T200000
DTSTAMP:20260420T081850
CREATED:20210823T072249Z
LAST-MODIFIED:20230209T204419Z
UID:10000623-1644432300-1644436800@streetlifeministries.org
SUMMARY:RWC Meal + Fellowship
DESCRIPTION:Street Life Ministries is a community-based non-profit that serves the homeless and at-risk population of the Mid-Peninsula. We build environments and relationships where community volunteers can provide food\, clothing\, housing referral\, addiction recovery\, and other personal support.
URL:https://streetlifeministries.org/event/rwc-meal-fellowship/2022-02-09/
LOCATION:RWC Meals + Fellowship\, 1300 Middlefield Road\, Redwood City\, 94063\, United States
END:VEVENT
BEGIN:VEVENT
DTSTART;TZID=America/Los_Angeles:20220207T184500
DTEND;TZID=America/Los_Angeles:20220207T200000
DTSTAMP:20260420T081850
CREATED:20210823T072249Z
LAST-MODIFIED:20230209T204419Z
UID:10000622-1644259500-1644264000@streetlifeministries.org
SUMMARY:RWC Meal + Fellowship
DESCRIPTION:Street Life Ministries is a community-based non-profit that serves the homeless and at-risk population of the Mid-Peninsula. We build environments and relationships where community volunteers can provide food\, clothing\, housing referral\, addiction recovery\, and other personal support.
URL:https://streetlifeministries.org/event/rwc-meal-fellowship/2022-02-07/
LOCATION:RWC Meals + Fellowship\, 1300 Middlefield Road\, Redwood City\, 94063\, United States
END:VEVENT
BEGIN:VEVENT
DTSTART;TZID=America/Los_Angeles:20220204T184500
DTEND;TZID=America/Los_Angeles:20220204T200000
DTSTAMP:20260420T081850
CREATED:20210823T072249Z
LAST-MODIFIED:20230209T204419Z
UID:10000621-1644000300-1644004800@streetlifeministries.org
SUMMARY:RWC Meal + Fellowship
DESCRIPTION:Street Life Ministries is a community-based non-profit that serves the homeless and at-risk population of the Mid-Peninsula. We build environments and relationships where community volunteers can provide food\, clothing\, housing referral\, addiction recovery\, and other personal support.
URL:https://streetlifeministries.org/event/rwc-meal-fellowship/2022-02-04/
LOCATION:RWC Meals + Fellowship\, 1300 Middlefield Road\, Redwood City\, 94063\, United States
END:VEVENT
BEGIN:VEVENT
DTSTART;TZID=America/Los_Angeles:20220202T184500
DTEND;TZID=America/Los_Angeles:20220202T200000
DTSTAMP:20260420T081850
CREATED:20210823T072249Z
LAST-MODIFIED:20230209T204419Z
UID:10000620-1643827500-1643832000@streetlifeministries.org
SUMMARY:RWC Meal + Fellowship
DESCRIPTION:Street Life Ministries is a community-based non-profit that serves the homeless and at-risk population of the Mid-Peninsula. We build environments and relationships where community volunteers can provide food\, clothing\, housing referral\, addiction recovery\, and other personal support.
URL:https://streetlifeministries.org/event/rwc-meal-fellowship/2022-02-02/
LOCATION:RWC Meals + Fellowship\, 1300 Middlefield Road\, Redwood City\, 94063\, United States
END:VEVENT
BEGIN:VEVENT
DTSTART;TZID=America/Los_Angeles:20220131T184500
DTEND;TZID=America/Los_Angeles:20220131T200000
DTSTAMP:20260420T081850
CREATED:20210823T072249Z
LAST-MODIFIED:20230209T204419Z
UID:10000619-1643654700-1643659200@streetlifeministries.org
SUMMARY:RWC Meal + Fellowship
DESCRIPTION:Street Life Ministries is a community-based non-profit that serves the homeless and at-risk population of the Mid-Peninsula. We build environments and relationships where community volunteers can provide food\, clothing\, housing referral\, addiction recovery\, and other personal support.
URL:https://streetlifeministries.org/event/rwc-meal-fellowship/2022-01-31/
LOCATION:RWC Meals + Fellowship\, 1300 Middlefield Road\, Redwood City\, 94063\, United States
END:VEVENT
BEGIN:VEVENT
DTSTART;TZID=America/Los_Angeles:20220128T184500
DTEND;TZID=America/Los_Angeles:20220128T200000
DTSTAMP:20260420T081850
CREATED:20210823T072249Z
LAST-MODIFIED:20230209T204419Z
UID:10000618-1643395500-1643400000@streetlifeministries.org
SUMMARY:RWC Meal + Fellowship
DESCRIPTION:Street Life Ministries is a community-based non-profit that serves the homeless and at-risk population of the Mid-Peninsula. We build environments and relationships where community volunteers can provide food\, clothing\, housing referral\, addiction recovery\, and other personal support.
URL:https://streetlifeministries.org/event/rwc-meal-fellowship/2022-01-28/
LOCATION:RWC Meals + Fellowship\, 1300 Middlefield Road\, Redwood City\, 94063\, United States
END:VEVENT
BEGIN:VEVENT
DTSTART;TZID=America/Los_Angeles:20220126T184500
DTEND;TZID=America/Los_Angeles:20220126T200000
DTSTAMP:20260420T081850
CREATED:20210823T072249Z
LAST-MODIFIED:20230209T204419Z
UID:10000617-1643222700-1643227200@streetlifeministries.org
SUMMARY:RWC Meal + Fellowship
DESCRIPTION:Street Life Ministries is a community-based non-profit that serves the homeless and at-risk population of the Mid-Peninsula. We build environments and relationships where community volunteers can provide food\, clothing\, housing referral\, addiction recovery\, and other personal support.
URL:https://streetlifeministries.org/event/rwc-meal-fellowship/2022-01-26/
LOCATION:RWC Meals + Fellowship\, 1300 Middlefield Road\, Redwood City\, 94063\, United States
END:VEVENT
BEGIN:VEVENT
DTSTART;TZID=America/Los_Angeles:20220124T184500
DTEND;TZID=America/Los_Angeles:20220124T200000
DTSTAMP:20260420T081850
CREATED:20210823T072249Z
LAST-MODIFIED:20230209T204419Z
UID:10000616-1643049900-1643054400@streetlifeministries.org
SUMMARY:RWC Meal + Fellowship
DESCRIPTION:Street Life Ministries is a community-based non-profit that serves the homeless and at-risk population of the Mid-Peninsula. We build environments and relationships where community volunteers can provide food\, clothing\, housing referral\, addiction recovery\, and other personal support.
URL:https://streetlifeministries.org/event/rwc-meal-fellowship/2022-01-24/
LOCATION:RWC Meals + Fellowship\, 1300 Middlefield Road\, Redwood City\, 94063\, United States
END:VEVENT
BEGIN:VEVENT
DTSTART;TZID=America/Los_Angeles:20220121T184500
DTEND;TZID=America/Los_Angeles:20220121T200000
DTSTAMP:20260420T081850
CREATED:20210823T072249Z
LAST-MODIFIED:20230209T204419Z
UID:10000615-1642790700-1642795200@streetlifeministries.org
SUMMARY:RWC Meal + Fellowship
DESCRIPTION:Street Life Ministries is a community-based non-profit that serves the homeless and at-risk population of the Mid-Peninsula. We build environments and relationships where community volunteers can provide food\, clothing\, housing referral\, addiction recovery\, and other personal support.
URL:https://streetlifeministries.org/event/rwc-meal-fellowship/2022-01-21/
LOCATION:RWC Meals + Fellowship\, 1300 Middlefield Road\, Redwood City\, 94063\, United States
END:VEVENT
BEGIN:VEVENT
DTSTART;TZID=America/Los_Angeles:20220119T184500
DTEND;TZID=America/Los_Angeles:20220119T200000
DTSTAMP:20260420T081850
CREATED:20210823T072249Z
LAST-MODIFIED:20230209T204419Z
UID:10000614-1642617900-1642622400@streetlifeministries.org
SUMMARY:RWC Meal + Fellowship
DESCRIPTION:Street Life Ministries is a community-based non-profit that serves the homeless and at-risk population of the Mid-Peninsula. We build environments and relationships where community volunteers can provide food\, clothing\, housing referral\, addiction recovery\, and other personal support.
URL:https://streetlifeministries.org/event/rwc-meal-fellowship/2022-01-19/
LOCATION:RWC Meals + Fellowship\, 1300 Middlefield Road\, Redwood City\, 94063\, United States
END:VEVENT
BEGIN:VEVENT
DTSTART;TZID=America/Los_Angeles:20220117T184500
DTEND;TZID=America/Los_Angeles:20220117T200000
DTSTAMP:20260420T081850
CREATED:20210823T072249Z
LAST-MODIFIED:20230209T204419Z
UID:10000613-1642445100-1642449600@streetlifeministries.org
SUMMARY:RWC Meal + Fellowship
DESCRIPTION:Street Life Ministries is a community-based non-profit that serves the homeless and at-risk population of the Mid-Peninsula. We build environments and relationships where community volunteers can provide food\, clothing\, housing referral\, addiction recovery\, and other personal support.
URL:https://streetlifeministries.org/event/rwc-meal-fellowship/2022-01-17/
LOCATION:RWC Meals + Fellowship\, 1300 Middlefield Road\, Redwood City\, 94063\, United States
END:VEVENT
BEGIN:VEVENT
DTSTART;TZID=America/Los_Angeles:20220114T184500
DTEND;TZID=America/Los_Angeles:20220114T200000
DTSTAMP:20260420T081850
CREATED:20210823T072249Z
LAST-MODIFIED:20230209T204419Z
UID:10000612-1642185900-1642190400@streetlifeministries.org
SUMMARY:RWC Meal + Fellowship
DESCRIPTION:Street Life Ministries is a community-based non-profit that serves the homeless and at-risk population of the Mid-Peninsula. We build environments and relationships where community volunteers can provide food\, clothing\, housing referral\, addiction recovery\, and other personal support.
URL:https://streetlifeministries.org/event/rwc-meal-fellowship/2022-01-14/
LOCATION:RWC Meals + Fellowship\, 1300 Middlefield Road\, Redwood City\, 94063\, United States
END:VEVENT
BEGIN:VEVENT
DTSTART;TZID=America/Los_Angeles:20220112T184500
DTEND;TZID=America/Los_Angeles:20220112T200000
DTSTAMP:20260420T081850
CREATED:20210823T072249Z
LAST-MODIFIED:20230209T204419Z
UID:10000611-1642013100-1642017600@streetlifeministries.org
SUMMARY:RWC Meal + Fellowship
DESCRIPTION:Street Life Ministries is a community-based non-profit that serves the homeless and at-risk population of the Mid-Peninsula. We build environments and relationships where community volunteers can provide food\, clothing\, housing referral\, addiction recovery\, and other personal support.
URL:https://streetlifeministries.org/event/rwc-meal-fellowship/2022-01-12/
LOCATION:RWC Meals + Fellowship\, 1300 Middlefield Road\, Redwood City\, 94063\, United States
END:VEVENT
BEGIN:VEVENT
DTSTART;TZID=America/Los_Angeles:20220110T184500
DTEND;TZID=America/Los_Angeles:20220110T200000
DTSTAMP:20260420T081850
CREATED:20210823T072249Z
LAST-MODIFIED:20230209T204419Z
UID:10000610-1641840300-1641844800@streetlifeministries.org
SUMMARY:RWC Meal + Fellowship
DESCRIPTION:Street Life Ministries is a community-based non-profit that serves the homeless and at-risk population of the Mid-Peninsula. We build environments and relationships where community volunteers can provide food\, clothing\, housing referral\, addiction recovery\, and other personal support.
URL:https://streetlifeministries.org/event/rwc-meal-fellowship/2022-01-10/
LOCATION:RWC Meals + Fellowship\, 1300 Middlefield Road\, Redwood City\, 94063\, United States
END:VEVENT
BEGIN:VEVENT
DTSTART;TZID=America/Los_Angeles:20220107T184500
DTEND;TZID=America/Los_Angeles:20220107T200000
DTSTAMP:20260420T081850
CREATED:20210823T072249Z
LAST-MODIFIED:20230209T204419Z
UID:10000609-1641581100-1641585600@streetlifeministries.org
SUMMARY:RWC Meal + Fellowship
DESCRIPTION:Street Life Ministries is a community-based non-profit that serves the homeless and at-risk population of the Mid-Peninsula. We build environments and relationships where community volunteers can provide food\, clothing\, housing referral\, addiction recovery\, and other personal support.
URL:https://streetlifeministries.org/event/rwc-meal-fellowship/2022-01-07/
LOCATION:RWC Meals + Fellowship\, 1300 Middlefield Road\, Redwood City\, 94063\, United States
END:VEVENT
BEGIN:VEVENT
DTSTART;TZID=America/Los_Angeles:20220105T184500
DTEND;TZID=America/Los_Angeles:20220105T200000
DTSTAMP:20260420T081850
CREATED:20210823T072249Z
LAST-MODIFIED:20230209T204419Z
UID:10000608-1641408300-1641412800@streetlifeministries.org
SUMMARY:RWC Meal + Fellowship
DESCRIPTION:Street Life Ministries is a community-based non-profit that serves the homeless and at-risk population of the Mid-Peninsula. We build environments and relationships where community volunteers can provide food\, clothing\, housing referral\, addiction recovery\, and other personal support.
URL:https://streetlifeministries.org/event/rwc-meal-fellowship/2022-01-05/
LOCATION:RWC Meals + Fellowship\, 1300 Middlefield Road\, Redwood City\, 94063\, United States
END:VEVENT
BEGIN:VEVENT
DTSTART;TZID=America/Los_Angeles:20220103T184500
DTEND;TZID=America/Los_Angeles:20220103T200000
DTSTAMP:20260420T081850
CREATED:20210823T072249Z
LAST-MODIFIED:20230209T204419Z
UID:10000607-1641235500-1641240000@streetlifeministries.org
SUMMARY:RWC Meal + Fellowship
DESCRIPTION:Street Life Ministries is a community-based non-profit that serves the homeless and at-risk population of the Mid-Peninsula. We build environments and relationships where community volunteers can provide food\, clothing\, housing referral\, addiction recovery\, and other personal support.
URL:https://streetlifeministries.org/event/rwc-meal-fellowship/2022-01-03/
LOCATION:RWC Meals + Fellowship\, 1300 Middlefield Road\, Redwood City\, 94063\, United States
END:VEVENT
BEGIN:VEVENT
DTSTART;TZID=America/Los_Angeles:20211231T184500
DTEND;TZID=America/Los_Angeles:20211231T200000
DTSTAMP:20260420T081850
CREATED:20210823T072249Z
LAST-MODIFIED:20230209T204419Z
UID:10000606-1640976300-1640980800@streetlifeministries.org
SUMMARY:RWC Meal + Fellowship
DESCRIPTION:Street Life Ministries is a community-based non-profit that serves the homeless and at-risk population of the Mid-Peninsula. We build environments and relationships where community volunteers can provide food\, clothing\, housing referral\, addiction recovery\, and other personal support.
URL:https://streetlifeministries.org/event/rwc-meal-fellowship/2021-12-31/
LOCATION:RWC Meals + Fellowship\, 1300 Middlefield Road\, Redwood City\, 94063\, United States
END:VEVENT
BEGIN:VEVENT
DTSTART;TZID=America/Los_Angeles:20211229T184500
DTEND;TZID=America/Los_Angeles:20211229T200000
DTSTAMP:20260420T081850
CREATED:20210823T072249Z
LAST-MODIFIED:20230209T204419Z
UID:10000605-1640803500-1640808000@streetlifeministries.org
SUMMARY:RWC Meal + Fellowship
DESCRIPTION:Street Life Ministries is a community-based non-profit that serves the homeless and at-risk population of the Mid-Peninsula. We build environments and relationships where community volunteers can provide food\, clothing\, housing referral\, addiction recovery\, and other personal support.
URL:https://streetlifeministries.org/event/rwc-meal-fellowship/2021-12-29/
LOCATION:RWC Meals + Fellowship\, 1300 Middlefield Road\, Redwood City\, 94063\, United States
END:VEVENT
BEGIN:VEVENT
DTSTART;TZID=America/Los_Angeles:20211227T184500
DTEND;TZID=America/Los_Angeles:20211227T200000
DTSTAMP:20260420T081850
CREATED:20210823T072249Z
LAST-MODIFIED:20230209T204419Z
UID:10000604-1640630700-1640635200@streetlifeministries.org
SUMMARY:RWC Meal + Fellowship
DESCRIPTION:Street Life Ministries is a community-based non-profit that serves the homeless and at-risk population of the Mid-Peninsula. We build environments and relationships where community volunteers can provide food\, clothing\, housing referral\, addiction recovery\, and other personal support.
URL:https://streetlifeministries.org/event/rwc-meal-fellowship/2021-12-27/
LOCATION:RWC Meals + Fellowship\, 1300 Middlefield Road\, Redwood City\, 94063\, United States
END:VEVENT
END:VCALENDAR