BEGIN:VCALENDAR
VERSION:2.0
PRODID:-//Street Life Ministries - ECPv6.15.20//NONSGML v1.0//EN
CALSCALE:GREGORIAN
METHOD:PUBLISH
X-WR-CALNAME:Street Life Ministries
X-ORIGINAL-URL:https://streetlifeministries.org
X-WR-CALDESC:Events for Street Life Ministries
REFRESH-INTERVAL;VALUE=DURATION:PT1H
X-Robots-Tag:noindex
X-PUBLISHED-TTL:PT1H
BEGIN:VTIMEZONE
TZID:America/Los_Angeles
BEGIN:DAYLIGHT
TZOFFSETFROM:-0800
TZOFFSETTO:-0700
TZNAME:PDT
DTSTART:20210314T100000
END:DAYLIGHT
BEGIN:STANDARD
TZOFFSETFROM:-0700
TZOFFSETTO:-0800
TZNAME:PST
DTSTART:20211107T090000
END:STANDARD
BEGIN:DAYLIGHT
TZOFFSETFROM:-0800
TZOFFSETTO:-0700
TZNAME:PDT
DTSTART:20220313T100000
END:DAYLIGHT
BEGIN:STANDARD
TZOFFSETFROM:-0700
TZOFFSETTO:-0800
TZNAME:PST
DTSTART:20221106T090000
END:STANDARD
BEGIN:DAYLIGHT
TZOFFSETFROM:-0800
TZOFFSETTO:-0700
TZNAME:PDT
DTSTART:20230312T100000
END:DAYLIGHT
BEGIN:STANDARD
TZOFFSETFROM:-0700
TZOFFSETTO:-0800
TZNAME:PST
DTSTART:20231105T090000
END:STANDARD
END:VTIMEZONE
BEGIN:VEVENT
DTSTART;TZID=America/Los_Angeles:20220429T184500
DTEND;TZID=America/Los_Angeles:20220429T200000
DTSTAMP:20260420T051701
CREATED:20210823T072249Z
LAST-MODIFIED:20230209T204419Z
UID:10000657-1651257900-1651262400@streetlifeministries.org
SUMMARY:RWC Meal + Fellowship
DESCRIPTION:Street Life Ministries is a community-based non-profit that serves the homeless and at-risk population of the Mid-Peninsula. We build environments and relationships where community volunteers can provide food\, clothing\, housing referral\, addiction recovery\, and other personal support.
URL:https://streetlifeministries.org/event/rwc-meal-fellowship/2022-04-29/
LOCATION:RWC Meals + Fellowship\, 1300 Middlefield Road\, Redwood City\, 94063\, United States
END:VEVENT
BEGIN:VEVENT
DTSTART;TZID=America/Los_Angeles:20220427T184500
DTEND;TZID=America/Los_Angeles:20220427T200000
DTSTAMP:20260420T051701
CREATED:20210823T072249Z
LAST-MODIFIED:20230209T204419Z
UID:10000656-1651085100-1651089600@streetlifeministries.org
SUMMARY:RWC Meal + Fellowship
DESCRIPTION:Street Life Ministries is a community-based non-profit that serves the homeless and at-risk population of the Mid-Peninsula. We build environments and relationships where community volunteers can provide food\, clothing\, housing referral\, addiction recovery\, and other personal support.
URL:https://streetlifeministries.org/event/rwc-meal-fellowship/2022-04-27/
LOCATION:RWC Meals + Fellowship\, 1300 Middlefield Road\, Redwood City\, 94063\, United States
END:VEVENT
BEGIN:VEVENT
DTSTART;TZID=America/Los_Angeles:20220425T184500
DTEND;TZID=America/Los_Angeles:20220425T200000
DTSTAMP:20260420T051701
CREATED:20210823T072249Z
LAST-MODIFIED:20230209T204419Z
UID:10000655-1650912300-1650916800@streetlifeministries.org
SUMMARY:RWC Meal + Fellowship
DESCRIPTION:Street Life Ministries is a community-based non-profit that serves the homeless and at-risk population of the Mid-Peninsula. We build environments and relationships where community volunteers can provide food\, clothing\, housing referral\, addiction recovery\, and other personal support.
URL:https://streetlifeministries.org/event/rwc-meal-fellowship/2022-04-25/
LOCATION:RWC Meals + Fellowship\, 1300 Middlefield Road\, Redwood City\, 94063\, United States
END:VEVENT
BEGIN:VEVENT
DTSTART;TZID=America/Los_Angeles:20220422T184500
DTEND;TZID=America/Los_Angeles:20220422T200000
DTSTAMP:20260420T051701
CREATED:20210823T072249Z
LAST-MODIFIED:20230209T204419Z
UID:10000654-1650653100-1650657600@streetlifeministries.org
SUMMARY:RWC Meal + Fellowship
DESCRIPTION:Street Life Ministries is a community-based non-profit that serves the homeless and at-risk population of the Mid-Peninsula. We build environments and relationships where community volunteers can provide food\, clothing\, housing referral\, addiction recovery\, and other personal support.
URL:https://streetlifeministries.org/event/rwc-meal-fellowship/2022-04-22/
LOCATION:RWC Meals + Fellowship\, 1300 Middlefield Road\, Redwood City\, 94063\, United States
END:VEVENT
BEGIN:VEVENT
DTSTART;TZID=America/Los_Angeles:20220420T184500
DTEND;TZID=America/Los_Angeles:20220420T200000
DTSTAMP:20260420T051701
CREATED:20210823T072249Z
LAST-MODIFIED:20230209T204419Z
UID:10000653-1650480300-1650484800@streetlifeministries.org
SUMMARY:RWC Meal + Fellowship
DESCRIPTION:Street Life Ministries is a community-based non-profit that serves the homeless and at-risk population of the Mid-Peninsula. We build environments and relationships where community volunteers can provide food\, clothing\, housing referral\, addiction recovery\, and other personal support.
URL:https://streetlifeministries.org/event/rwc-meal-fellowship/2022-04-20/
LOCATION:RWC Meals + Fellowship\, 1300 Middlefield Road\, Redwood City\, 94063\, United States
END:VEVENT
BEGIN:VEVENT
DTSTART;TZID=America/Los_Angeles:20220418T184500
DTEND;TZID=America/Los_Angeles:20220418T200000
DTSTAMP:20260420T051701
CREATED:20210823T072249Z
LAST-MODIFIED:20230209T204419Z
UID:10000652-1650307500-1650312000@streetlifeministries.org
SUMMARY:RWC Meal + Fellowship
DESCRIPTION:Street Life Ministries is a community-based non-profit that serves the homeless and at-risk population of the Mid-Peninsula. We build environments and relationships where community volunteers can provide food\, clothing\, housing referral\, addiction recovery\, and other personal support.
URL:https://streetlifeministries.org/event/rwc-meal-fellowship/2022-04-18/
LOCATION:RWC Meals + Fellowship\, 1300 Middlefield Road\, Redwood City\, 94063\, United States
END:VEVENT
BEGIN:VEVENT
DTSTART;TZID=America/Los_Angeles:20220415T184500
DTEND;TZID=America/Los_Angeles:20220415T200000
DTSTAMP:20260420T051701
CREATED:20210823T072249Z
LAST-MODIFIED:20230209T204419Z
UID:10000651-1650048300-1650052800@streetlifeministries.org
SUMMARY:RWC Meal + Fellowship
DESCRIPTION:Street Life Ministries is a community-based non-profit that serves the homeless and at-risk population of the Mid-Peninsula. We build environments and relationships where community volunteers can provide food\, clothing\, housing referral\, addiction recovery\, and other personal support.
URL:https://streetlifeministries.org/event/rwc-meal-fellowship/2022-04-15/
LOCATION:RWC Meals + Fellowship\, 1300 Middlefield Road\, Redwood City\, 94063\, United States
END:VEVENT
BEGIN:VEVENT
DTSTART;TZID=America/Los_Angeles:20220413T184500
DTEND;TZID=America/Los_Angeles:20220413T200000
DTSTAMP:20260420T051701
CREATED:20210823T072249Z
LAST-MODIFIED:20230209T204419Z
UID:10000650-1649875500-1649880000@streetlifeministries.org
SUMMARY:RWC Meal + Fellowship
DESCRIPTION:Street Life Ministries is a community-based non-profit that serves the homeless and at-risk population of the Mid-Peninsula. We build environments and relationships where community volunteers can provide food\, clothing\, housing referral\, addiction recovery\, and other personal support.
URL:https://streetlifeministries.org/event/rwc-meal-fellowship/2022-04-13/
LOCATION:RWC Meals + Fellowship\, 1300 Middlefield Road\, Redwood City\, 94063\, United States
END:VEVENT
BEGIN:VEVENT
DTSTART;TZID=America/Los_Angeles:20220411T184500
DTEND;TZID=America/Los_Angeles:20220411T200000
DTSTAMP:20260420T051701
CREATED:20210823T072249Z
LAST-MODIFIED:20230209T204419Z
UID:10000649-1649702700-1649707200@streetlifeministries.org
SUMMARY:RWC Meal + Fellowship
DESCRIPTION:Street Life Ministries is a community-based non-profit that serves the homeless and at-risk population of the Mid-Peninsula. We build environments and relationships where community volunteers can provide food\, clothing\, housing referral\, addiction recovery\, and other personal support.
URL:https://streetlifeministries.org/event/rwc-meal-fellowship/2022-04-11/
LOCATION:RWC Meals + Fellowship\, 1300 Middlefield Road\, Redwood City\, 94063\, United States
END:VEVENT
BEGIN:VEVENT
DTSTART;TZID=America/Los_Angeles:20220408T184500
DTEND;TZID=America/Los_Angeles:20220408T200000
DTSTAMP:20260420T051701
CREATED:20210823T072249Z
LAST-MODIFIED:20230209T204419Z
UID:10000648-1649443500-1649448000@streetlifeministries.org
SUMMARY:RWC Meal + Fellowship
DESCRIPTION:Street Life Ministries is a community-based non-profit that serves the homeless and at-risk population of the Mid-Peninsula. We build environments and relationships where community volunteers can provide food\, clothing\, housing referral\, addiction recovery\, and other personal support.
URL:https://streetlifeministries.org/event/rwc-meal-fellowship/2022-04-08/
LOCATION:RWC Meals + Fellowship\, 1300 Middlefield Road\, Redwood City\, 94063\, United States
END:VEVENT
BEGIN:VEVENT
DTSTART;TZID=America/Los_Angeles:20220406T184500
DTEND;TZID=America/Los_Angeles:20220406T200000
DTSTAMP:20260420T051701
CREATED:20210823T072249Z
LAST-MODIFIED:20230209T204419Z
UID:10000647-1649270700-1649275200@streetlifeministries.org
SUMMARY:RWC Meal + Fellowship
DESCRIPTION:Street Life Ministries is a community-based non-profit that serves the homeless and at-risk population of the Mid-Peninsula. We build environments and relationships where community volunteers can provide food\, clothing\, housing referral\, addiction recovery\, and other personal support.
URL:https://streetlifeministries.org/event/rwc-meal-fellowship/2022-04-06/
LOCATION:RWC Meals + Fellowship\, 1300 Middlefield Road\, Redwood City\, 94063\, United States
END:VEVENT
BEGIN:VEVENT
DTSTART;TZID=America/Los_Angeles:20220404T184500
DTEND;TZID=America/Los_Angeles:20220404T200000
DTSTAMP:20260420T051701
CREATED:20210823T072249Z
LAST-MODIFIED:20230209T204419Z
UID:10000646-1649097900-1649102400@streetlifeministries.org
SUMMARY:RWC Meal + Fellowship
DESCRIPTION:Street Life Ministries is a community-based non-profit that serves the homeless and at-risk population of the Mid-Peninsula. We build environments and relationships where community volunteers can provide food\, clothing\, housing referral\, addiction recovery\, and other personal support.
URL:https://streetlifeministries.org/event/rwc-meal-fellowship/2022-04-04/
LOCATION:RWC Meals + Fellowship\, 1300 Middlefield Road\, Redwood City\, 94063\, United States
END:VEVENT
BEGIN:VEVENT
DTSTART;TZID=America/Los_Angeles:20220401T184500
DTEND;TZID=America/Los_Angeles:20220401T200000
DTSTAMP:20260420T051701
CREATED:20210823T072249Z
LAST-MODIFIED:20230209T204419Z
UID:10000645-1648838700-1648843200@streetlifeministries.org
SUMMARY:RWC Meal + Fellowship
DESCRIPTION:Street Life Ministries is a community-based non-profit that serves the homeless and at-risk population of the Mid-Peninsula. We build environments and relationships where community volunteers can provide food\, clothing\, housing referral\, addiction recovery\, and other personal support.
URL:https://streetlifeministries.org/event/rwc-meal-fellowship/2022-04-01/
LOCATION:RWC Meals + Fellowship\, 1300 Middlefield Road\, Redwood City\, 94063\, United States
END:VEVENT
BEGIN:VEVENT
DTSTART;TZID=America/Los_Angeles:20220330T184500
DTEND;TZID=America/Los_Angeles:20220330T200000
DTSTAMP:20260420T051701
CREATED:20210823T072249Z
LAST-MODIFIED:20230209T204419Z
UID:10000644-1648665900-1648670400@streetlifeministries.org
SUMMARY:RWC Meal + Fellowship
DESCRIPTION:Street Life Ministries is a community-based non-profit that serves the homeless and at-risk population of the Mid-Peninsula. We build environments and relationships where community volunteers can provide food\, clothing\, housing referral\, addiction recovery\, and other personal support.
URL:https://streetlifeministries.org/event/rwc-meal-fellowship/2022-03-30/
LOCATION:RWC Meals + Fellowship\, 1300 Middlefield Road\, Redwood City\, 94063\, United States
END:VEVENT
BEGIN:VEVENT
DTSTART;TZID=America/Los_Angeles:20220328T184500
DTEND;TZID=America/Los_Angeles:20220328T200000
DTSTAMP:20260420T051701
CREATED:20210823T072249Z
LAST-MODIFIED:20230209T204419Z
UID:10000643-1648493100-1648497600@streetlifeministries.org
SUMMARY:RWC Meal + Fellowship
DESCRIPTION:Street Life Ministries is a community-based non-profit that serves the homeless and at-risk population of the Mid-Peninsula. We build environments and relationships where community volunteers can provide food\, clothing\, housing referral\, addiction recovery\, and other personal support.
URL:https://streetlifeministries.org/event/rwc-meal-fellowship/2022-03-28/
LOCATION:RWC Meals + Fellowship\, 1300 Middlefield Road\, Redwood City\, 94063\, United States
END:VEVENT
BEGIN:VEVENT
DTSTART;TZID=America/Los_Angeles:20220325T184500
DTEND;TZID=America/Los_Angeles:20220325T200000
DTSTAMP:20260420T051701
CREATED:20210823T072249Z
LAST-MODIFIED:20230209T204419Z
UID:10000642-1648233900-1648238400@streetlifeministries.org
SUMMARY:RWC Meal + Fellowship
DESCRIPTION:Street Life Ministries is a community-based non-profit that serves the homeless and at-risk population of the Mid-Peninsula. We build environments and relationships where community volunteers can provide food\, clothing\, housing referral\, addiction recovery\, and other personal support.
URL:https://streetlifeministries.org/event/rwc-meal-fellowship/2022-03-25/
LOCATION:RWC Meals + Fellowship\, 1300 Middlefield Road\, Redwood City\, 94063\, United States
END:VEVENT
BEGIN:VEVENT
DTSTART;TZID=America/Los_Angeles:20220323T184500
DTEND;TZID=America/Los_Angeles:20220323T200000
DTSTAMP:20260420T051701
CREATED:20210823T072249Z
LAST-MODIFIED:20230209T204419Z
UID:10000641-1648061100-1648065600@streetlifeministries.org
SUMMARY:RWC Meal + Fellowship
DESCRIPTION:Street Life Ministries is a community-based non-profit that serves the homeless and at-risk population of the Mid-Peninsula. We build environments and relationships where community volunteers can provide food\, clothing\, housing referral\, addiction recovery\, and other personal support.
URL:https://streetlifeministries.org/event/rwc-meal-fellowship/2022-03-23/
LOCATION:RWC Meals + Fellowship\, 1300 Middlefield Road\, Redwood City\, 94063\, United States
END:VEVENT
BEGIN:VEVENT
DTSTART;TZID=America/Los_Angeles:20220321T184500
DTEND;TZID=America/Los_Angeles:20220321T200000
DTSTAMP:20260420T051701
CREATED:20210823T072249Z
LAST-MODIFIED:20230209T204419Z
UID:10000640-1647888300-1647892800@streetlifeministries.org
SUMMARY:RWC Meal + Fellowship
DESCRIPTION:Street Life Ministries is a community-based non-profit that serves the homeless and at-risk population of the Mid-Peninsula. We build environments and relationships where community volunteers can provide food\, clothing\, housing referral\, addiction recovery\, and other personal support.
URL:https://streetlifeministries.org/event/rwc-meal-fellowship/2022-03-21/
LOCATION:RWC Meals + Fellowship\, 1300 Middlefield Road\, Redwood City\, 94063\, United States
END:VEVENT
BEGIN:VEVENT
DTSTART;TZID=America/Los_Angeles:20220318T184500
DTEND;TZID=America/Los_Angeles:20220318T200000
DTSTAMP:20260420T051701
CREATED:20210823T072249Z
LAST-MODIFIED:20230209T204419Z
UID:10000639-1647629100-1647633600@streetlifeministries.org
SUMMARY:RWC Meal + Fellowship
DESCRIPTION:Street Life Ministries is a community-based non-profit that serves the homeless and at-risk population of the Mid-Peninsula. We build environments and relationships where community volunteers can provide food\, clothing\, housing referral\, addiction recovery\, and other personal support.
URL:https://streetlifeministries.org/event/rwc-meal-fellowship/2022-03-18/
LOCATION:RWC Meals + Fellowship\, 1300 Middlefield Road\, Redwood City\, 94063\, United States
END:VEVENT
BEGIN:VEVENT
DTSTART;TZID=America/Los_Angeles:20220316T184500
DTEND;TZID=America/Los_Angeles:20220316T200000
DTSTAMP:20260420T051701
CREATED:20210823T072249Z
LAST-MODIFIED:20230209T204419Z
UID:10000638-1647456300-1647460800@streetlifeministries.org
SUMMARY:RWC Meal + Fellowship
DESCRIPTION:Street Life Ministries is a community-based non-profit that serves the homeless and at-risk population of the Mid-Peninsula. We build environments and relationships where community volunteers can provide food\, clothing\, housing referral\, addiction recovery\, and other personal support.
URL:https://streetlifeministries.org/event/rwc-meal-fellowship/2022-03-16/
LOCATION:RWC Meals + Fellowship\, 1300 Middlefield Road\, Redwood City\, 94063\, United States
END:VEVENT
BEGIN:VEVENT
DTSTART;TZID=America/Los_Angeles:20220314T184500
DTEND;TZID=America/Los_Angeles:20220314T200000
DTSTAMP:20260420T051701
CREATED:20210823T072249Z
LAST-MODIFIED:20230209T204419Z
UID:10000637-1647283500-1647288000@streetlifeministries.org
SUMMARY:RWC Meal + Fellowship
DESCRIPTION:Street Life Ministries is a community-based non-profit that serves the homeless and at-risk population of the Mid-Peninsula. We build environments and relationships where community volunteers can provide food\, clothing\, housing referral\, addiction recovery\, and other personal support.
URL:https://streetlifeministries.org/event/rwc-meal-fellowship/2022-03-14/
LOCATION:RWC Meals + Fellowship\, 1300 Middlefield Road\, Redwood City\, 94063\, United States
END:VEVENT
BEGIN:VEVENT
DTSTART;TZID=America/Los_Angeles:20220311T184500
DTEND;TZID=America/Los_Angeles:20220311T200000
DTSTAMP:20260420T051701
CREATED:20210823T072249Z
LAST-MODIFIED:20230209T204419Z
UID:10000636-1647024300-1647028800@streetlifeministries.org
SUMMARY:RWC Meal + Fellowship
DESCRIPTION:Street Life Ministries is a community-based non-profit that serves the homeless and at-risk population of the Mid-Peninsula. We build environments and relationships where community volunteers can provide food\, clothing\, housing referral\, addiction recovery\, and other personal support.
URL:https://streetlifeministries.org/event/rwc-meal-fellowship/2022-03-11/
LOCATION:RWC Meals + Fellowship\, 1300 Middlefield Road\, Redwood City\, 94063\, United States
END:VEVENT
BEGIN:VEVENT
DTSTART;TZID=America/Los_Angeles:20220309T184500
DTEND;TZID=America/Los_Angeles:20220309T200000
DTSTAMP:20260420T051701
CREATED:20210823T072249Z
LAST-MODIFIED:20230209T204419Z
UID:10000635-1646851500-1646856000@streetlifeministries.org
SUMMARY:RWC Meal + Fellowship
DESCRIPTION:Street Life Ministries is a community-based non-profit that serves the homeless and at-risk population of the Mid-Peninsula. We build environments and relationships where community volunteers can provide food\, clothing\, housing referral\, addiction recovery\, and other personal support.
URL:https://streetlifeministries.org/event/rwc-meal-fellowship/2022-03-09/
LOCATION:RWC Meals + Fellowship\, 1300 Middlefield Road\, Redwood City\, 94063\, United States
END:VEVENT
BEGIN:VEVENT
DTSTART;TZID=America/Los_Angeles:20220307T184500
DTEND;TZID=America/Los_Angeles:20220307T200000
DTSTAMP:20260420T051701
CREATED:20210823T072249Z
LAST-MODIFIED:20230209T204419Z
UID:10000634-1646678700-1646683200@streetlifeministries.org
SUMMARY:RWC Meal + Fellowship
DESCRIPTION:Street Life Ministries is a community-based non-profit that serves the homeless and at-risk population of the Mid-Peninsula. We build environments and relationships where community volunteers can provide food\, clothing\, housing referral\, addiction recovery\, and other personal support.
URL:https://streetlifeministries.org/event/rwc-meal-fellowship/2022-03-07/
LOCATION:RWC Meals + Fellowship\, 1300 Middlefield Road\, Redwood City\, 94063\, United States
END:VEVENT
BEGIN:VEVENT
DTSTART;TZID=America/Los_Angeles:20220304T184500
DTEND;TZID=America/Los_Angeles:20220304T200000
DTSTAMP:20260420T051701
CREATED:20210823T072249Z
LAST-MODIFIED:20230209T204419Z
UID:10000633-1646419500-1646424000@streetlifeministries.org
SUMMARY:RWC Meal + Fellowship
DESCRIPTION:Street Life Ministries is a community-based non-profit that serves the homeless and at-risk population of the Mid-Peninsula. We build environments and relationships where community volunteers can provide food\, clothing\, housing referral\, addiction recovery\, and other personal support.
URL:https://streetlifeministries.org/event/rwc-meal-fellowship/2022-03-04/
LOCATION:RWC Meals + Fellowship\, 1300 Middlefield Road\, Redwood City\, 94063\, United States
END:VEVENT
BEGIN:VEVENT
DTSTART;TZID=America/Los_Angeles:20220302T184500
DTEND;TZID=America/Los_Angeles:20220302T200000
DTSTAMP:20260420T051701
CREATED:20210823T072249Z
LAST-MODIFIED:20230209T204419Z
UID:10000632-1646246700-1646251200@streetlifeministries.org
SUMMARY:RWC Meal + Fellowship
DESCRIPTION:Street Life Ministries is a community-based non-profit that serves the homeless and at-risk population of the Mid-Peninsula. We build environments and relationships where community volunteers can provide food\, clothing\, housing referral\, addiction recovery\, and other personal support.
URL:https://streetlifeministries.org/event/rwc-meal-fellowship/2022-03-02/
LOCATION:RWC Meals + Fellowship\, 1300 Middlefield Road\, Redwood City\, 94063\, United States
END:VEVENT
BEGIN:VEVENT
DTSTART;TZID=America/Los_Angeles:20220228T184500
DTEND;TZID=America/Los_Angeles:20220228T200000
DTSTAMP:20260420T051701
CREATED:20210823T072249Z
LAST-MODIFIED:20230209T204419Z
UID:10000631-1646073900-1646078400@streetlifeministries.org
SUMMARY:RWC Meal + Fellowship
DESCRIPTION:Street Life Ministries is a community-based non-profit that serves the homeless and at-risk population of the Mid-Peninsula. We build environments and relationships where community volunteers can provide food\, clothing\, housing referral\, addiction recovery\, and other personal support.
URL:https://streetlifeministries.org/event/rwc-meal-fellowship/2022-02-28/
LOCATION:RWC Meals + Fellowship\, 1300 Middlefield Road\, Redwood City\, 94063\, United States
END:VEVENT
BEGIN:VEVENT
DTSTART;TZID=America/Los_Angeles:20220225T184500
DTEND;TZID=America/Los_Angeles:20220225T200000
DTSTAMP:20260420T051701
CREATED:20210823T072249Z
LAST-MODIFIED:20230209T204419Z
UID:10000630-1645814700-1645819200@streetlifeministries.org
SUMMARY:RWC Meal + Fellowship
DESCRIPTION:Street Life Ministries is a community-based non-profit that serves the homeless and at-risk population of the Mid-Peninsula. We build environments and relationships where community volunteers can provide food\, clothing\, housing referral\, addiction recovery\, and other personal support.
URL:https://streetlifeministries.org/event/rwc-meal-fellowship/2022-02-25/
LOCATION:RWC Meals + Fellowship\, 1300 Middlefield Road\, Redwood City\, 94063\, United States
END:VEVENT
BEGIN:VEVENT
DTSTART;TZID=America/Los_Angeles:20220223T184500
DTEND;TZID=America/Los_Angeles:20220223T200000
DTSTAMP:20260420T051701
CREATED:20210823T072249Z
LAST-MODIFIED:20230209T204419Z
UID:10000629-1645641900-1645646400@streetlifeministries.org
SUMMARY:RWC Meal + Fellowship
DESCRIPTION:Street Life Ministries is a community-based non-profit that serves the homeless and at-risk population of the Mid-Peninsula. We build environments and relationships where community volunteers can provide food\, clothing\, housing referral\, addiction recovery\, and other personal support.
URL:https://streetlifeministries.org/event/rwc-meal-fellowship/2022-02-23/
LOCATION:RWC Meals + Fellowship\, 1300 Middlefield Road\, Redwood City\, 94063\, United States
END:VEVENT
BEGIN:VEVENT
DTSTART;TZID=America/Los_Angeles:20220221T184500
DTEND;TZID=America/Los_Angeles:20220221T200000
DTSTAMP:20260420T051701
CREATED:20210823T072249Z
LAST-MODIFIED:20230209T204419Z
UID:10000628-1645469100-1645473600@streetlifeministries.org
SUMMARY:RWC Meal + Fellowship
DESCRIPTION:Street Life Ministries is a community-based non-profit that serves the homeless and at-risk population of the Mid-Peninsula. We build environments and relationships where community volunteers can provide food\, clothing\, housing referral\, addiction recovery\, and other personal support.
URL:https://streetlifeministries.org/event/rwc-meal-fellowship/2022-02-21/
LOCATION:RWC Meals + Fellowship\, 1300 Middlefield Road\, Redwood City\, 94063\, United States
END:VEVENT
END:VCALENDAR