BEGIN:VCALENDAR
VERSION:2.0
PRODID:-//Street Life Ministries - ECPv6.15.20//NONSGML v1.0//EN
CALSCALE:GREGORIAN
METHOD:PUBLISH
X-WR-CALNAME:Street Life Ministries
X-ORIGINAL-URL:https://streetlifeministries.org
X-WR-CALDESC:Events for Street Life Ministries
REFRESH-INTERVAL;VALUE=DURATION:PT1H
X-Robots-Tag:noindex
X-PUBLISHED-TTL:PT1H
BEGIN:VTIMEZONE
TZID:America/Los_Angeles
BEGIN:DAYLIGHT
TZOFFSETFROM:-0800
TZOFFSETTO:-0700
TZNAME:PDT
DTSTART:20210314T100000
END:DAYLIGHT
BEGIN:STANDARD
TZOFFSETFROM:-0700
TZOFFSETTO:-0800
TZNAME:PST
DTSTART:20211107T090000
END:STANDARD
BEGIN:DAYLIGHT
TZOFFSETFROM:-0800
TZOFFSETTO:-0700
TZNAME:PDT
DTSTART:20220313T100000
END:DAYLIGHT
BEGIN:STANDARD
TZOFFSETFROM:-0700
TZOFFSETTO:-0800
TZNAME:PST
DTSTART:20221106T090000
END:STANDARD
BEGIN:DAYLIGHT
TZOFFSETFROM:-0800
TZOFFSETTO:-0700
TZNAME:PDT
DTSTART:20230312T100000
END:DAYLIGHT
BEGIN:STANDARD
TZOFFSETFROM:-0700
TZOFFSETTO:-0800
TZNAME:PST
DTSTART:20231105T090000
END:STANDARD
END:VTIMEZONE
BEGIN:VEVENT
DTSTART;TZID=America/Los_Angeles:20220819T184500
DTEND;TZID=America/Los_Angeles:20220819T200000
DTSTAMP:20260419T222522
CREATED:20210823T072249Z
LAST-MODIFIED:20230209T204419Z
UID:10000705-1660934700-1660939200@streetlifeministries.org
SUMMARY:RWC Meal + Fellowship
DESCRIPTION:Street Life Ministries is a community-based non-profit that serves the homeless and at-risk population of the Mid-Peninsula. We build environments and relationships where community volunteers can provide food\, clothing\, housing referral\, addiction recovery\, and other personal support.
URL:https://streetlifeministries.org/event/rwc-meal-fellowship/2022-08-19/
LOCATION:RWC Meals + Fellowship\, 1300 Middlefield Road\, Redwood City\, 94063\, United States
END:VEVENT
BEGIN:VEVENT
DTSTART;TZID=America/Los_Angeles:20220817T184500
DTEND;TZID=America/Los_Angeles:20220817T200000
DTSTAMP:20260419T222522
CREATED:20210823T072249Z
LAST-MODIFIED:20230209T204419Z
UID:10000704-1660761900-1660766400@streetlifeministries.org
SUMMARY:RWC Meal + Fellowship
DESCRIPTION:Street Life Ministries is a community-based non-profit that serves the homeless and at-risk population of the Mid-Peninsula. We build environments and relationships where community volunteers can provide food\, clothing\, housing referral\, addiction recovery\, and other personal support.
URL:https://streetlifeministries.org/event/rwc-meal-fellowship/2022-08-17/
LOCATION:RWC Meals + Fellowship\, 1300 Middlefield Road\, Redwood City\, 94063\, United States
END:VEVENT
BEGIN:VEVENT
DTSTART;TZID=America/Los_Angeles:20220815T184500
DTEND;TZID=America/Los_Angeles:20220815T200000
DTSTAMP:20260419T222522
CREATED:20210823T072249Z
LAST-MODIFIED:20230209T204419Z
UID:10000703-1660589100-1660593600@streetlifeministries.org
SUMMARY:RWC Meal + Fellowship
DESCRIPTION:Street Life Ministries is a community-based non-profit that serves the homeless and at-risk population of the Mid-Peninsula. We build environments and relationships where community volunteers can provide food\, clothing\, housing referral\, addiction recovery\, and other personal support.
URL:https://streetlifeministries.org/event/rwc-meal-fellowship/2022-08-15/
LOCATION:RWC Meals + Fellowship\, 1300 Middlefield Road\, Redwood City\, 94063\, United States
END:VEVENT
BEGIN:VEVENT
DTSTART;TZID=America/Los_Angeles:20220812T184500
DTEND;TZID=America/Los_Angeles:20220812T200000
DTSTAMP:20260419T222522
CREATED:20210823T072249Z
LAST-MODIFIED:20230209T204419Z
UID:10000702-1660329900-1660334400@streetlifeministries.org
SUMMARY:RWC Meal + Fellowship
DESCRIPTION:Street Life Ministries is a community-based non-profit that serves the homeless and at-risk population of the Mid-Peninsula. We build environments and relationships where community volunteers can provide food\, clothing\, housing referral\, addiction recovery\, and other personal support.
URL:https://streetlifeministries.org/event/rwc-meal-fellowship/2022-08-12/
LOCATION:RWC Meals + Fellowship\, 1300 Middlefield Road\, Redwood City\, 94063\, United States
END:VEVENT
BEGIN:VEVENT
DTSTART;TZID=America/Los_Angeles:20220810T184500
DTEND;TZID=America/Los_Angeles:20220810T200000
DTSTAMP:20260419T222522
CREATED:20210823T072249Z
LAST-MODIFIED:20230209T204419Z
UID:10000701-1660157100-1660161600@streetlifeministries.org
SUMMARY:RWC Meal + Fellowship
DESCRIPTION:Street Life Ministries is a community-based non-profit that serves the homeless and at-risk population of the Mid-Peninsula. We build environments and relationships where community volunteers can provide food\, clothing\, housing referral\, addiction recovery\, and other personal support.
URL:https://streetlifeministries.org/event/rwc-meal-fellowship/2022-08-10/
LOCATION:RWC Meals + Fellowship\, 1300 Middlefield Road\, Redwood City\, 94063\, United States
END:VEVENT
BEGIN:VEVENT
DTSTART;TZID=America/Los_Angeles:20220808T184500
DTEND;TZID=America/Los_Angeles:20220808T200000
DTSTAMP:20260419T222522
CREATED:20210823T072249Z
LAST-MODIFIED:20230209T204419Z
UID:10000700-1659984300-1659988800@streetlifeministries.org
SUMMARY:RWC Meal + Fellowship
DESCRIPTION:Street Life Ministries is a community-based non-profit that serves the homeless and at-risk population of the Mid-Peninsula. We build environments and relationships where community volunteers can provide food\, clothing\, housing referral\, addiction recovery\, and other personal support.
URL:https://streetlifeministries.org/event/rwc-meal-fellowship/2022-08-08/
LOCATION:RWC Meals + Fellowship\, 1300 Middlefield Road\, Redwood City\, 94063\, United States
END:VEVENT
BEGIN:VEVENT
DTSTART;TZID=America/Los_Angeles:20220805T184500
DTEND;TZID=America/Los_Angeles:20220805T200000
DTSTAMP:20260419T222522
CREATED:20210823T072249Z
LAST-MODIFIED:20230209T204419Z
UID:10000699-1659725100-1659729600@streetlifeministries.org
SUMMARY:RWC Meal + Fellowship
DESCRIPTION:Street Life Ministries is a community-based non-profit that serves the homeless and at-risk population of the Mid-Peninsula. We build environments and relationships where community volunteers can provide food\, clothing\, housing referral\, addiction recovery\, and other personal support.
URL:https://streetlifeministries.org/event/rwc-meal-fellowship/2022-08-05/
LOCATION:RWC Meals + Fellowship\, 1300 Middlefield Road\, Redwood City\, 94063\, United States
END:VEVENT
BEGIN:VEVENT
DTSTART;TZID=America/Los_Angeles:20220803T184500
DTEND;TZID=America/Los_Angeles:20220803T200000
DTSTAMP:20260419T222522
CREATED:20210823T072249Z
LAST-MODIFIED:20230209T204419Z
UID:10000698-1659552300-1659556800@streetlifeministries.org
SUMMARY:RWC Meal + Fellowship
DESCRIPTION:Street Life Ministries is a community-based non-profit that serves the homeless and at-risk population of the Mid-Peninsula. We build environments and relationships where community volunteers can provide food\, clothing\, housing referral\, addiction recovery\, and other personal support.
URL:https://streetlifeministries.org/event/rwc-meal-fellowship/2022-08-03/
LOCATION:RWC Meals + Fellowship\, 1300 Middlefield Road\, Redwood City\, 94063\, United States
END:VEVENT
BEGIN:VEVENT
DTSTART;TZID=America/Los_Angeles:20220801T184500
DTEND;TZID=America/Los_Angeles:20220801T200000
DTSTAMP:20260419T222522
CREATED:20210823T072249Z
LAST-MODIFIED:20230209T204419Z
UID:10000697-1659379500-1659384000@streetlifeministries.org
SUMMARY:RWC Meal + Fellowship
DESCRIPTION:Street Life Ministries is a community-based non-profit that serves the homeless and at-risk population of the Mid-Peninsula. We build environments and relationships where community volunteers can provide food\, clothing\, housing referral\, addiction recovery\, and other personal support.
URL:https://streetlifeministries.org/event/rwc-meal-fellowship/2022-08-01/
LOCATION:RWC Meals + Fellowship\, 1300 Middlefield Road\, Redwood City\, 94063\, United States
END:VEVENT
BEGIN:VEVENT
DTSTART;TZID=America/Los_Angeles:20220729T184500
DTEND;TZID=America/Los_Angeles:20220729T200000
DTSTAMP:20260419T222522
CREATED:20210823T072249Z
LAST-MODIFIED:20230209T204419Z
UID:10000696-1659120300-1659124800@streetlifeministries.org
SUMMARY:RWC Meal + Fellowship
DESCRIPTION:Street Life Ministries is a community-based non-profit that serves the homeless and at-risk population of the Mid-Peninsula. We build environments and relationships where community volunteers can provide food\, clothing\, housing referral\, addiction recovery\, and other personal support.
URL:https://streetlifeministries.org/event/rwc-meal-fellowship/2022-07-29/
LOCATION:RWC Meals + Fellowship\, 1300 Middlefield Road\, Redwood City\, 94063\, United States
END:VEVENT
BEGIN:VEVENT
DTSTART;TZID=America/Los_Angeles:20220727T184500
DTEND;TZID=America/Los_Angeles:20220727T200000
DTSTAMP:20260419T222522
CREATED:20210823T072249Z
LAST-MODIFIED:20230209T204419Z
UID:10000695-1658947500-1658952000@streetlifeministries.org
SUMMARY:RWC Meal + Fellowship
DESCRIPTION:Street Life Ministries is a community-based non-profit that serves the homeless and at-risk population of the Mid-Peninsula. We build environments and relationships where community volunteers can provide food\, clothing\, housing referral\, addiction recovery\, and other personal support.
URL:https://streetlifeministries.org/event/rwc-meal-fellowship/2022-07-27/
LOCATION:RWC Meals + Fellowship\, 1300 Middlefield Road\, Redwood City\, 94063\, United States
END:VEVENT
BEGIN:VEVENT
DTSTART;TZID=America/Los_Angeles:20220725T184500
DTEND;TZID=America/Los_Angeles:20220725T200000
DTSTAMP:20260419T222522
CREATED:20210823T072249Z
LAST-MODIFIED:20230209T204419Z
UID:10000694-1658774700-1658779200@streetlifeministries.org
SUMMARY:RWC Meal + Fellowship
DESCRIPTION:Street Life Ministries is a community-based non-profit that serves the homeless and at-risk population of the Mid-Peninsula. We build environments and relationships where community volunteers can provide food\, clothing\, housing referral\, addiction recovery\, and other personal support.
URL:https://streetlifeministries.org/event/rwc-meal-fellowship/2022-07-25/
LOCATION:RWC Meals + Fellowship\, 1300 Middlefield Road\, Redwood City\, 94063\, United States
END:VEVENT
BEGIN:VEVENT
DTSTART;TZID=America/Los_Angeles:20220722T184500
DTEND;TZID=America/Los_Angeles:20220722T200000
DTSTAMP:20260419T222522
CREATED:20210823T072249Z
LAST-MODIFIED:20230209T204419Z
UID:10000693-1658515500-1658520000@streetlifeministries.org
SUMMARY:RWC Meal + Fellowship
DESCRIPTION:Street Life Ministries is a community-based non-profit that serves the homeless and at-risk population of the Mid-Peninsula. We build environments and relationships where community volunteers can provide food\, clothing\, housing referral\, addiction recovery\, and other personal support.
URL:https://streetlifeministries.org/event/rwc-meal-fellowship/2022-07-22/
LOCATION:RWC Meals + Fellowship\, 1300 Middlefield Road\, Redwood City\, 94063\, United States
END:VEVENT
BEGIN:VEVENT
DTSTART;TZID=America/Los_Angeles:20220720T184500
DTEND;TZID=America/Los_Angeles:20220720T200000
DTSTAMP:20260419T222522
CREATED:20210823T072249Z
LAST-MODIFIED:20230209T204419Z
UID:10000692-1658342700-1658347200@streetlifeministries.org
SUMMARY:RWC Meal + Fellowship
DESCRIPTION:Street Life Ministries is a community-based non-profit that serves the homeless and at-risk population of the Mid-Peninsula. We build environments and relationships where community volunteers can provide food\, clothing\, housing referral\, addiction recovery\, and other personal support.
URL:https://streetlifeministries.org/event/rwc-meal-fellowship/2022-07-20/
LOCATION:RWC Meals + Fellowship\, 1300 Middlefield Road\, Redwood City\, 94063\, United States
END:VEVENT
BEGIN:VEVENT
DTSTART;TZID=America/Los_Angeles:20220718T184500
DTEND;TZID=America/Los_Angeles:20220718T200000
DTSTAMP:20260419T222522
CREATED:20210823T072249Z
LAST-MODIFIED:20230209T204419Z
UID:10000691-1658169900-1658174400@streetlifeministries.org
SUMMARY:RWC Meal + Fellowship
DESCRIPTION:Street Life Ministries is a community-based non-profit that serves the homeless and at-risk population of the Mid-Peninsula. We build environments and relationships where community volunteers can provide food\, clothing\, housing referral\, addiction recovery\, and other personal support.
URL:https://streetlifeministries.org/event/rwc-meal-fellowship/2022-07-18/
LOCATION:RWC Meals + Fellowship\, 1300 Middlefield Road\, Redwood City\, 94063\, United States
END:VEVENT
BEGIN:VEVENT
DTSTART;TZID=America/Los_Angeles:20220715T184500
DTEND;TZID=America/Los_Angeles:20220715T200000
DTSTAMP:20260419T222522
CREATED:20210823T072249Z
LAST-MODIFIED:20230209T204419Z
UID:10000690-1657910700-1657915200@streetlifeministries.org
SUMMARY:RWC Meal + Fellowship
DESCRIPTION:Street Life Ministries is a community-based non-profit that serves the homeless and at-risk population of the Mid-Peninsula. We build environments and relationships where community volunteers can provide food\, clothing\, housing referral\, addiction recovery\, and other personal support.
URL:https://streetlifeministries.org/event/rwc-meal-fellowship/2022-07-15/
LOCATION:RWC Meals + Fellowship\, 1300 Middlefield Road\, Redwood City\, 94063\, United States
END:VEVENT
BEGIN:VEVENT
DTSTART;TZID=America/Los_Angeles:20220713T184500
DTEND;TZID=America/Los_Angeles:20220713T200000
DTSTAMP:20260419T222522
CREATED:20210823T072249Z
LAST-MODIFIED:20230209T204419Z
UID:10000689-1657737900-1657742400@streetlifeministries.org
SUMMARY:RWC Meal + Fellowship
DESCRIPTION:Street Life Ministries is a community-based non-profit that serves the homeless and at-risk population of the Mid-Peninsula. We build environments and relationships where community volunteers can provide food\, clothing\, housing referral\, addiction recovery\, and other personal support.
URL:https://streetlifeministries.org/event/rwc-meal-fellowship/2022-07-13/
LOCATION:RWC Meals + Fellowship\, 1300 Middlefield Road\, Redwood City\, 94063\, United States
END:VEVENT
BEGIN:VEVENT
DTSTART;TZID=America/Los_Angeles:20220711T184500
DTEND;TZID=America/Los_Angeles:20220711T200000
DTSTAMP:20260419T222522
CREATED:20210823T072249Z
LAST-MODIFIED:20230209T204419Z
UID:10000688-1657565100-1657569600@streetlifeministries.org
SUMMARY:RWC Meal + Fellowship
DESCRIPTION:Street Life Ministries is a community-based non-profit that serves the homeless and at-risk population of the Mid-Peninsula. We build environments and relationships where community volunteers can provide food\, clothing\, housing referral\, addiction recovery\, and other personal support.
URL:https://streetlifeministries.org/event/rwc-meal-fellowship/2022-07-11/
LOCATION:RWC Meals + Fellowship\, 1300 Middlefield Road\, Redwood City\, 94063\, United States
END:VEVENT
BEGIN:VEVENT
DTSTART;TZID=America/Los_Angeles:20220708T184500
DTEND;TZID=America/Los_Angeles:20220708T200000
DTSTAMP:20260419T222522
CREATED:20210823T072249Z
LAST-MODIFIED:20230209T204419Z
UID:10000687-1657305900-1657310400@streetlifeministries.org
SUMMARY:RWC Meal + Fellowship
DESCRIPTION:Street Life Ministries is a community-based non-profit that serves the homeless and at-risk population of the Mid-Peninsula. We build environments and relationships where community volunteers can provide food\, clothing\, housing referral\, addiction recovery\, and other personal support.
URL:https://streetlifeministries.org/event/rwc-meal-fellowship/2022-07-08/
LOCATION:RWC Meals + Fellowship\, 1300 Middlefield Road\, Redwood City\, 94063\, United States
END:VEVENT
BEGIN:VEVENT
DTSTART;TZID=America/Los_Angeles:20220706T184500
DTEND;TZID=America/Los_Angeles:20220706T200000
DTSTAMP:20260419T222522
CREATED:20210823T072249Z
LAST-MODIFIED:20230209T204419Z
UID:10000686-1657133100-1657137600@streetlifeministries.org
SUMMARY:RWC Meal + Fellowship
DESCRIPTION:Street Life Ministries is a community-based non-profit that serves the homeless and at-risk population of the Mid-Peninsula. We build environments and relationships where community volunteers can provide food\, clothing\, housing referral\, addiction recovery\, and other personal support.
URL:https://streetlifeministries.org/event/rwc-meal-fellowship/2022-07-06/
LOCATION:RWC Meals + Fellowship\, 1300 Middlefield Road\, Redwood City\, 94063\, United States
END:VEVENT
BEGIN:VEVENT
DTSTART;TZID=America/Los_Angeles:20220704T184500
DTEND;TZID=America/Los_Angeles:20220704T200000
DTSTAMP:20260419T222522
CREATED:20210823T072249Z
LAST-MODIFIED:20230209T204419Z
UID:10000685-1656960300-1656964800@streetlifeministries.org
SUMMARY:RWC Meal + Fellowship
DESCRIPTION:Street Life Ministries is a community-based non-profit that serves the homeless and at-risk population of the Mid-Peninsula. We build environments and relationships where community volunteers can provide food\, clothing\, housing referral\, addiction recovery\, and other personal support.
URL:https://streetlifeministries.org/event/rwc-meal-fellowship/2022-07-04/
LOCATION:RWC Meals + Fellowship\, 1300 Middlefield Road\, Redwood City\, 94063\, United States
END:VEVENT
BEGIN:VEVENT
DTSTART;TZID=America/Los_Angeles:20220701T184500
DTEND;TZID=America/Los_Angeles:20220701T200000
DTSTAMP:20260419T222522
CREATED:20210823T072249Z
LAST-MODIFIED:20230209T204419Z
UID:10000684-1656701100-1656705600@streetlifeministries.org
SUMMARY:RWC Meal + Fellowship
DESCRIPTION:Street Life Ministries is a community-based non-profit that serves the homeless and at-risk population of the Mid-Peninsula. We build environments and relationships where community volunteers can provide food\, clothing\, housing referral\, addiction recovery\, and other personal support.
URL:https://streetlifeministries.org/event/rwc-meal-fellowship/2022-07-01/
LOCATION:RWC Meals + Fellowship\, 1300 Middlefield Road\, Redwood City\, 94063\, United States
END:VEVENT
BEGIN:VEVENT
DTSTART;TZID=America/Los_Angeles:20220629T184500
DTEND;TZID=America/Los_Angeles:20220629T200000
DTSTAMP:20260419T222522
CREATED:20210823T072249Z
LAST-MODIFIED:20230209T204419Z
UID:10000683-1656528300-1656532800@streetlifeministries.org
SUMMARY:RWC Meal + Fellowship
DESCRIPTION:Street Life Ministries is a community-based non-profit that serves the homeless and at-risk population of the Mid-Peninsula. We build environments and relationships where community volunteers can provide food\, clothing\, housing referral\, addiction recovery\, and other personal support.
URL:https://streetlifeministries.org/event/rwc-meal-fellowship/2022-06-29/
LOCATION:RWC Meals + Fellowship\, 1300 Middlefield Road\, Redwood City\, 94063\, United States
END:VEVENT
BEGIN:VEVENT
DTSTART;TZID=America/Los_Angeles:20220627T184500
DTEND;TZID=America/Los_Angeles:20220627T200000
DTSTAMP:20260419T222522
CREATED:20210823T072249Z
LAST-MODIFIED:20230209T204419Z
UID:10000682-1656355500-1656360000@streetlifeministries.org
SUMMARY:RWC Meal + Fellowship
DESCRIPTION:Street Life Ministries is a community-based non-profit that serves the homeless and at-risk population of the Mid-Peninsula. We build environments and relationships where community volunteers can provide food\, clothing\, housing referral\, addiction recovery\, and other personal support.
URL:https://streetlifeministries.org/event/rwc-meal-fellowship/2022-06-27/
LOCATION:RWC Meals + Fellowship\, 1300 Middlefield Road\, Redwood City\, 94063\, United States
END:VEVENT
BEGIN:VEVENT
DTSTART;TZID=America/Los_Angeles:20220624T184500
DTEND;TZID=America/Los_Angeles:20220624T200000
DTSTAMP:20260419T222522
CREATED:20210823T072249Z
LAST-MODIFIED:20230209T204419Z
UID:10000681-1656096300-1656100800@streetlifeministries.org
SUMMARY:RWC Meal + Fellowship
DESCRIPTION:Street Life Ministries is a community-based non-profit that serves the homeless and at-risk population of the Mid-Peninsula. We build environments and relationships where community volunteers can provide food\, clothing\, housing referral\, addiction recovery\, and other personal support.
URL:https://streetlifeministries.org/event/rwc-meal-fellowship/2022-06-24/
LOCATION:RWC Meals + Fellowship\, 1300 Middlefield Road\, Redwood City\, 94063\, United States
END:VEVENT
BEGIN:VEVENT
DTSTART;TZID=America/Los_Angeles:20220622T184500
DTEND;TZID=America/Los_Angeles:20220622T200000
DTSTAMP:20260419T222522
CREATED:20210823T072249Z
LAST-MODIFIED:20230209T204419Z
UID:10000680-1655923500-1655928000@streetlifeministries.org
SUMMARY:RWC Meal + Fellowship
DESCRIPTION:Street Life Ministries is a community-based non-profit that serves the homeless and at-risk population of the Mid-Peninsula. We build environments and relationships where community volunteers can provide food\, clothing\, housing referral\, addiction recovery\, and other personal support.
URL:https://streetlifeministries.org/event/rwc-meal-fellowship/2022-06-22/
LOCATION:RWC Meals + Fellowship\, 1300 Middlefield Road\, Redwood City\, 94063\, United States
END:VEVENT
BEGIN:VEVENT
DTSTART;TZID=America/Los_Angeles:20220620T184500
DTEND;TZID=America/Los_Angeles:20220620T200000
DTSTAMP:20260419T222522
CREATED:20210823T072249Z
LAST-MODIFIED:20230209T204419Z
UID:10000679-1655750700-1655755200@streetlifeministries.org
SUMMARY:RWC Meal + Fellowship
DESCRIPTION:Street Life Ministries is a community-based non-profit that serves the homeless and at-risk population of the Mid-Peninsula. We build environments and relationships where community volunteers can provide food\, clothing\, housing referral\, addiction recovery\, and other personal support.
URL:https://streetlifeministries.org/event/rwc-meal-fellowship/2022-06-20/
LOCATION:RWC Meals + Fellowship\, 1300 Middlefield Road\, Redwood City\, 94063\, United States
END:VEVENT
BEGIN:VEVENT
DTSTART;TZID=America/Los_Angeles:20220617T184500
DTEND;TZID=America/Los_Angeles:20220617T200000
DTSTAMP:20260419T222522
CREATED:20210823T072249Z
LAST-MODIFIED:20230209T204419Z
UID:10000678-1655491500-1655496000@streetlifeministries.org
SUMMARY:RWC Meal + Fellowship
DESCRIPTION:Street Life Ministries is a community-based non-profit that serves the homeless and at-risk population of the Mid-Peninsula. We build environments and relationships where community volunteers can provide food\, clothing\, housing referral\, addiction recovery\, and other personal support.
URL:https://streetlifeministries.org/event/rwc-meal-fellowship/2022-06-17/
LOCATION:RWC Meals + Fellowship\, 1300 Middlefield Road\, Redwood City\, 94063\, United States
END:VEVENT
BEGIN:VEVENT
DTSTART;TZID=America/Los_Angeles:20220615T184500
DTEND;TZID=America/Los_Angeles:20220615T200000
DTSTAMP:20260419T222522
CREATED:20210823T072249Z
LAST-MODIFIED:20230209T204419Z
UID:10000677-1655318700-1655323200@streetlifeministries.org
SUMMARY:RWC Meal + Fellowship
DESCRIPTION:Street Life Ministries is a community-based non-profit that serves the homeless and at-risk population of the Mid-Peninsula. We build environments and relationships where community volunteers can provide food\, clothing\, housing referral\, addiction recovery\, and other personal support.
URL:https://streetlifeministries.org/event/rwc-meal-fellowship/2022-06-15/
LOCATION:RWC Meals + Fellowship\, 1300 Middlefield Road\, Redwood City\, 94063\, United States
END:VEVENT
BEGIN:VEVENT
DTSTART;TZID=America/Los_Angeles:20220613T184500
DTEND;TZID=America/Los_Angeles:20220613T200000
DTSTAMP:20260419T222522
CREATED:20210823T072249Z
LAST-MODIFIED:20230209T204419Z
UID:10000676-1655145900-1655150400@streetlifeministries.org
SUMMARY:RWC Meal + Fellowship
DESCRIPTION:Street Life Ministries is a community-based non-profit that serves the homeless and at-risk population of the Mid-Peninsula. We build environments and relationships where community volunteers can provide food\, clothing\, housing referral\, addiction recovery\, and other personal support.
URL:https://streetlifeministries.org/event/rwc-meal-fellowship/2022-06-13/
LOCATION:RWC Meals + Fellowship\, 1300 Middlefield Road\, Redwood City\, 94063\, United States
END:VEVENT
END:VCALENDAR