BEGIN:VCALENDAR
VERSION:2.0
PRODID:-//Street Life Ministries - ECPv6.15.20//NONSGML v1.0//EN
CALSCALE:GREGORIAN
METHOD:PUBLISH
X-ORIGINAL-URL:https://streetlifeministries.org
X-WR-CALDESC:Events for Street Life Ministries
REFRESH-INTERVAL;VALUE=DURATION:PT1H
X-Robots-Tag:noindex
X-PUBLISHED-TTL:PT1H
BEGIN:VTIMEZONE
TZID:America/Los_Angeles
BEGIN:DAYLIGHT
TZOFFSETFROM:-0800
TZOFFSETTO:-0700
TZNAME:PDT
DTSTART:20240310T100000
END:DAYLIGHT
BEGIN:STANDARD
TZOFFSETFROM:-0700
TZOFFSETTO:-0800
TZNAME:PST
DTSTART:20241103T090000
END:STANDARD
BEGIN:DAYLIGHT
TZOFFSETFROM:-0800
TZOFFSETTO:-0700
TZNAME:PDT
DTSTART:20250309T100000
END:DAYLIGHT
BEGIN:STANDARD
TZOFFSETFROM:-0700
TZOFFSETTO:-0800
TZNAME:PST
DTSTART:20251102T090000
END:STANDARD
BEGIN:DAYLIGHT
TZOFFSETFROM:-0800
TZOFFSETTO:-0700
TZNAME:PDT
DTSTART:20260308T100000
END:DAYLIGHT
BEGIN:STANDARD
TZOFFSETFROM:-0700
TZOFFSETTO:-0800
TZNAME:PST
DTSTART:20261101T090000
END:STANDARD
BEGIN:DAYLIGHT
TZOFFSETFROM:-0800
TZOFFSETTO:-0700
TZNAME:PDT
DTSTART:20270314T100000
END:DAYLIGHT
BEGIN:STANDARD
TZOFFSETFROM:-0700
TZOFFSETTO:-0800
TZNAME:PST
DTSTART:20271107T090000
END:STANDARD
END:VTIMEZONE
BEGIN:VEVENT
DTSTART;TZID=America/Los_Angeles:20260123T184500
DTEND;TZID=America/Los_Angeles:20260123T200000
DTSTAMP:20260419T193300
CREATED:20250624T175118Z
LAST-MODIFIED:20250624T175118Z
UID:10001785-1769193900-1769198400@streetlifeministries.org
SUMMARY:RWC Meals & Fellowship
DESCRIPTION:
URL:https://streetlifeministries.org/event/rwc-meals-fellowship-2/2026-01-23/
LOCATION:RWC Meals + Fellowship\, 1300 Middlefield Road\, Redwood City\, 94063\, United States
END:VEVENT
BEGIN:VEVENT
DTSTART;TZID=America/Los_Angeles:20260121T184500
DTEND;TZID=America/Los_Angeles:20260121T200000
DTSTAMP:20260419T193300
CREATED:20250624T175118Z
LAST-MODIFIED:20250624T175118Z
UID:10001784-1769021100-1769025600@streetlifeministries.org
SUMMARY:RWC Meals & Fellowship
DESCRIPTION:
URL:https://streetlifeministries.org/event/rwc-meals-fellowship-2/2026-01-21/
LOCATION:RWC Meals + Fellowship\, 1300 Middlefield Road\, Redwood City\, 94063\, United States
END:VEVENT
BEGIN:VEVENT
DTSTART;TZID=America/Los_Angeles:20260119T184500
DTEND;TZID=America/Los_Angeles:20260119T200000
DTSTAMP:20260419T193300
CREATED:20250624T175118Z
LAST-MODIFIED:20250624T175118Z
UID:10001783-1768848300-1768852800@streetlifeministries.org
SUMMARY:RWC Meals & Fellowship
DESCRIPTION:
URL:https://streetlifeministries.org/event/rwc-meals-fellowship-2/2026-01-19/
LOCATION:RWC Meals + Fellowship\, 1300 Middlefield Road\, Redwood City\, 94063\, United States
END:VEVENT
BEGIN:VEVENT
DTSTART;TZID=America/Los_Angeles:20260116T184500
DTEND;TZID=America/Los_Angeles:20260116T200000
DTSTAMP:20260419T193300
CREATED:20250624T175118Z
LAST-MODIFIED:20250624T175118Z
UID:10001782-1768589100-1768593600@streetlifeministries.org
SUMMARY:RWC Meals & Fellowship
DESCRIPTION:
URL:https://streetlifeministries.org/event/rwc-meals-fellowship-2/2026-01-16/
LOCATION:RWC Meals + Fellowship\, 1300 Middlefield Road\, Redwood City\, 94063\, United States
END:VEVENT
BEGIN:VEVENT
DTSTART;TZID=America/Los_Angeles:20260114T184500
DTEND;TZID=America/Los_Angeles:20260114T200000
DTSTAMP:20260419T193300
CREATED:20250624T175118Z
LAST-MODIFIED:20250624T175118Z
UID:10001781-1768416300-1768420800@streetlifeministries.org
SUMMARY:RWC Meals & Fellowship
DESCRIPTION:
URL:https://streetlifeministries.org/event/rwc-meals-fellowship-2/2026-01-14/
LOCATION:RWC Meals + Fellowship\, 1300 Middlefield Road\, Redwood City\, 94063\, United States
END:VEVENT
BEGIN:VEVENT
DTSTART;TZID=America/Los_Angeles:20260112T184500
DTEND;TZID=America/Los_Angeles:20260112T200000
DTSTAMP:20260419T193300
CREATED:20250624T175118Z
LAST-MODIFIED:20250624T175118Z
UID:10001780-1768243500-1768248000@streetlifeministries.org
SUMMARY:RWC Meals & Fellowship
DESCRIPTION:
URL:https://streetlifeministries.org/event/rwc-meals-fellowship-2/2026-01-12/
LOCATION:RWC Meals + Fellowship\, 1300 Middlefield Road\, Redwood City\, 94063\, United States
END:VEVENT
BEGIN:VEVENT
DTSTART;TZID=America/Los_Angeles:20260109T184500
DTEND;TZID=America/Los_Angeles:20260109T200000
DTSTAMP:20260419T193300
CREATED:20250624T175118Z
LAST-MODIFIED:20250624T175118Z
UID:10001779-1767984300-1767988800@streetlifeministries.org
SUMMARY:RWC Meals & Fellowship
DESCRIPTION:
URL:https://streetlifeministries.org/event/rwc-meals-fellowship-2/2026-01-09/
LOCATION:RWC Meals + Fellowship\, 1300 Middlefield Road\, Redwood City\, 94063\, United States
END:VEVENT
BEGIN:VEVENT
DTSTART;TZID=America/Los_Angeles:20260107T184500
DTEND;TZID=America/Los_Angeles:20260107T200000
DTSTAMP:20260419T193300
CREATED:20250624T175118Z
LAST-MODIFIED:20250624T175118Z
UID:10001778-1767811500-1767816000@streetlifeministries.org
SUMMARY:RWC Meals & Fellowship
DESCRIPTION:
URL:https://streetlifeministries.org/event/rwc-meals-fellowship-2/2026-01-07/
LOCATION:RWC Meals + Fellowship\, 1300 Middlefield Road\, Redwood City\, 94063\, United States
END:VEVENT
BEGIN:VEVENT
DTSTART;TZID=America/Los_Angeles:20260105T184500
DTEND;TZID=America/Los_Angeles:20260105T200000
DTSTAMP:20260419T193300
CREATED:20250624T175118Z
LAST-MODIFIED:20250624T175118Z
UID:10001777-1767638700-1767643200@streetlifeministries.org
SUMMARY:RWC Meals & Fellowship
DESCRIPTION:
URL:https://streetlifeministries.org/event/rwc-meals-fellowship-2/2026-01-05/
LOCATION:RWC Meals + Fellowship\, 1300 Middlefield Road\, Redwood City\, 94063\, United States
END:VEVENT
BEGIN:VEVENT
DTSTART;TZID=America/Los_Angeles:20260102T184500
DTEND;TZID=America/Los_Angeles:20260102T200000
DTSTAMP:20260419T193300
CREATED:20250624T175118Z
LAST-MODIFIED:20250624T175118Z
UID:10001776-1767379500-1767384000@streetlifeministries.org
SUMMARY:RWC Meals & Fellowship
DESCRIPTION:
URL:https://streetlifeministries.org/event/rwc-meals-fellowship-2/2026-01-02/
LOCATION:RWC Meals + Fellowship\, 1300 Middlefield Road\, Redwood City\, 94063\, United States
END:VEVENT
BEGIN:VEVENT
DTSTART;TZID=America/Los_Angeles:20251231T184500
DTEND;TZID=America/Los_Angeles:20251231T200000
DTSTAMP:20260419T193300
CREATED:20250624T175118Z
LAST-MODIFIED:20250624T175118Z
UID:10001775-1767206700-1767211200@streetlifeministries.org
SUMMARY:RWC Meals & Fellowship
DESCRIPTION:
URL:https://streetlifeministries.org/event/rwc-meals-fellowship-2/2025-12-31/
LOCATION:RWC Meals + Fellowship\, 1300 Middlefield Road\, Redwood City\, 94063\, United States
END:VEVENT
BEGIN:VEVENT
DTSTART;TZID=America/Los_Angeles:20251229T184500
DTEND;TZID=America/Los_Angeles:20251229T200000
DTSTAMP:20260419T193300
CREATED:20250624T175118Z
LAST-MODIFIED:20250624T175118Z
UID:10001774-1767033900-1767038400@streetlifeministries.org
SUMMARY:RWC Meals & Fellowship
DESCRIPTION:
URL:https://streetlifeministries.org/event/rwc-meals-fellowship-2/2025-12-29/
LOCATION:RWC Meals + Fellowship\, 1300 Middlefield Road\, Redwood City\, 94063\, United States
END:VEVENT
BEGIN:VEVENT
DTSTART;TZID=America/Los_Angeles:20251226T184500
DTEND;TZID=America/Los_Angeles:20251226T200000
DTSTAMP:20260419T193300
CREATED:20250624T175118Z
LAST-MODIFIED:20250624T175118Z
UID:10001773-1766774700-1766779200@streetlifeministries.org
SUMMARY:RWC Meals & Fellowship
DESCRIPTION:
URL:https://streetlifeministries.org/event/rwc-meals-fellowship-2/2025-12-26/
LOCATION:RWC Meals + Fellowship\, 1300 Middlefield Road\, Redwood City\, 94063\, United States
END:VEVENT
BEGIN:VEVENT
DTSTART;TZID=America/Los_Angeles:20251224T184500
DTEND;TZID=America/Los_Angeles:20251224T200000
DTSTAMP:20260419T193300
CREATED:20250624T175118Z
LAST-MODIFIED:20250624T175118Z
UID:10001772-1766601900-1766606400@streetlifeministries.org
SUMMARY:RWC Meals & Fellowship
DESCRIPTION:
URL:https://streetlifeministries.org/event/rwc-meals-fellowship-2/2025-12-24/
LOCATION:RWC Meals + Fellowship\, 1300 Middlefield Road\, Redwood City\, 94063\, United States
END:VEVENT
BEGIN:VEVENT
DTSTART;TZID=America/Los_Angeles:20251222T184500
DTEND;TZID=America/Los_Angeles:20251222T200000
DTSTAMP:20260419T193300
CREATED:20250624T175118Z
LAST-MODIFIED:20250624T175118Z
UID:10001771-1766429100-1766433600@streetlifeministries.org
SUMMARY:RWC Meals & Fellowship
DESCRIPTION:
URL:https://streetlifeministries.org/event/rwc-meals-fellowship-2/2025-12-22/
LOCATION:RWC Meals + Fellowship\, 1300 Middlefield Road\, Redwood City\, 94063\, United States
END:VEVENT
BEGIN:VEVENT
DTSTART;TZID=America/Los_Angeles:20251219T184500
DTEND;TZID=America/Los_Angeles:20251219T200000
DTSTAMP:20260419T193300
CREATED:20250624T175118Z
LAST-MODIFIED:20250624T175118Z
UID:10001770-1766169900-1766174400@streetlifeministries.org
SUMMARY:RWC Meals & Fellowship
DESCRIPTION:
URL:https://streetlifeministries.org/event/rwc-meals-fellowship-2/2025-12-19/
LOCATION:RWC Meals + Fellowship\, 1300 Middlefield Road\, Redwood City\, 94063\, United States
END:VEVENT
BEGIN:VEVENT
DTSTART;TZID=America/Los_Angeles:20251217T184500
DTEND;TZID=America/Los_Angeles:20251217T200000
DTSTAMP:20260419T193300
CREATED:20250624T175118Z
LAST-MODIFIED:20250624T175118Z
UID:10001769-1765997100-1766001600@streetlifeministries.org
SUMMARY:RWC Meals & Fellowship
DESCRIPTION:
URL:https://streetlifeministries.org/event/rwc-meals-fellowship-2/2025-12-17/
LOCATION:RWC Meals + Fellowship\, 1300 Middlefield Road\, Redwood City\, 94063\, United States
END:VEVENT
BEGIN:VEVENT
DTSTART;TZID=America/Los_Angeles:20251215T184500
DTEND;TZID=America/Los_Angeles:20251215T200000
DTSTAMP:20260419T193300
CREATED:20250624T175118Z
LAST-MODIFIED:20250624T175118Z
UID:10001768-1765824300-1765828800@streetlifeministries.org
SUMMARY:RWC Meals & Fellowship
DESCRIPTION:
URL:https://streetlifeministries.org/event/rwc-meals-fellowship-2/2025-12-15/
LOCATION:RWC Meals + Fellowship\, 1300 Middlefield Road\, Redwood City\, 94063\, United States
END:VEVENT
BEGIN:VEVENT
DTSTART;TZID=America/Los_Angeles:20251212T184500
DTEND;TZID=America/Los_Angeles:20251212T200000
DTSTAMP:20260419T193300
CREATED:20250624T175118Z
LAST-MODIFIED:20250624T175118Z
UID:10001767-1765565100-1765569600@streetlifeministries.org
SUMMARY:RWC Meals & Fellowship
DESCRIPTION:
URL:https://streetlifeministries.org/event/rwc-meals-fellowship-2/2025-12-12/
LOCATION:RWC Meals + Fellowship\, 1300 Middlefield Road\, Redwood City\, 94063\, United States
END:VEVENT
BEGIN:VEVENT
DTSTART;TZID=America/Los_Angeles:20251210T184500
DTEND;TZID=America/Los_Angeles:20251210T200000
DTSTAMP:20260419T193300
CREATED:20250624T175118Z
LAST-MODIFIED:20250624T175118Z
UID:10001766-1765392300-1765396800@streetlifeministries.org
SUMMARY:RWC Meals & Fellowship
DESCRIPTION:
URL:https://streetlifeministries.org/event/rwc-meals-fellowship-2/2025-12-10/
LOCATION:RWC Meals + Fellowship\, 1300 Middlefield Road\, Redwood City\, 94063\, United States
END:VEVENT
BEGIN:VEVENT
DTSTART;TZID=America/Los_Angeles:20251208T184500
DTEND;TZID=America/Los_Angeles:20251208T200000
DTSTAMP:20260419T193300
CREATED:20250624T175118Z
LAST-MODIFIED:20250624T175118Z
UID:10001765-1765219500-1765224000@streetlifeministries.org
SUMMARY:RWC Meals & Fellowship
DESCRIPTION:
URL:https://streetlifeministries.org/event/rwc-meals-fellowship-2/2025-12-08/
LOCATION:RWC Meals + Fellowship\, 1300 Middlefield Road\, Redwood City\, 94063\, United States
END:VEVENT
BEGIN:VEVENT
DTSTART;TZID=America/Los_Angeles:20251205T184500
DTEND;TZID=America/Los_Angeles:20251205T200000
DTSTAMP:20260419T193300
CREATED:20250624T175118Z
LAST-MODIFIED:20250624T175118Z
UID:10001764-1764960300-1764964800@streetlifeministries.org
SUMMARY:RWC Meals & Fellowship
DESCRIPTION:
URL:https://streetlifeministries.org/event/rwc-meals-fellowship-2/2025-12-05/
LOCATION:RWC Meals + Fellowship\, 1300 Middlefield Road\, Redwood City\, 94063\, United States
END:VEVENT
BEGIN:VEVENT
DTSTART;TZID=America/Los_Angeles:20251203T184500
DTEND;TZID=America/Los_Angeles:20251203T200000
DTSTAMP:20260419T193300
CREATED:20250624T175118Z
LAST-MODIFIED:20250624T175118Z
UID:10001763-1764787500-1764792000@streetlifeministries.org
SUMMARY:RWC Meals & Fellowship
DESCRIPTION:
URL:https://streetlifeministries.org/event/rwc-meals-fellowship-2/2025-12-03/
LOCATION:RWC Meals + Fellowship\, 1300 Middlefield Road\, Redwood City\, 94063\, United States
END:VEVENT
BEGIN:VEVENT
DTSTART;TZID=America/Los_Angeles:20251201T184500
DTEND;TZID=America/Los_Angeles:20251201T200000
DTSTAMP:20260419T193300
CREATED:20250624T175118Z
LAST-MODIFIED:20250624T175118Z
UID:10001762-1764614700-1764619200@streetlifeministries.org
SUMMARY:RWC Meals & Fellowship
DESCRIPTION:
URL:https://streetlifeministries.org/event/rwc-meals-fellowship-2/2025-12-01/
LOCATION:RWC Meals + Fellowship\, 1300 Middlefield Road\, Redwood City\, 94063\, United States
END:VEVENT
BEGIN:VEVENT
DTSTART;TZID=America/Los_Angeles:20251128T184500
DTEND;TZID=America/Los_Angeles:20251128T200000
DTSTAMP:20260419T193300
CREATED:20250624T175118Z
LAST-MODIFIED:20250624T175118Z
UID:10001761-1764355500-1764360000@streetlifeministries.org
SUMMARY:RWC Meals & Fellowship
DESCRIPTION:
URL:https://streetlifeministries.org/event/rwc-meals-fellowship-2/2025-11-28/
LOCATION:RWC Meals + Fellowship\, 1300 Middlefield Road\, Redwood City\, 94063\, United States
END:VEVENT
BEGIN:VEVENT
DTSTART;TZID=America/Los_Angeles:20251126T184500
DTEND;TZID=America/Los_Angeles:20251126T200000
DTSTAMP:20260419T193300
CREATED:20250624T175118Z
LAST-MODIFIED:20250624T175118Z
UID:10001760-1764182700-1764187200@streetlifeministries.org
SUMMARY:RWC Meals & Fellowship
DESCRIPTION:
URL:https://streetlifeministries.org/event/rwc-meals-fellowship-2/2025-11-26/
LOCATION:RWC Meals + Fellowship\, 1300 Middlefield Road\, Redwood City\, 94063\, United States
END:VEVENT
BEGIN:VEVENT
DTSTART;TZID=America/Los_Angeles:20251124T184500
DTEND;TZID=America/Los_Angeles:20251124T200000
DTSTAMP:20260419T193300
CREATED:20250624T175118Z
LAST-MODIFIED:20250624T175118Z
UID:10001759-1764009900-1764014400@streetlifeministries.org
SUMMARY:RWC Meals & Fellowship
DESCRIPTION:
URL:https://streetlifeministries.org/event/rwc-meals-fellowship-2/2025-11-24/
LOCATION:RWC Meals + Fellowship\, 1300 Middlefield Road\, Redwood City\, 94063\, United States
END:VEVENT
BEGIN:VEVENT
DTSTART;TZID=America/Los_Angeles:20251121T184500
DTEND;TZID=America/Los_Angeles:20251121T200000
DTSTAMP:20260419T193300
CREATED:20250624T175118Z
LAST-MODIFIED:20250624T175118Z
UID:10001758-1763750700-1763755200@streetlifeministries.org
SUMMARY:RWC Meals & Fellowship
DESCRIPTION:
URL:https://streetlifeministries.org/event/rwc-meals-fellowship-2/2025-11-21/
LOCATION:RWC Meals + Fellowship\, 1300 Middlefield Road\, Redwood City\, 94063\, United States
END:VEVENT
BEGIN:VEVENT
DTSTART;TZID=America/Los_Angeles:20251119T184500
DTEND;TZID=America/Los_Angeles:20251119T200000
DTSTAMP:20260419T193300
CREATED:20250624T175118Z
LAST-MODIFIED:20250624T175118Z
UID:10001757-1763577900-1763582400@streetlifeministries.org
SUMMARY:RWC Meals & Fellowship
DESCRIPTION:
URL:https://streetlifeministries.org/event/rwc-meals-fellowship-2/2025-11-19/
LOCATION:RWC Meals + Fellowship\, 1300 Middlefield Road\, Redwood City\, 94063\, United States
END:VEVENT
BEGIN:VEVENT
DTSTART;TZID=America/Los_Angeles:20251117T184500
DTEND;TZID=America/Los_Angeles:20251117T200000
DTSTAMP:20260419T193300
CREATED:20250624T175118Z
LAST-MODIFIED:20250624T175118Z
UID:10001756-1763405100-1763409600@streetlifeministries.org
SUMMARY:RWC Meals & Fellowship
DESCRIPTION:
URL:https://streetlifeministries.org/event/rwc-meals-fellowship-2/2025-11-17/
LOCATION:RWC Meals + Fellowship\, 1300 Middlefield Road\, Redwood City\, 94063\, United States
END:VEVENT
END:VCALENDAR