BEGIN:VCALENDAR
VERSION:2.0
PRODID:-//Street Life Ministries - ECPv6.15.20//NONSGML v1.0//EN
CALSCALE:GREGORIAN
METHOD:PUBLISH
X-WR-CALNAME:Street Life Ministries
X-ORIGINAL-URL:https://streetlifeministries.org
X-WR-CALDESC:Events for Street Life Ministries
REFRESH-INTERVAL;VALUE=DURATION:PT1H
X-Robots-Tag:noindex
X-PUBLISHED-TTL:PT1H
BEGIN:VTIMEZONE
TZID:America/Los_Angeles
BEGIN:DAYLIGHT
TZOFFSETFROM:-0800
TZOFFSETTO:-0700
TZNAME:PDT
DTSTART:20250309T100000
END:DAYLIGHT
BEGIN:STANDARD
TZOFFSETFROM:-0700
TZOFFSETTO:-0800
TZNAME:PST
DTSTART:20251102T090000
END:STANDARD
BEGIN:DAYLIGHT
TZOFFSETFROM:-0800
TZOFFSETTO:-0700
TZNAME:PDT
DTSTART:20260308T100000
END:DAYLIGHT
BEGIN:STANDARD
TZOFFSETFROM:-0700
TZOFFSETTO:-0800
TZNAME:PST
DTSTART:20261101T090000
END:STANDARD
BEGIN:DAYLIGHT
TZOFFSETFROM:-0800
TZOFFSETTO:-0700
TZNAME:PDT
DTSTART:20270314T100000
END:DAYLIGHT
BEGIN:STANDARD
TZOFFSETFROM:-0700
TZOFFSETTO:-0800
TZNAME:PST
DTSTART:20271107T090000
END:STANDARD
END:VTIMEZONE
BEGIN:VEVENT
DTSTART;TZID=America/Los_Angeles:20260417T184500
DTEND;TZID=America/Los_Angeles:20260417T200000
DTSTAMP:20260419T141435
CREATED:20250624T175118Z
LAST-MODIFIED:20250624T175118Z
UID:10001821-1776451500-1776456000@streetlifeministries.org
SUMMARY:RWC Meals & Fellowship
DESCRIPTION:
URL:https://streetlifeministries.org/event/rwc-meals-fellowship-2/2026-04-17/
LOCATION:RWC Meals + Fellowship\, 1300 Middlefield Road\, Redwood City\, 94063\, United States
END:VEVENT
BEGIN:VEVENT
DTSTART;TZID=America/Los_Angeles:20260415T184500
DTEND;TZID=America/Los_Angeles:20260415T200000
DTSTAMP:20260419T141435
CREATED:20250624T175118Z
LAST-MODIFIED:20250624T175118Z
UID:10001820-1776278700-1776283200@streetlifeministries.org
SUMMARY:RWC Meals & Fellowship
DESCRIPTION:
URL:https://streetlifeministries.org/event/rwc-meals-fellowship-2/2026-04-15/
LOCATION:RWC Meals + Fellowship\, 1300 Middlefield Road\, Redwood City\, 94063\, United States
END:VEVENT
BEGIN:VEVENT
DTSTART;TZID=America/Los_Angeles:20260413T184500
DTEND;TZID=America/Los_Angeles:20260413T200000
DTSTAMP:20260419T141435
CREATED:20250624T175118Z
LAST-MODIFIED:20250624T175118Z
UID:10001819-1776105900-1776110400@streetlifeministries.org
SUMMARY:RWC Meals & Fellowship
DESCRIPTION:
URL:https://streetlifeministries.org/event/rwc-meals-fellowship-2/2026-04-13/
LOCATION:RWC Meals + Fellowship\, 1300 Middlefield Road\, Redwood City\, 94063\, United States
END:VEVENT
BEGIN:VEVENT
DTSTART;TZID=America/Los_Angeles:20260410T184500
DTEND;TZID=America/Los_Angeles:20260410T200000
DTSTAMP:20260419T141435
CREATED:20250624T175118Z
LAST-MODIFIED:20250624T175118Z
UID:10001818-1775846700-1775851200@streetlifeministries.org
SUMMARY:RWC Meals & Fellowship
DESCRIPTION:
URL:https://streetlifeministries.org/event/rwc-meals-fellowship-2/2026-04-10/
LOCATION:RWC Meals + Fellowship\, 1300 Middlefield Road\, Redwood City\, 94063\, United States
END:VEVENT
BEGIN:VEVENT
DTSTART;TZID=America/Los_Angeles:20260408T184500
DTEND;TZID=America/Los_Angeles:20260408T200000
DTSTAMP:20260419T141435
CREATED:20250624T175118Z
LAST-MODIFIED:20250624T175118Z
UID:10001817-1775673900-1775678400@streetlifeministries.org
SUMMARY:RWC Meals & Fellowship
DESCRIPTION:
URL:https://streetlifeministries.org/event/rwc-meals-fellowship-2/2026-04-08/
LOCATION:RWC Meals + Fellowship\, 1300 Middlefield Road\, Redwood City\, 94063\, United States
END:VEVENT
BEGIN:VEVENT
DTSTART;TZID=America/Los_Angeles:20260406T184500
DTEND;TZID=America/Los_Angeles:20260406T200000
DTSTAMP:20260419T141435
CREATED:20250624T175118Z
LAST-MODIFIED:20250624T175118Z
UID:10001816-1775501100-1775505600@streetlifeministries.org
SUMMARY:RWC Meals & Fellowship
DESCRIPTION:
URL:https://streetlifeministries.org/event/rwc-meals-fellowship-2/2026-04-06/
LOCATION:RWC Meals + Fellowship\, 1300 Middlefield Road\, Redwood City\, 94063\, United States
END:VEVENT
BEGIN:VEVENT
DTSTART;TZID=America/Los_Angeles:20260403T184500
DTEND;TZID=America/Los_Angeles:20260403T200000
DTSTAMP:20260419T141435
CREATED:20250624T175118Z
LAST-MODIFIED:20250624T175118Z
UID:10001815-1775241900-1775246400@streetlifeministries.org
SUMMARY:RWC Meals & Fellowship
DESCRIPTION:
URL:https://streetlifeministries.org/event/rwc-meals-fellowship-2/2026-04-03/
LOCATION:RWC Meals + Fellowship\, 1300 Middlefield Road\, Redwood City\, 94063\, United States
END:VEVENT
BEGIN:VEVENT
DTSTART;TZID=America/Los_Angeles:20260401T184500
DTEND;TZID=America/Los_Angeles:20260401T200000
DTSTAMP:20260419T141435
CREATED:20250624T175118Z
LAST-MODIFIED:20250624T175118Z
UID:10001814-1775069100-1775073600@streetlifeministries.org
SUMMARY:RWC Meals & Fellowship
DESCRIPTION:
URL:https://streetlifeministries.org/event/rwc-meals-fellowship-2/2026-04-01/
LOCATION:RWC Meals + Fellowship\, 1300 Middlefield Road\, Redwood City\, 94063\, United States
END:VEVENT
BEGIN:VEVENT
DTSTART;TZID=America/Los_Angeles:20260330T184500
DTEND;TZID=America/Los_Angeles:20260330T200000
DTSTAMP:20260419T141435
CREATED:20250624T175118Z
LAST-MODIFIED:20250624T175118Z
UID:10001813-1774896300-1774900800@streetlifeministries.org
SUMMARY:RWC Meals & Fellowship
DESCRIPTION:
URL:https://streetlifeministries.org/event/rwc-meals-fellowship-2/2026-03-30/
LOCATION:RWC Meals + Fellowship\, 1300 Middlefield Road\, Redwood City\, 94063\, United States
END:VEVENT
BEGIN:VEVENT
DTSTART;TZID=America/Los_Angeles:20260327T184500
DTEND;TZID=America/Los_Angeles:20260327T200000
DTSTAMP:20260419T141435
CREATED:20250624T175118Z
LAST-MODIFIED:20250624T175118Z
UID:10001812-1774637100-1774641600@streetlifeministries.org
SUMMARY:RWC Meals & Fellowship
DESCRIPTION:
URL:https://streetlifeministries.org/event/rwc-meals-fellowship-2/2026-03-27/
LOCATION:RWC Meals + Fellowship\, 1300 Middlefield Road\, Redwood City\, 94063\, United States
END:VEVENT
BEGIN:VEVENT
DTSTART;TZID=America/Los_Angeles:20260325T184500
DTEND;TZID=America/Los_Angeles:20260325T200000
DTSTAMP:20260419T141435
CREATED:20250624T175118Z
LAST-MODIFIED:20250624T175118Z
UID:10001811-1774464300-1774468800@streetlifeministries.org
SUMMARY:RWC Meals & Fellowship
DESCRIPTION:
URL:https://streetlifeministries.org/event/rwc-meals-fellowship-2/2026-03-25/
LOCATION:RWC Meals + Fellowship\, 1300 Middlefield Road\, Redwood City\, 94063\, United States
END:VEVENT
BEGIN:VEVENT
DTSTART;TZID=America/Los_Angeles:20260323T184500
DTEND;TZID=America/Los_Angeles:20260323T200000
DTSTAMP:20260419T141435
CREATED:20250624T175118Z
LAST-MODIFIED:20250624T175118Z
UID:10001810-1774291500-1774296000@streetlifeministries.org
SUMMARY:RWC Meals & Fellowship
DESCRIPTION:
URL:https://streetlifeministries.org/event/rwc-meals-fellowship-2/2026-03-23/
LOCATION:RWC Meals + Fellowship\, 1300 Middlefield Road\, Redwood City\, 94063\, United States
END:VEVENT
BEGIN:VEVENT
DTSTART;TZID=America/Los_Angeles:20260320T184500
DTEND;TZID=America/Los_Angeles:20260320T200000
DTSTAMP:20260419T141435
CREATED:20250624T175118Z
LAST-MODIFIED:20250624T175118Z
UID:10001809-1774032300-1774036800@streetlifeministries.org
SUMMARY:RWC Meals & Fellowship
DESCRIPTION:
URL:https://streetlifeministries.org/event/rwc-meals-fellowship-2/2026-03-20/
LOCATION:RWC Meals + Fellowship\, 1300 Middlefield Road\, Redwood City\, 94063\, United States
END:VEVENT
BEGIN:VEVENT
DTSTART;TZID=America/Los_Angeles:20260318T184500
DTEND;TZID=America/Los_Angeles:20260318T200000
DTSTAMP:20260419T141435
CREATED:20250624T175118Z
LAST-MODIFIED:20250624T175118Z
UID:10001808-1773859500-1773864000@streetlifeministries.org
SUMMARY:RWC Meals & Fellowship
DESCRIPTION:
URL:https://streetlifeministries.org/event/rwc-meals-fellowship-2/2026-03-18/
LOCATION:RWC Meals + Fellowship\, 1300 Middlefield Road\, Redwood City\, 94063\, United States
END:VEVENT
BEGIN:VEVENT
DTSTART;TZID=America/Los_Angeles:20260316T184500
DTEND;TZID=America/Los_Angeles:20260316T200000
DTSTAMP:20260419T141435
CREATED:20250624T175118Z
LAST-MODIFIED:20250624T175118Z
UID:10001807-1773686700-1773691200@streetlifeministries.org
SUMMARY:RWC Meals & Fellowship
DESCRIPTION:
URL:https://streetlifeministries.org/event/rwc-meals-fellowship-2/2026-03-16/
LOCATION:RWC Meals + Fellowship\, 1300 Middlefield Road\, Redwood City\, 94063\, United States
END:VEVENT
BEGIN:VEVENT
DTSTART;TZID=America/Los_Angeles:20260313T184500
DTEND;TZID=America/Los_Angeles:20260313T200000
DTSTAMP:20260419T141435
CREATED:20250624T175118Z
LAST-MODIFIED:20250624T175118Z
UID:10001806-1773427500-1773432000@streetlifeministries.org
SUMMARY:RWC Meals & Fellowship
DESCRIPTION:
URL:https://streetlifeministries.org/event/rwc-meals-fellowship-2/2026-03-13/
LOCATION:RWC Meals + Fellowship\, 1300 Middlefield Road\, Redwood City\, 94063\, United States
END:VEVENT
BEGIN:VEVENT
DTSTART;TZID=America/Los_Angeles:20260311T184500
DTEND;TZID=America/Los_Angeles:20260311T200000
DTSTAMP:20260419T141435
CREATED:20250624T175118Z
LAST-MODIFIED:20250624T175118Z
UID:10001805-1773254700-1773259200@streetlifeministries.org
SUMMARY:RWC Meals & Fellowship
DESCRIPTION:
URL:https://streetlifeministries.org/event/rwc-meals-fellowship-2/2026-03-11/
LOCATION:RWC Meals + Fellowship\, 1300 Middlefield Road\, Redwood City\, 94063\, United States
END:VEVENT
BEGIN:VEVENT
DTSTART;TZID=America/Los_Angeles:20260309T184500
DTEND;TZID=America/Los_Angeles:20260309T200000
DTSTAMP:20260419T141435
CREATED:20250624T175118Z
LAST-MODIFIED:20250624T175118Z
UID:10001804-1773081900-1773086400@streetlifeministries.org
SUMMARY:RWC Meals & Fellowship
DESCRIPTION:
URL:https://streetlifeministries.org/event/rwc-meals-fellowship-2/2026-03-09/
LOCATION:RWC Meals + Fellowship\, 1300 Middlefield Road\, Redwood City\, 94063\, United States
END:VEVENT
BEGIN:VEVENT
DTSTART;TZID=America/Los_Angeles:20260306T184500
DTEND;TZID=America/Los_Angeles:20260306T200000
DTSTAMP:20260419T141435
CREATED:20250624T175118Z
LAST-MODIFIED:20250624T175118Z
UID:10001803-1772822700-1772827200@streetlifeministries.org
SUMMARY:RWC Meals & Fellowship
DESCRIPTION:
URL:https://streetlifeministries.org/event/rwc-meals-fellowship-2/2026-03-06/
LOCATION:RWC Meals + Fellowship\, 1300 Middlefield Road\, Redwood City\, 94063\, United States
END:VEVENT
BEGIN:VEVENT
DTSTART;TZID=America/Los_Angeles:20260304T184500
DTEND;TZID=America/Los_Angeles:20260304T200000
DTSTAMP:20260419T141435
CREATED:20250624T175118Z
LAST-MODIFIED:20250624T175118Z
UID:10001802-1772649900-1772654400@streetlifeministries.org
SUMMARY:RWC Meals & Fellowship
DESCRIPTION:
URL:https://streetlifeministries.org/event/rwc-meals-fellowship-2/2026-03-04/
LOCATION:RWC Meals + Fellowship\, 1300 Middlefield Road\, Redwood City\, 94063\, United States
END:VEVENT
BEGIN:VEVENT
DTSTART;TZID=America/Los_Angeles:20260302T184500
DTEND;TZID=America/Los_Angeles:20260302T200000
DTSTAMP:20260419T141435
CREATED:20250624T175118Z
LAST-MODIFIED:20250624T175118Z
UID:10001801-1772477100-1772481600@streetlifeministries.org
SUMMARY:RWC Meals & Fellowship
DESCRIPTION:
URL:https://streetlifeministries.org/event/rwc-meals-fellowship-2/2026-03-02/
LOCATION:RWC Meals + Fellowship\, 1300 Middlefield Road\, Redwood City\, 94063\, United States
END:VEVENT
BEGIN:VEVENT
DTSTART;TZID=America/Los_Angeles:20260227T184500
DTEND;TZID=America/Los_Angeles:20260227T200000
DTSTAMP:20260419T141435
CREATED:20250624T175118Z
LAST-MODIFIED:20250624T175118Z
UID:10001800-1772217900-1772222400@streetlifeministries.org
SUMMARY:RWC Meals & Fellowship
DESCRIPTION:
URL:https://streetlifeministries.org/event/rwc-meals-fellowship-2/2026-02-27/
LOCATION:RWC Meals + Fellowship\, 1300 Middlefield Road\, Redwood City\, 94063\, United States
END:VEVENT
BEGIN:VEVENT
DTSTART;TZID=America/Los_Angeles:20260225T184500
DTEND;TZID=America/Los_Angeles:20260225T200000
DTSTAMP:20260419T141435
CREATED:20250624T175118Z
LAST-MODIFIED:20250624T175118Z
UID:10001799-1772045100-1772049600@streetlifeministries.org
SUMMARY:RWC Meals & Fellowship
DESCRIPTION:
URL:https://streetlifeministries.org/event/rwc-meals-fellowship-2/2026-02-25/
LOCATION:RWC Meals + Fellowship\, 1300 Middlefield Road\, Redwood City\, 94063\, United States
END:VEVENT
BEGIN:VEVENT
DTSTART;TZID=America/Los_Angeles:20260223T184500
DTEND;TZID=America/Los_Angeles:20260223T200000
DTSTAMP:20260419T141435
CREATED:20250624T175118Z
LAST-MODIFIED:20250624T175118Z
UID:10001798-1771872300-1771876800@streetlifeministries.org
SUMMARY:RWC Meals & Fellowship
DESCRIPTION:
URL:https://streetlifeministries.org/event/rwc-meals-fellowship-2/2026-02-23/
LOCATION:RWC Meals + Fellowship\, 1300 Middlefield Road\, Redwood City\, 94063\, United States
END:VEVENT
BEGIN:VEVENT
DTSTART;TZID=America/Los_Angeles:20260220T184500
DTEND;TZID=America/Los_Angeles:20260220T200000
DTSTAMP:20260419T141435
CREATED:20250624T175118Z
LAST-MODIFIED:20250624T175118Z
UID:10001797-1771613100-1771617600@streetlifeministries.org
SUMMARY:RWC Meals & Fellowship
DESCRIPTION:
URL:https://streetlifeministries.org/event/rwc-meals-fellowship-2/2026-02-20/
LOCATION:RWC Meals + Fellowship\, 1300 Middlefield Road\, Redwood City\, 94063\, United States
END:VEVENT
BEGIN:VEVENT
DTSTART;TZID=America/Los_Angeles:20260218T184500
DTEND;TZID=America/Los_Angeles:20260218T200000
DTSTAMP:20260419T141435
CREATED:20250624T175118Z
LAST-MODIFIED:20250624T175118Z
UID:10001796-1771440300-1771444800@streetlifeministries.org
SUMMARY:RWC Meals & Fellowship
DESCRIPTION:
URL:https://streetlifeministries.org/event/rwc-meals-fellowship-2/2026-02-18/
LOCATION:RWC Meals + Fellowship\, 1300 Middlefield Road\, Redwood City\, 94063\, United States
END:VEVENT
BEGIN:VEVENT
DTSTART;TZID=America/Los_Angeles:20260216T184500
DTEND;TZID=America/Los_Angeles:20260216T200000
DTSTAMP:20260419T141435
CREATED:20250624T175118Z
LAST-MODIFIED:20250624T175118Z
UID:10001795-1771267500-1771272000@streetlifeministries.org
SUMMARY:RWC Meals & Fellowship
DESCRIPTION:
URL:https://streetlifeministries.org/event/rwc-meals-fellowship-2/2026-02-16/
LOCATION:RWC Meals + Fellowship\, 1300 Middlefield Road\, Redwood City\, 94063\, United States
END:VEVENT
BEGIN:VEVENT
DTSTART;TZID=America/Los_Angeles:20260213T184500
DTEND;TZID=America/Los_Angeles:20260213T200000
DTSTAMP:20260419T141435
CREATED:20250624T175118Z
LAST-MODIFIED:20250624T175118Z
UID:10001794-1771008300-1771012800@streetlifeministries.org
SUMMARY:RWC Meals & Fellowship
DESCRIPTION:
URL:https://streetlifeministries.org/event/rwc-meals-fellowship-2/2026-02-13/
LOCATION:RWC Meals + Fellowship\, 1300 Middlefield Road\, Redwood City\, 94063\, United States
END:VEVENT
BEGIN:VEVENT
DTSTART;TZID=America/Los_Angeles:20260211T184500
DTEND;TZID=America/Los_Angeles:20260211T200000
DTSTAMP:20260419T141435
CREATED:20250624T175118Z
LAST-MODIFIED:20250624T175118Z
UID:10001793-1770835500-1770840000@streetlifeministries.org
SUMMARY:RWC Meals & Fellowship
DESCRIPTION:
URL:https://streetlifeministries.org/event/rwc-meals-fellowship-2/2026-02-11/
LOCATION:RWC Meals + Fellowship\, 1300 Middlefield Road\, Redwood City\, 94063\, United States
END:VEVENT
BEGIN:VEVENT
DTSTART;TZID=America/Los_Angeles:20260209T184500
DTEND;TZID=America/Los_Angeles:20260209T200000
DTSTAMP:20260419T141435
CREATED:20250624T175118Z
LAST-MODIFIED:20250624T175118Z
UID:10001792-1770662700-1770667200@streetlifeministries.org
SUMMARY:RWC Meals & Fellowship
DESCRIPTION:
URL:https://streetlifeministries.org/event/rwc-meals-fellowship-2/2026-02-09/
LOCATION:RWC Meals + Fellowship\, 1300 Middlefield Road\, Redwood City\, 94063\, United States
END:VEVENT
END:VCALENDAR