BEGIN:VCALENDAR
VERSION:2.0
PRODID:-//Street Life Ministries - ECPv6.15.20//NONSGML v1.0//EN
CALSCALE:GREGORIAN
METHOD:PUBLISH
X-ORIGINAL-URL:https://streetlifeministries.org
X-WR-CALDESC:Events for Street Life Ministries
REFRESH-INTERVAL;VALUE=DURATION:PT1H
X-Robots-Tag:noindex
X-PUBLISHED-TTL:PT1H
BEGIN:VTIMEZONE
TZID:America/Los_Angeles
BEGIN:DAYLIGHT
TZOFFSETFROM:-0800
TZOFFSETTO:-0700
TZNAME:PDT
DTSTART:20230312T100000
END:DAYLIGHT
BEGIN:STANDARD
TZOFFSETFROM:-0700
TZOFFSETTO:-0800
TZNAME:PST
DTSTART:20231105T090000
END:STANDARD
BEGIN:DAYLIGHT
TZOFFSETFROM:-0800
TZOFFSETTO:-0700
TZNAME:PDT
DTSTART:20240310T100000
END:DAYLIGHT
BEGIN:STANDARD
TZOFFSETFROM:-0700
TZOFFSETTO:-0800
TZNAME:PST
DTSTART:20241103T090000
END:STANDARD
BEGIN:DAYLIGHT
TZOFFSETFROM:-0800
TZOFFSETTO:-0700
TZNAME:PDT
DTSTART:20250309T100000
END:DAYLIGHT
BEGIN:STANDARD
TZOFFSETFROM:-0700
TZOFFSETTO:-0800
TZNAME:PST
DTSTART:20251102T090000
END:STANDARD
BEGIN:DAYLIGHT
TZOFFSETFROM:-0800
TZOFFSETTO:-0700
TZNAME:PDT
DTSTART:20260308T100000
END:DAYLIGHT
BEGIN:STANDARD
TZOFFSETFROM:-0700
TZOFFSETTO:-0800
TZNAME:PST
DTSTART:20261101T090000
END:STANDARD
END:VTIMEZONE
BEGIN:VEVENT
DTSTART;TZID=America/Los_Angeles:20250807T080000
DTEND;TZID=America/Los_Angeles:20250807T170000
DTSTAMP:20260419T054658
CREATED:20250624T175159Z
LAST-MODIFIED:20250624T175159Z
UID:10002490-1754553600-1754586000@streetlifeministries.org
SUMMARY:Menlo Park Meals & Fellowship
DESCRIPTION:
URL:https://streetlifeministries.org/event/menlo-park-meals-fellowship/2025-08-07/
LOCATION:Menlo Meals + Fellowship\, 1120 Merrill Street\, Menlo Park\, (Menlo Park Train Station)\, United States
GEO:37.454856873;-122.182403564
X-APPLE-STRUCTURED-LOCATION;VALUE=URI;X-ADDRESS=Menlo Meals + Fellowship 1120 Merrill Street Menlo Park (Menlo Park Train Station) United States;X-APPLE-RADIUS=500;X-TITLE=1120 Merrill Street:geo:-122.182403564,37.454856873
END:VEVENT
BEGIN:VEVENT
DTSTART;TZID=America/Los_Angeles:20250805T080000
DTEND;TZID=America/Los_Angeles:20250805T170000
DTSTAMP:20260419T054658
CREATED:20250624T175159Z
LAST-MODIFIED:20250624T175159Z
UID:10002489-1754380800-1754413200@streetlifeministries.org
SUMMARY:Menlo Park Meals & Fellowship
DESCRIPTION:
URL:https://streetlifeministries.org/event/menlo-park-meals-fellowship/2025-08-05/
LOCATION:Menlo Meals + Fellowship\, 1120 Merrill Street\, Menlo Park\, (Menlo Park Train Station)\, United States
GEO:37.454856873;-122.182403564
X-APPLE-STRUCTURED-LOCATION;VALUE=URI;X-ADDRESS=Menlo Meals + Fellowship 1120 Merrill Street Menlo Park (Menlo Park Train Station) United States;X-APPLE-RADIUS=500;X-TITLE=1120 Merrill Street:geo:-122.182403564,37.454856873
END:VEVENT
BEGIN:VEVENT
DTSTART;TZID=America/Los_Angeles:20250731T080000
DTEND;TZID=America/Los_Angeles:20250731T170000
DTSTAMP:20260419T054658
CREATED:20250624T175159Z
LAST-MODIFIED:20250624T175159Z
UID:10002488-1753948800-1753981200@streetlifeministries.org
SUMMARY:Menlo Park Meals & Fellowship
DESCRIPTION:
URL:https://streetlifeministries.org/event/menlo-park-meals-fellowship/2025-07-31/
LOCATION:Menlo Meals + Fellowship\, 1120 Merrill Street\, Menlo Park\, (Menlo Park Train Station)\, United States
GEO:37.454856873;-122.182403564
X-APPLE-STRUCTURED-LOCATION;VALUE=URI;X-ADDRESS=Menlo Meals + Fellowship 1120 Merrill Street Menlo Park (Menlo Park Train Station) United States;X-APPLE-RADIUS=500;X-TITLE=1120 Merrill Street:geo:-122.182403564,37.454856873
END:VEVENT
BEGIN:VEVENT
DTSTART;TZID=America/Los_Angeles:20250729T080000
DTEND;TZID=America/Los_Angeles:20250729T170000
DTSTAMP:20260419T054658
CREATED:20250624T175159Z
LAST-MODIFIED:20250624T175159Z
UID:10002487-1753776000-1753808400@streetlifeministries.org
SUMMARY:Menlo Park Meals & Fellowship
DESCRIPTION:
URL:https://streetlifeministries.org/event/menlo-park-meals-fellowship/2025-07-29/
LOCATION:Menlo Meals + Fellowship\, 1120 Merrill Street\, Menlo Park\, (Menlo Park Train Station)\, United States
GEO:37.454856873;-122.182403564
X-APPLE-STRUCTURED-LOCATION;VALUE=URI;X-ADDRESS=Menlo Meals + Fellowship 1120 Merrill Street Menlo Park (Menlo Park Train Station) United States;X-APPLE-RADIUS=500;X-TITLE=1120 Merrill Street:geo:-122.182403564,37.454856873
END:VEVENT
BEGIN:VEVENT
DTSTART;TZID=America/Los_Angeles:20250724T080000
DTEND;TZID=America/Los_Angeles:20250724T170000
DTSTAMP:20260419T054658
CREATED:20250624T175159Z
LAST-MODIFIED:20250624T175159Z
UID:10002486-1753344000-1753376400@streetlifeministries.org
SUMMARY:Menlo Park Meals & Fellowship
DESCRIPTION:
URL:https://streetlifeministries.org/event/menlo-park-meals-fellowship/2025-07-24/
LOCATION:Menlo Meals + Fellowship\, 1120 Merrill Street\, Menlo Park\, (Menlo Park Train Station)\, United States
GEO:37.454856873;-122.182403564
X-APPLE-STRUCTURED-LOCATION;VALUE=URI;X-ADDRESS=Menlo Meals + Fellowship 1120 Merrill Street Menlo Park (Menlo Park Train Station) United States;X-APPLE-RADIUS=500;X-TITLE=1120 Merrill Street:geo:-122.182403564,37.454856873
END:VEVENT
BEGIN:VEVENT
DTSTART;TZID=America/Los_Angeles:20250722T080000
DTEND;TZID=America/Los_Angeles:20250722T170000
DTSTAMP:20260419T054658
CREATED:20250624T175159Z
LAST-MODIFIED:20250624T175159Z
UID:10002485-1753171200-1753203600@streetlifeministries.org
SUMMARY:Menlo Park Meals & Fellowship
DESCRIPTION:
URL:https://streetlifeministries.org/event/menlo-park-meals-fellowship/2025-07-22/
LOCATION:Menlo Meals + Fellowship\, 1120 Merrill Street\, Menlo Park\, (Menlo Park Train Station)\, United States
GEO:37.454856873;-122.182403564
X-APPLE-STRUCTURED-LOCATION;VALUE=URI;X-ADDRESS=Menlo Meals + Fellowship 1120 Merrill Street Menlo Park (Menlo Park Train Station) United States;X-APPLE-RADIUS=500;X-TITLE=1120 Merrill Street:geo:-122.182403564,37.454856873
END:VEVENT
BEGIN:VEVENT
DTSTART;TZID=America/Los_Angeles:20250717T080000
DTEND;TZID=America/Los_Angeles:20250717T170000
DTSTAMP:20260419T054658
CREATED:20250624T175159Z
LAST-MODIFIED:20250624T175159Z
UID:10002484-1752739200-1752771600@streetlifeministries.org
SUMMARY:Menlo Park Meals & Fellowship
DESCRIPTION:
URL:https://streetlifeministries.org/event/menlo-park-meals-fellowship/2025-07-17/
LOCATION:Menlo Meals + Fellowship\, 1120 Merrill Street\, Menlo Park\, (Menlo Park Train Station)\, United States
GEO:37.454856873;-122.182403564
X-APPLE-STRUCTURED-LOCATION;VALUE=URI;X-ADDRESS=Menlo Meals + Fellowship 1120 Merrill Street Menlo Park (Menlo Park Train Station) United States;X-APPLE-RADIUS=500;X-TITLE=1120 Merrill Street:geo:-122.182403564,37.454856873
END:VEVENT
BEGIN:VEVENT
DTSTART;TZID=America/Los_Angeles:20250715T080000
DTEND;TZID=America/Los_Angeles:20250715T170000
DTSTAMP:20260419T054658
CREATED:20250624T175159Z
LAST-MODIFIED:20250624T175159Z
UID:10002483-1752566400-1752598800@streetlifeministries.org
SUMMARY:Menlo Park Meals & Fellowship
DESCRIPTION:
URL:https://streetlifeministries.org/event/menlo-park-meals-fellowship/2025-07-15/
LOCATION:Menlo Meals + Fellowship\, 1120 Merrill Street\, Menlo Park\, (Menlo Park Train Station)\, United States
GEO:37.454856873;-122.182403564
X-APPLE-STRUCTURED-LOCATION;VALUE=URI;X-ADDRESS=Menlo Meals + Fellowship 1120 Merrill Street Menlo Park (Menlo Park Train Station) United States;X-APPLE-RADIUS=500;X-TITLE=1120 Merrill Street:geo:-122.182403564,37.454856873
END:VEVENT
BEGIN:VEVENT
DTSTART;TZID=America/Los_Angeles:20250710T080000
DTEND;TZID=America/Los_Angeles:20250710T170000
DTSTAMP:20260419T054658
CREATED:20250624T175159Z
LAST-MODIFIED:20250624T175159Z
UID:10002482-1752134400-1752166800@streetlifeministries.org
SUMMARY:Menlo Park Meals & Fellowship
DESCRIPTION:
URL:https://streetlifeministries.org/event/menlo-park-meals-fellowship/2025-07-10/
LOCATION:Menlo Meals + Fellowship\, 1120 Merrill Street\, Menlo Park\, (Menlo Park Train Station)\, United States
GEO:37.454856873;-122.182403564
X-APPLE-STRUCTURED-LOCATION;VALUE=URI;X-ADDRESS=Menlo Meals + Fellowship 1120 Merrill Street Menlo Park (Menlo Park Train Station) United States;X-APPLE-RADIUS=500;X-TITLE=1120 Merrill Street:geo:-122.182403564,37.454856873
END:VEVENT
BEGIN:VEVENT
DTSTART;TZID=America/Los_Angeles:20250708T080000
DTEND;TZID=America/Los_Angeles:20250708T170000
DTSTAMP:20260419T054658
CREATED:20250624T175159Z
LAST-MODIFIED:20250624T175159Z
UID:10002481-1751961600-1751994000@streetlifeministries.org
SUMMARY:Menlo Park Meals & Fellowship
DESCRIPTION:
URL:https://streetlifeministries.org/event/menlo-park-meals-fellowship/2025-07-08/
LOCATION:Menlo Meals + Fellowship\, 1120 Merrill Street\, Menlo Park\, (Menlo Park Train Station)\, United States
GEO:37.454856873;-122.182403564
X-APPLE-STRUCTURED-LOCATION;VALUE=URI;X-ADDRESS=Menlo Meals + Fellowship 1120 Merrill Street Menlo Park (Menlo Park Train Station) United States;X-APPLE-RADIUS=500;X-TITLE=1120 Merrill Street:geo:-122.182403564,37.454856873
END:VEVENT
BEGIN:VEVENT
DTSTART;TZID=America/Los_Angeles:20250703T080000
DTEND;TZID=America/Los_Angeles:20250703T170000
DTSTAMP:20260419T054658
CREATED:20250624T175159Z
LAST-MODIFIED:20250624T175159Z
UID:10002480-1751529600-1751562000@streetlifeministries.org
SUMMARY:Menlo Park Meals & Fellowship
DESCRIPTION:
URL:https://streetlifeministries.org/event/menlo-park-meals-fellowship/2025-07-03/
LOCATION:Menlo Meals + Fellowship\, 1120 Merrill Street\, Menlo Park\, (Menlo Park Train Station)\, United States
GEO:37.454856873;-122.182403564
X-APPLE-STRUCTURED-LOCATION;VALUE=URI;X-ADDRESS=Menlo Meals + Fellowship 1120 Merrill Street Menlo Park (Menlo Park Train Station) United States;X-APPLE-RADIUS=500;X-TITLE=1120 Merrill Street:geo:-122.182403564,37.454856873
END:VEVENT
BEGIN:VEVENT
DTSTART;TZID=America/Los_Angeles:20250701T080000
DTEND;TZID=America/Los_Angeles:20250701T170000
DTSTAMP:20260419T054658
CREATED:20250624T175159Z
LAST-MODIFIED:20250624T175159Z
UID:10002479-1751356800-1751389200@streetlifeministries.org
SUMMARY:Menlo Park Meals & Fellowship
DESCRIPTION:
URL:https://streetlifeministries.org/event/menlo-park-meals-fellowship/2025-07-01/
LOCATION:Menlo Meals + Fellowship\, 1120 Merrill Street\, Menlo Park\, (Menlo Park Train Station)\, United States
GEO:37.454856873;-122.182403564
X-APPLE-STRUCTURED-LOCATION;VALUE=URI;X-ADDRESS=Menlo Meals + Fellowship 1120 Merrill Street Menlo Park (Menlo Park Train Station) United States;X-APPLE-RADIUS=500;X-TITLE=1120 Merrill Street:geo:-122.182403564,37.454856873
END:VEVENT
BEGIN:VEVENT
DTSTART;TZID=America/Los_Angeles:20250626T080000
DTEND;TZID=America/Los_Angeles:20250626T170000
DTSTAMP:20260419T054658
CREATED:20250624T175159Z
LAST-MODIFIED:20250624T175159Z
UID:10002478-1750924800-1750957200@streetlifeministries.org
SUMMARY:Menlo Park Meals & Fellowship
DESCRIPTION:
URL:https://streetlifeministries.org/event/menlo-park-meals-fellowship/2025-06-26/
LOCATION:Menlo Meals + Fellowship\, 1120 Merrill Street\, Menlo Park\, (Menlo Park Train Station)\, United States
GEO:37.454856873;-122.182403564
X-APPLE-STRUCTURED-LOCATION;VALUE=URI;X-ADDRESS=Menlo Meals + Fellowship 1120 Merrill Street Menlo Park (Menlo Park Train Station) United States;X-APPLE-RADIUS=500;X-TITLE=1120 Merrill Street:geo:-122.182403564,37.454856873
END:VEVENT
BEGIN:VEVENT
DTSTART;TZID=America/Los_Angeles:20250624T080000
DTEND;TZID=America/Los_Angeles:20250624T170000
DTSTAMP:20260419T054658
CREATED:20250624T175159Z
LAST-MODIFIED:20250624T175159Z
UID:10002477-1750752000-1750784400@streetlifeministries.org
SUMMARY:Menlo Park Meals & Fellowship
DESCRIPTION:
URL:https://streetlifeministries.org/event/menlo-park-meals-fellowship/2025-06-24/
LOCATION:Menlo Meals + Fellowship\, 1120 Merrill Street\, Menlo Park\, (Menlo Park Train Station)\, United States
GEO:37.454856873;-122.182403564
X-APPLE-STRUCTURED-LOCATION;VALUE=URI;X-ADDRESS=Menlo Meals + Fellowship 1120 Merrill Street Menlo Park (Menlo Park Train Station) United States;X-APPLE-RADIUS=500;X-TITLE=1120 Merrill Street:geo:-122.182403564,37.454856873
END:VEVENT
BEGIN:VEVENT
DTSTART;TZID=America/Los_Angeles:20250206T184500
DTEND;TZID=America/Los_Angeles:20250206T200000
DTSTAMP:20260419T054658
CREATED:20201024T012415Z
LAST-MODIFIED:20230209T204326Z
UID:10001307-1738867500-1738872000@streetlifeministries.org
SUMMARY:Menlo Park Meal + Fellowship
DESCRIPTION:Street Life Ministries is a community-based non-profit that serves the homeless and at-risk population of the Mid-Peninsula. We build environments and relationships where community volunteers can provide food\, clothing\, housing referral\, addiction recovery\, and other personal support.
URL:https://streetlifeministries.org/event/menlo-park-meal-fellowship/2025-02-06/
LOCATION:Menlo Meals + Fellowship\, 1120 Merrill Street\, Menlo Park\, (Menlo Park Train Station)\, United States
GEO:37.454856873;-122.182403564
X-APPLE-STRUCTURED-LOCATION;VALUE=URI;X-ADDRESS=Menlo Meals + Fellowship 1120 Merrill Street Menlo Park (Menlo Park Train Station) United States;X-APPLE-RADIUS=500;X-TITLE=1120 Merrill Street:geo:-122.182403564,37.454856873
END:VEVENT
BEGIN:VEVENT
DTSTART;TZID=America/Los_Angeles:20250204T184500
DTEND;TZID=America/Los_Angeles:20250204T200000
DTSTAMP:20260419T054658
CREATED:20201024T012415Z
LAST-MODIFIED:20230209T204326Z
UID:10001306-1738694700-1738699200@streetlifeministries.org
SUMMARY:Menlo Park Meal + Fellowship
DESCRIPTION:Street Life Ministries is a community-based non-profit that serves the homeless and at-risk population of the Mid-Peninsula. We build environments and relationships where community volunteers can provide food\, clothing\, housing referral\, addiction recovery\, and other personal support.
URL:https://streetlifeministries.org/event/menlo-park-meal-fellowship/2025-02-04/
LOCATION:Menlo Meals + Fellowship\, 1120 Merrill Street\, Menlo Park\, (Menlo Park Train Station)\, United States
GEO:37.454856873;-122.182403564
X-APPLE-STRUCTURED-LOCATION;VALUE=URI;X-ADDRESS=Menlo Meals + Fellowship 1120 Merrill Street Menlo Park (Menlo Park Train Station) United States;X-APPLE-RADIUS=500;X-TITLE=1120 Merrill Street:geo:-122.182403564,37.454856873
END:VEVENT
BEGIN:VEVENT
DTSTART;TZID=America/Los_Angeles:20250130T184500
DTEND;TZID=America/Los_Angeles:20250130T200000
DTSTAMP:20260419T054658
CREATED:20201024T012415Z
LAST-MODIFIED:20230209T204326Z
UID:10001305-1738262700-1738267200@streetlifeministries.org
SUMMARY:Menlo Park Meal + Fellowship
DESCRIPTION:Street Life Ministries is a community-based non-profit that serves the homeless and at-risk population of the Mid-Peninsula. We build environments and relationships where community volunteers can provide food\, clothing\, housing referral\, addiction recovery\, and other personal support.
URL:https://streetlifeministries.org/event/menlo-park-meal-fellowship/2025-01-30/
LOCATION:Menlo Meals + Fellowship\, 1120 Merrill Street\, Menlo Park\, (Menlo Park Train Station)\, United States
GEO:37.454856873;-122.182403564
X-APPLE-STRUCTURED-LOCATION;VALUE=URI;X-ADDRESS=Menlo Meals + Fellowship 1120 Merrill Street Menlo Park (Menlo Park Train Station) United States;X-APPLE-RADIUS=500;X-TITLE=1120 Merrill Street:geo:-122.182403564,37.454856873
END:VEVENT
BEGIN:VEVENT
DTSTART;TZID=America/Los_Angeles:20250128T184500
DTEND;TZID=America/Los_Angeles:20250128T200000
DTSTAMP:20260419T054658
CREATED:20201024T012415Z
LAST-MODIFIED:20230209T204326Z
UID:10001304-1738089900-1738094400@streetlifeministries.org
SUMMARY:Menlo Park Meal + Fellowship
DESCRIPTION:Street Life Ministries is a community-based non-profit that serves the homeless and at-risk population of the Mid-Peninsula. We build environments and relationships where community volunteers can provide food\, clothing\, housing referral\, addiction recovery\, and other personal support.
URL:https://streetlifeministries.org/event/menlo-park-meal-fellowship/2025-01-28/
LOCATION:Menlo Meals + Fellowship\, 1120 Merrill Street\, Menlo Park\, (Menlo Park Train Station)\, United States
GEO:37.454856873;-122.182403564
X-APPLE-STRUCTURED-LOCATION;VALUE=URI;X-ADDRESS=Menlo Meals + Fellowship 1120 Merrill Street Menlo Park (Menlo Park Train Station) United States;X-APPLE-RADIUS=500;X-TITLE=1120 Merrill Street:geo:-122.182403564,37.454856873
END:VEVENT
BEGIN:VEVENT
DTSTART;TZID=America/Los_Angeles:20250123T184500
DTEND;TZID=America/Los_Angeles:20250123T200000
DTSTAMP:20260419T054658
CREATED:20201024T012415Z
LAST-MODIFIED:20230209T204326Z
UID:10001303-1737657900-1737662400@streetlifeministries.org
SUMMARY:Menlo Park Meal + Fellowship
DESCRIPTION:Street Life Ministries is a community-based non-profit that serves the homeless and at-risk population of the Mid-Peninsula. We build environments and relationships where community volunteers can provide food\, clothing\, housing referral\, addiction recovery\, and other personal support.
URL:https://streetlifeministries.org/event/menlo-park-meal-fellowship/2025-01-23/
LOCATION:Menlo Meals + Fellowship\, 1120 Merrill Street\, Menlo Park\, (Menlo Park Train Station)\, United States
GEO:37.454856873;-122.182403564
X-APPLE-STRUCTURED-LOCATION;VALUE=URI;X-ADDRESS=Menlo Meals + Fellowship 1120 Merrill Street Menlo Park (Menlo Park Train Station) United States;X-APPLE-RADIUS=500;X-TITLE=1120 Merrill Street:geo:-122.182403564,37.454856873
END:VEVENT
BEGIN:VEVENT
DTSTART;TZID=America/Los_Angeles:20250121T184500
DTEND;TZID=America/Los_Angeles:20250121T200000
DTSTAMP:20260419T054658
CREATED:20201024T012415Z
LAST-MODIFIED:20230209T204326Z
UID:10001302-1737485100-1737489600@streetlifeministries.org
SUMMARY:Menlo Park Meal + Fellowship
DESCRIPTION:Street Life Ministries is a community-based non-profit that serves the homeless and at-risk population of the Mid-Peninsula. We build environments and relationships where community volunteers can provide food\, clothing\, housing referral\, addiction recovery\, and other personal support.
URL:https://streetlifeministries.org/event/menlo-park-meal-fellowship/2025-01-21/
LOCATION:Menlo Meals + Fellowship\, 1120 Merrill Street\, Menlo Park\, (Menlo Park Train Station)\, United States
GEO:37.454856873;-122.182403564
X-APPLE-STRUCTURED-LOCATION;VALUE=URI;X-ADDRESS=Menlo Meals + Fellowship 1120 Merrill Street Menlo Park (Menlo Park Train Station) United States;X-APPLE-RADIUS=500;X-TITLE=1120 Merrill Street:geo:-122.182403564,37.454856873
END:VEVENT
BEGIN:VEVENT
DTSTART;TZID=America/Los_Angeles:20250116T184500
DTEND;TZID=America/Los_Angeles:20250116T200000
DTSTAMP:20260419T054658
CREATED:20201024T012415Z
LAST-MODIFIED:20230209T204326Z
UID:10001301-1737053100-1737057600@streetlifeministries.org
SUMMARY:Menlo Park Meal + Fellowship
DESCRIPTION:Street Life Ministries is a community-based non-profit that serves the homeless and at-risk population of the Mid-Peninsula. We build environments and relationships where community volunteers can provide food\, clothing\, housing referral\, addiction recovery\, and other personal support.
URL:https://streetlifeministries.org/event/menlo-park-meal-fellowship/2025-01-16/
LOCATION:Menlo Meals + Fellowship\, 1120 Merrill Street\, Menlo Park\, (Menlo Park Train Station)\, United States
GEO:37.454856873;-122.182403564
X-APPLE-STRUCTURED-LOCATION;VALUE=URI;X-ADDRESS=Menlo Meals + Fellowship 1120 Merrill Street Menlo Park (Menlo Park Train Station) United States;X-APPLE-RADIUS=500;X-TITLE=1120 Merrill Street:geo:-122.182403564,37.454856873
END:VEVENT
BEGIN:VEVENT
DTSTART;TZID=America/Los_Angeles:20250114T184500
DTEND;TZID=America/Los_Angeles:20250114T200000
DTSTAMP:20260419T054658
CREATED:20201024T012415Z
LAST-MODIFIED:20230209T204326Z
UID:10001300-1736880300-1736884800@streetlifeministries.org
SUMMARY:Menlo Park Meal + Fellowship
DESCRIPTION:Street Life Ministries is a community-based non-profit that serves the homeless and at-risk population of the Mid-Peninsula. We build environments and relationships where community volunteers can provide food\, clothing\, housing referral\, addiction recovery\, and other personal support.
URL:https://streetlifeministries.org/event/menlo-park-meal-fellowship/2025-01-14/
LOCATION:Menlo Meals + Fellowship\, 1120 Merrill Street\, Menlo Park\, (Menlo Park Train Station)\, United States
GEO:37.454856873;-122.182403564
X-APPLE-STRUCTURED-LOCATION;VALUE=URI;X-ADDRESS=Menlo Meals + Fellowship 1120 Merrill Street Menlo Park (Menlo Park Train Station) United States;X-APPLE-RADIUS=500;X-TITLE=1120 Merrill Street:geo:-122.182403564,37.454856873
END:VEVENT
BEGIN:VEVENT
DTSTART;TZID=America/Los_Angeles:20250109T184500
DTEND;TZID=America/Los_Angeles:20250109T200000
DTSTAMP:20260419T054658
CREATED:20201024T012415Z
LAST-MODIFIED:20230209T204326Z
UID:10001299-1736448300-1736452800@streetlifeministries.org
SUMMARY:Menlo Park Meal + Fellowship
DESCRIPTION:Street Life Ministries is a community-based non-profit that serves the homeless and at-risk population of the Mid-Peninsula. We build environments and relationships where community volunteers can provide food\, clothing\, housing referral\, addiction recovery\, and other personal support.
URL:https://streetlifeministries.org/event/menlo-park-meal-fellowship/2025-01-09/
LOCATION:Menlo Meals + Fellowship\, 1120 Merrill Street\, Menlo Park\, (Menlo Park Train Station)\, United States
GEO:37.454856873;-122.182403564
X-APPLE-STRUCTURED-LOCATION;VALUE=URI;X-ADDRESS=Menlo Meals + Fellowship 1120 Merrill Street Menlo Park (Menlo Park Train Station) United States;X-APPLE-RADIUS=500;X-TITLE=1120 Merrill Street:geo:-122.182403564,37.454856873
END:VEVENT
BEGIN:VEVENT
DTSTART;TZID=America/Los_Angeles:20250107T184500
DTEND;TZID=America/Los_Angeles:20250107T200000
DTSTAMP:20260419T054658
CREATED:20201024T012415Z
LAST-MODIFIED:20230209T204326Z
UID:10001298-1736275500-1736280000@streetlifeministries.org
SUMMARY:Menlo Park Meal + Fellowship
DESCRIPTION:Street Life Ministries is a community-based non-profit that serves the homeless and at-risk population of the Mid-Peninsula. We build environments and relationships where community volunteers can provide food\, clothing\, housing referral\, addiction recovery\, and other personal support.
URL:https://streetlifeministries.org/event/menlo-park-meal-fellowship/2025-01-07/
LOCATION:Menlo Meals + Fellowship\, 1120 Merrill Street\, Menlo Park\, (Menlo Park Train Station)\, United States
GEO:37.454856873;-122.182403564
X-APPLE-STRUCTURED-LOCATION;VALUE=URI;X-ADDRESS=Menlo Meals + Fellowship 1120 Merrill Street Menlo Park (Menlo Park Train Station) United States;X-APPLE-RADIUS=500;X-TITLE=1120 Merrill Street:geo:-122.182403564,37.454856873
END:VEVENT
BEGIN:VEVENT
DTSTART;TZID=America/Los_Angeles:20250102T184500
DTEND;TZID=America/Los_Angeles:20250102T200000
DTSTAMP:20260419T054658
CREATED:20201024T012415Z
LAST-MODIFIED:20230209T204326Z
UID:10001297-1735843500-1735848000@streetlifeministries.org
SUMMARY:Menlo Park Meal + Fellowship
DESCRIPTION:Street Life Ministries is a community-based non-profit that serves the homeless and at-risk population of the Mid-Peninsula. We build environments and relationships where community volunteers can provide food\, clothing\, housing referral\, addiction recovery\, and other personal support.
URL:https://streetlifeministries.org/event/menlo-park-meal-fellowship/2025-01-02/
LOCATION:Menlo Meals + Fellowship\, 1120 Merrill Street\, Menlo Park\, (Menlo Park Train Station)\, United States
GEO:37.454856873;-122.182403564
X-APPLE-STRUCTURED-LOCATION;VALUE=URI;X-ADDRESS=Menlo Meals + Fellowship 1120 Merrill Street Menlo Park (Menlo Park Train Station) United States;X-APPLE-RADIUS=500;X-TITLE=1120 Merrill Street:geo:-122.182403564,37.454856873
END:VEVENT
BEGIN:VEVENT
DTSTART;TZID=America/Los_Angeles:20241231T184500
DTEND;TZID=America/Los_Angeles:20241231T200000
DTSTAMP:20260419T054658
CREATED:20201024T012415Z
LAST-MODIFIED:20230209T204326Z
UID:10001296-1735670700-1735675200@streetlifeministries.org
SUMMARY:Menlo Park Meal + Fellowship
DESCRIPTION:Street Life Ministries is a community-based non-profit that serves the homeless and at-risk population of the Mid-Peninsula. We build environments and relationships where community volunteers can provide food\, clothing\, housing referral\, addiction recovery\, and other personal support.
URL:https://streetlifeministries.org/event/menlo-park-meal-fellowship/2024-12-31/
LOCATION:Menlo Meals + Fellowship\, 1120 Merrill Street\, Menlo Park\, (Menlo Park Train Station)\, United States
GEO:37.454856873;-122.182403564
X-APPLE-STRUCTURED-LOCATION;VALUE=URI;X-ADDRESS=Menlo Meals + Fellowship 1120 Merrill Street Menlo Park (Menlo Park Train Station) United States;X-APPLE-RADIUS=500;X-TITLE=1120 Merrill Street:geo:-122.182403564,37.454856873
END:VEVENT
BEGIN:VEVENT
DTSTART;TZID=America/Los_Angeles:20241226T184500
DTEND;TZID=America/Los_Angeles:20241226T200000
DTSTAMP:20260419T054658
CREATED:20201024T012415Z
LAST-MODIFIED:20230209T204326Z
UID:10001295-1735238700-1735243200@streetlifeministries.org
SUMMARY:Menlo Park Meal + Fellowship
DESCRIPTION:Street Life Ministries is a community-based non-profit that serves the homeless and at-risk population of the Mid-Peninsula. We build environments and relationships where community volunteers can provide food\, clothing\, housing referral\, addiction recovery\, and other personal support.
URL:https://streetlifeministries.org/event/menlo-park-meal-fellowship/2024-12-26/
LOCATION:Menlo Meals + Fellowship\, 1120 Merrill Street\, Menlo Park\, (Menlo Park Train Station)\, United States
GEO:37.454856873;-122.182403564
X-APPLE-STRUCTURED-LOCATION;VALUE=URI;X-ADDRESS=Menlo Meals + Fellowship 1120 Merrill Street Menlo Park (Menlo Park Train Station) United States;X-APPLE-RADIUS=500;X-TITLE=1120 Merrill Street:geo:-122.182403564,37.454856873
END:VEVENT
BEGIN:VEVENT
DTSTART;TZID=America/Los_Angeles:20241224T184500
DTEND;TZID=America/Los_Angeles:20241224T200000
DTSTAMP:20260419T054658
CREATED:20201024T012415Z
LAST-MODIFIED:20230209T204326Z
UID:10001294-1735065900-1735070400@streetlifeministries.org
SUMMARY:Menlo Park Meal + Fellowship
DESCRIPTION:Street Life Ministries is a community-based non-profit that serves the homeless and at-risk population of the Mid-Peninsula. We build environments and relationships where community volunteers can provide food\, clothing\, housing referral\, addiction recovery\, and other personal support.
URL:https://streetlifeministries.org/event/menlo-park-meal-fellowship/2024-12-24/
LOCATION:Menlo Meals + Fellowship\, 1120 Merrill Street\, Menlo Park\, (Menlo Park Train Station)\, United States
GEO:37.454856873;-122.182403564
X-APPLE-STRUCTURED-LOCATION;VALUE=URI;X-ADDRESS=Menlo Meals + Fellowship 1120 Merrill Street Menlo Park (Menlo Park Train Station) United States;X-APPLE-RADIUS=500;X-TITLE=1120 Merrill Street:geo:-122.182403564,37.454856873
END:VEVENT
BEGIN:VEVENT
DTSTART;TZID=America/Los_Angeles:20241219T184500
DTEND;TZID=America/Los_Angeles:20241219T200000
DTSTAMP:20260419T054658
CREATED:20201024T012415Z
LAST-MODIFIED:20230209T204326Z
UID:10001293-1734633900-1734638400@streetlifeministries.org
SUMMARY:Menlo Park Meal + Fellowship
DESCRIPTION:Street Life Ministries is a community-based non-profit that serves the homeless and at-risk population of the Mid-Peninsula. We build environments and relationships where community volunteers can provide food\, clothing\, housing referral\, addiction recovery\, and other personal support.
URL:https://streetlifeministries.org/event/menlo-park-meal-fellowship/2024-12-19/
LOCATION:Menlo Meals + Fellowship\, 1120 Merrill Street\, Menlo Park\, (Menlo Park Train Station)\, United States
GEO:37.454856873;-122.182403564
X-APPLE-STRUCTURED-LOCATION;VALUE=URI;X-ADDRESS=Menlo Meals + Fellowship 1120 Merrill Street Menlo Park (Menlo Park Train Station) United States;X-APPLE-RADIUS=500;X-TITLE=1120 Merrill Street:geo:-122.182403564,37.454856873
END:VEVENT
BEGIN:VEVENT
DTSTART;TZID=America/Los_Angeles:20241217T184500
DTEND;TZID=America/Los_Angeles:20241217T200000
DTSTAMP:20260419T054658
CREATED:20201024T012415Z
LAST-MODIFIED:20230209T204326Z
UID:10001292-1734461100-1734465600@streetlifeministries.org
SUMMARY:Menlo Park Meal + Fellowship
DESCRIPTION:Street Life Ministries is a community-based non-profit that serves the homeless and at-risk population of the Mid-Peninsula. We build environments and relationships where community volunteers can provide food\, clothing\, housing referral\, addiction recovery\, and other personal support.
URL:https://streetlifeministries.org/event/menlo-park-meal-fellowship/2024-12-17/
LOCATION:Menlo Meals + Fellowship\, 1120 Merrill Street\, Menlo Park\, (Menlo Park Train Station)\, United States
GEO:37.454856873;-122.182403564
X-APPLE-STRUCTURED-LOCATION;VALUE=URI;X-ADDRESS=Menlo Meals + Fellowship 1120 Merrill Street Menlo Park (Menlo Park Train Station) United States;X-APPLE-RADIUS=500;X-TITLE=1120 Merrill Street:geo:-122.182403564,37.454856873
END:VEVENT
END:VCALENDAR