BEGIN:VCALENDAR
VERSION:2.0
PRODID:-//Street Life Ministries - ECPv6.15.20//NONSGML v1.0//EN
CALSCALE:GREGORIAN
METHOD:PUBLISH
X-WR-CALNAME:Street Life Ministries
X-ORIGINAL-URL:https://streetlifeministries.org
X-WR-CALDESC:Events for Street Life Ministries
REFRESH-INTERVAL;VALUE=DURATION:PT1H
X-Robots-Tag:noindex
X-PUBLISHED-TTL:PT1H
BEGIN:VTIMEZONE
TZID:America/Los_Angeles
BEGIN:DAYLIGHT
TZOFFSETFROM:-0800
TZOFFSETTO:-0700
TZNAME:PDT
DTSTART:20260308T100000
END:DAYLIGHT
BEGIN:STANDARD
TZOFFSETFROM:-0700
TZOFFSETTO:-0800
TZNAME:PST
DTSTART:20261101T090000
END:STANDARD
BEGIN:DAYLIGHT
TZOFFSETFROM:-0800
TZOFFSETTO:-0700
TZNAME:PDT
DTSTART:20270314T100000
END:DAYLIGHT
BEGIN:STANDARD
TZOFFSETFROM:-0700
TZOFFSETTO:-0800
TZNAME:PST
DTSTART:20271107T090000
END:STANDARD
BEGIN:DAYLIGHT
TZOFFSETFROM:-0800
TZOFFSETTO:-0700
TZNAME:PDT
DTSTART:20280312T100000
END:DAYLIGHT
BEGIN:STANDARD
TZOFFSETFROM:-0700
TZOFFSETTO:-0800
TZNAME:PST
DTSTART:20281105T090000
END:STANDARD
BEGIN:DAYLIGHT
TZOFFSETFROM:-0800
TZOFFSETTO:-0700
TZNAME:PDT
DTSTART:20290311T100000
END:DAYLIGHT
BEGIN:STANDARD
TZOFFSETFROM:-0700
TZOFFSETTO:-0800
TZNAME:PST
DTSTART:20291104T090000
END:STANDARD
END:VTIMEZONE
BEGIN:VEVENT
DTSTART;TZID=America/Los_Angeles:20271026T080000
DTEND;TZID=America/Los_Angeles:20271026T170000
DTSTAMP:20260425T133217
CREATED:20250624T175159Z
LAST-MODIFIED:20250624T175159Z
UID:10002721-1824537600-1824570000@streetlifeministries.org
SUMMARY:Menlo Park Meals & Fellowship
DESCRIPTION:
URL:https://streetlifeministries.org/event/menlo-park-meals-fellowship/2027-10-26/
LOCATION:Menlo Meals + Fellowship\, 1120 Merrill Street\, Menlo Park\, (Menlo Park Train Station)\, United States
GEO:37.454856873;-122.182403564
X-APPLE-STRUCTURED-LOCATION;VALUE=URI;X-ADDRESS=Menlo Meals + Fellowship 1120 Merrill Street Menlo Park (Menlo Park Train Station) United States;X-APPLE-RADIUS=500;X-TITLE=1120 Merrill Street:geo:-122.182403564,37.454856873
END:VEVENT
BEGIN:VEVENT
DTSTART;TZID=America/Los_Angeles:20271028T080000
DTEND;TZID=America/Los_Angeles:20271028T170000
DTSTAMP:20260425T133217
CREATED:20250624T175159Z
LAST-MODIFIED:20250624T175159Z
UID:10002722-1824710400-1824742800@streetlifeministries.org
SUMMARY:Menlo Park Meals & Fellowship
DESCRIPTION:
URL:https://streetlifeministries.org/event/menlo-park-meals-fellowship/2027-10-28/
LOCATION:Menlo Meals + Fellowship\, 1120 Merrill Street\, Menlo Park\, (Menlo Park Train Station)\, United States
GEO:37.454856873;-122.182403564
X-APPLE-STRUCTURED-LOCATION;VALUE=URI;X-ADDRESS=Menlo Meals + Fellowship 1120 Merrill Street Menlo Park (Menlo Park Train Station) United States;X-APPLE-RADIUS=500;X-TITLE=1120 Merrill Street:geo:-122.182403564,37.454856873
END:VEVENT
BEGIN:VEVENT
DTSTART;TZID=America/Los_Angeles:20271102T080000
DTEND;TZID=America/Los_Angeles:20271102T170000
DTSTAMP:20260425T133217
CREATED:20250624T175159Z
LAST-MODIFIED:20250624T175159Z
UID:10002723-1825142400-1825174800@streetlifeministries.org
SUMMARY:Menlo Park Meals & Fellowship
DESCRIPTION:
URL:https://streetlifeministries.org/event/menlo-park-meals-fellowship/2027-11-02/
LOCATION:Menlo Meals + Fellowship\, 1120 Merrill Street\, Menlo Park\, (Menlo Park Train Station)\, United States
GEO:37.454856873;-122.182403564
X-APPLE-STRUCTURED-LOCATION;VALUE=URI;X-ADDRESS=Menlo Meals + Fellowship 1120 Merrill Street Menlo Park (Menlo Park Train Station) United States;X-APPLE-RADIUS=500;X-TITLE=1120 Merrill Street:geo:-122.182403564,37.454856873
END:VEVENT
BEGIN:VEVENT
DTSTART;TZID=America/Los_Angeles:20271104T080000
DTEND;TZID=America/Los_Angeles:20271104T170000
DTSTAMP:20260425T133217
CREATED:20250624T175159Z
LAST-MODIFIED:20250624T175159Z
UID:10002724-1825315200-1825347600@streetlifeministries.org
SUMMARY:Menlo Park Meals & Fellowship
DESCRIPTION:
URL:https://streetlifeministries.org/event/menlo-park-meals-fellowship/2027-11-04/
LOCATION:Menlo Meals + Fellowship\, 1120 Merrill Street\, Menlo Park\, (Menlo Park Train Station)\, United States
GEO:37.454856873;-122.182403564
X-APPLE-STRUCTURED-LOCATION;VALUE=URI;X-ADDRESS=Menlo Meals + Fellowship 1120 Merrill Street Menlo Park (Menlo Park Train Station) United States;X-APPLE-RADIUS=500;X-TITLE=1120 Merrill Street:geo:-122.182403564,37.454856873
END:VEVENT
BEGIN:VEVENT
DTSTART;TZID=America/Los_Angeles:20271109T080000
DTEND;TZID=America/Los_Angeles:20271109T170000
DTSTAMP:20260425T133217
CREATED:20250624T175159Z
LAST-MODIFIED:20250624T175159Z
UID:10002725-1825747200-1825779600@streetlifeministries.org
SUMMARY:Menlo Park Meals & Fellowship
DESCRIPTION:
URL:https://streetlifeministries.org/event/menlo-park-meals-fellowship/2027-11-09/
LOCATION:Menlo Meals + Fellowship\, 1120 Merrill Street\, Menlo Park\, (Menlo Park Train Station)\, United States
GEO:37.454856873;-122.182403564
X-APPLE-STRUCTURED-LOCATION;VALUE=URI;X-ADDRESS=Menlo Meals + Fellowship 1120 Merrill Street Menlo Park (Menlo Park Train Station) United States;X-APPLE-RADIUS=500;X-TITLE=1120 Merrill Street:geo:-122.182403564,37.454856873
END:VEVENT
BEGIN:VEVENT
DTSTART;TZID=America/Los_Angeles:20271111T080000
DTEND;TZID=America/Los_Angeles:20271111T170000
DTSTAMP:20260425T133217
CREATED:20250624T175159Z
LAST-MODIFIED:20250624T175159Z
UID:10002726-1825920000-1825952400@streetlifeministries.org
SUMMARY:Menlo Park Meals & Fellowship
DESCRIPTION:
URL:https://streetlifeministries.org/event/menlo-park-meals-fellowship/2027-11-11/
LOCATION:Menlo Meals + Fellowship\, 1120 Merrill Street\, Menlo Park\, (Menlo Park Train Station)\, United States
GEO:37.454856873;-122.182403564
X-APPLE-STRUCTURED-LOCATION;VALUE=URI;X-ADDRESS=Menlo Meals + Fellowship 1120 Merrill Street Menlo Park (Menlo Park Train Station) United States;X-APPLE-RADIUS=500;X-TITLE=1120 Merrill Street:geo:-122.182403564,37.454856873
END:VEVENT
BEGIN:VEVENT
DTSTART;TZID=America/Los_Angeles:20271116T080000
DTEND;TZID=America/Los_Angeles:20271116T170000
DTSTAMP:20260425T133217
CREATED:20250624T175159Z
LAST-MODIFIED:20250624T175159Z
UID:10002727-1826352000-1826384400@streetlifeministries.org
SUMMARY:Menlo Park Meals & Fellowship
DESCRIPTION:
URL:https://streetlifeministries.org/event/menlo-park-meals-fellowship/2027-11-16/
LOCATION:Menlo Meals + Fellowship\, 1120 Merrill Street\, Menlo Park\, (Menlo Park Train Station)\, United States
GEO:37.454856873;-122.182403564
X-APPLE-STRUCTURED-LOCATION;VALUE=URI;X-ADDRESS=Menlo Meals + Fellowship 1120 Merrill Street Menlo Park (Menlo Park Train Station) United States;X-APPLE-RADIUS=500;X-TITLE=1120 Merrill Street:geo:-122.182403564,37.454856873
END:VEVENT
BEGIN:VEVENT
DTSTART;TZID=America/Los_Angeles:20271118T080000
DTEND;TZID=America/Los_Angeles:20271118T170000
DTSTAMP:20260425T133217
CREATED:20250624T175159Z
LAST-MODIFIED:20250624T175159Z
UID:10002728-1826524800-1826557200@streetlifeministries.org
SUMMARY:Menlo Park Meals & Fellowship
DESCRIPTION:
URL:https://streetlifeministries.org/event/menlo-park-meals-fellowship/2027-11-18/
LOCATION:Menlo Meals + Fellowship\, 1120 Merrill Street\, Menlo Park\, (Menlo Park Train Station)\, United States
GEO:37.454856873;-122.182403564
X-APPLE-STRUCTURED-LOCATION;VALUE=URI;X-ADDRESS=Menlo Meals + Fellowship 1120 Merrill Street Menlo Park (Menlo Park Train Station) United States;X-APPLE-RADIUS=500;X-TITLE=1120 Merrill Street:geo:-122.182403564,37.454856873
END:VEVENT
BEGIN:VEVENT
DTSTART;TZID=America/Los_Angeles:20271123T080000
DTEND;TZID=America/Los_Angeles:20271123T170000
DTSTAMP:20260425T133217
CREATED:20250624T175159Z
LAST-MODIFIED:20250624T175159Z
UID:10002729-1826956800-1826989200@streetlifeministries.org
SUMMARY:Menlo Park Meals & Fellowship
DESCRIPTION:
URL:https://streetlifeministries.org/event/menlo-park-meals-fellowship/2027-11-23/
LOCATION:Menlo Meals + Fellowship\, 1120 Merrill Street\, Menlo Park\, (Menlo Park Train Station)\, United States
GEO:37.454856873;-122.182403564
X-APPLE-STRUCTURED-LOCATION;VALUE=URI;X-ADDRESS=Menlo Meals + Fellowship 1120 Merrill Street Menlo Park (Menlo Park Train Station) United States;X-APPLE-RADIUS=500;X-TITLE=1120 Merrill Street:geo:-122.182403564,37.454856873
END:VEVENT
BEGIN:VEVENT
DTSTART;TZID=America/Los_Angeles:20271125T080000
DTEND;TZID=America/Los_Angeles:20271125T170000
DTSTAMP:20260425T133217
CREATED:20250624T175159Z
LAST-MODIFIED:20250624T175159Z
UID:10002730-1827129600-1827162000@streetlifeministries.org
SUMMARY:Menlo Park Meals & Fellowship
DESCRIPTION:
URL:https://streetlifeministries.org/event/menlo-park-meals-fellowship/2027-11-25/
LOCATION:Menlo Meals + Fellowship\, 1120 Merrill Street\, Menlo Park\, (Menlo Park Train Station)\, United States
GEO:37.454856873;-122.182403564
X-APPLE-STRUCTURED-LOCATION;VALUE=URI;X-ADDRESS=Menlo Meals + Fellowship 1120 Merrill Street Menlo Park (Menlo Park Train Station) United States;X-APPLE-RADIUS=500;X-TITLE=1120 Merrill Street:geo:-122.182403564,37.454856873
END:VEVENT
BEGIN:VEVENT
DTSTART;TZID=America/Los_Angeles:20271130T080000
DTEND;TZID=America/Los_Angeles:20271130T170000
DTSTAMP:20260425T133217
CREATED:20250624T175159Z
LAST-MODIFIED:20250624T175159Z
UID:10002731-1827561600-1827594000@streetlifeministries.org
SUMMARY:Menlo Park Meals & Fellowship
DESCRIPTION:
URL:https://streetlifeministries.org/event/menlo-park-meals-fellowship/2027-11-30/
LOCATION:Menlo Meals + Fellowship\, 1120 Merrill Street\, Menlo Park\, (Menlo Park Train Station)\, United States
GEO:37.454856873;-122.182403564
X-APPLE-STRUCTURED-LOCATION;VALUE=URI;X-ADDRESS=Menlo Meals + Fellowship 1120 Merrill Street Menlo Park (Menlo Park Train Station) United States;X-APPLE-RADIUS=500;X-TITLE=1120 Merrill Street:geo:-122.182403564,37.454856873
END:VEVENT
BEGIN:VEVENT
DTSTART;TZID=America/Los_Angeles:20271202T080000
DTEND;TZID=America/Los_Angeles:20271202T170000
DTSTAMP:20260425T133217
CREATED:20250624T175159Z
LAST-MODIFIED:20250624T175159Z
UID:10002732-1827734400-1827766800@streetlifeministries.org
SUMMARY:Menlo Park Meals & Fellowship
DESCRIPTION:
URL:https://streetlifeministries.org/event/menlo-park-meals-fellowship/2027-12-02/
LOCATION:Menlo Meals + Fellowship\, 1120 Merrill Street\, Menlo Park\, (Menlo Park Train Station)\, United States
GEO:37.454856873;-122.182403564
X-APPLE-STRUCTURED-LOCATION;VALUE=URI;X-ADDRESS=Menlo Meals + Fellowship 1120 Merrill Street Menlo Park (Menlo Park Train Station) United States;X-APPLE-RADIUS=500;X-TITLE=1120 Merrill Street:geo:-122.182403564,37.454856873
END:VEVENT
BEGIN:VEVENT
DTSTART;TZID=America/Los_Angeles:20271207T080000
DTEND;TZID=America/Los_Angeles:20271207T170000
DTSTAMP:20260425T133217
CREATED:20250624T175159Z
LAST-MODIFIED:20250624T175159Z
UID:10002733-1828166400-1828198800@streetlifeministries.org
SUMMARY:Menlo Park Meals & Fellowship
DESCRIPTION:
URL:https://streetlifeministries.org/event/menlo-park-meals-fellowship/2027-12-07/
LOCATION:Menlo Meals + Fellowship\, 1120 Merrill Street\, Menlo Park\, (Menlo Park Train Station)\, United States
GEO:37.454856873;-122.182403564
X-APPLE-STRUCTURED-LOCATION;VALUE=URI;X-ADDRESS=Menlo Meals + Fellowship 1120 Merrill Street Menlo Park (Menlo Park Train Station) United States;X-APPLE-RADIUS=500;X-TITLE=1120 Merrill Street:geo:-122.182403564,37.454856873
END:VEVENT
BEGIN:VEVENT
DTSTART;TZID=America/Los_Angeles:20271209T080000
DTEND;TZID=America/Los_Angeles:20271209T170000
DTSTAMP:20260425T133217
CREATED:20250624T175159Z
LAST-MODIFIED:20250624T175159Z
UID:10002734-1828339200-1828371600@streetlifeministries.org
SUMMARY:Menlo Park Meals & Fellowship
DESCRIPTION:
URL:https://streetlifeministries.org/event/menlo-park-meals-fellowship/2027-12-09/
LOCATION:Menlo Meals + Fellowship\, 1120 Merrill Street\, Menlo Park\, (Menlo Park Train Station)\, United States
GEO:37.454856873;-122.182403564
X-APPLE-STRUCTURED-LOCATION;VALUE=URI;X-ADDRESS=Menlo Meals + Fellowship 1120 Merrill Street Menlo Park (Menlo Park Train Station) United States;X-APPLE-RADIUS=500;X-TITLE=1120 Merrill Street:geo:-122.182403564,37.454856873
END:VEVENT
BEGIN:VEVENT
DTSTART;TZID=America/Los_Angeles:20271214T080000
DTEND;TZID=America/Los_Angeles:20271214T170000
DTSTAMP:20260425T133217
CREATED:20250624T175159Z
LAST-MODIFIED:20250624T175159Z
UID:10002735-1828771200-1828803600@streetlifeministries.org
SUMMARY:Menlo Park Meals & Fellowship
DESCRIPTION:
URL:https://streetlifeministries.org/event/menlo-park-meals-fellowship/2027-12-14/
LOCATION:Menlo Meals + Fellowship\, 1120 Merrill Street\, Menlo Park\, (Menlo Park Train Station)\, United States
GEO:37.454856873;-122.182403564
X-APPLE-STRUCTURED-LOCATION;VALUE=URI;X-ADDRESS=Menlo Meals + Fellowship 1120 Merrill Street Menlo Park (Menlo Park Train Station) United States;X-APPLE-RADIUS=500;X-TITLE=1120 Merrill Street:geo:-122.182403564,37.454856873
END:VEVENT
BEGIN:VEVENT
DTSTART;TZID=America/Los_Angeles:20271216T080000
DTEND;TZID=America/Los_Angeles:20271216T170000
DTSTAMP:20260425T133217
CREATED:20250624T175159Z
LAST-MODIFIED:20250624T175159Z
UID:10002736-1828944000-1828976400@streetlifeministries.org
SUMMARY:Menlo Park Meals & Fellowship
DESCRIPTION:
URL:https://streetlifeministries.org/event/menlo-park-meals-fellowship/2027-12-16/
LOCATION:Menlo Meals + Fellowship\, 1120 Merrill Street\, Menlo Park\, (Menlo Park Train Station)\, United States
GEO:37.454856873;-122.182403564
X-APPLE-STRUCTURED-LOCATION;VALUE=URI;X-ADDRESS=Menlo Meals + Fellowship 1120 Merrill Street Menlo Park (Menlo Park Train Station) United States;X-APPLE-RADIUS=500;X-TITLE=1120 Merrill Street:geo:-122.182403564,37.454856873
END:VEVENT
BEGIN:VEVENT
DTSTART;TZID=America/Los_Angeles:20271221T080000
DTEND;TZID=America/Los_Angeles:20271221T170000
DTSTAMP:20260425T133217
CREATED:20250624T175159Z
LAST-MODIFIED:20250624T175159Z
UID:10002737-1829376000-1829408400@streetlifeministries.org
SUMMARY:Menlo Park Meals & Fellowship
DESCRIPTION:
URL:https://streetlifeministries.org/event/menlo-park-meals-fellowship/2027-12-21/
LOCATION:Menlo Meals + Fellowship\, 1120 Merrill Street\, Menlo Park\, (Menlo Park Train Station)\, United States
GEO:37.454856873;-122.182403564
X-APPLE-STRUCTURED-LOCATION;VALUE=URI;X-ADDRESS=Menlo Meals + Fellowship 1120 Merrill Street Menlo Park (Menlo Park Train Station) United States;X-APPLE-RADIUS=500;X-TITLE=1120 Merrill Street:geo:-122.182403564,37.454856873
END:VEVENT
BEGIN:VEVENT
DTSTART;TZID=America/Los_Angeles:20271223T080000
DTEND;TZID=America/Los_Angeles:20271223T170000
DTSTAMP:20260425T133217
CREATED:20250624T175159Z
LAST-MODIFIED:20250624T175159Z
UID:10002738-1829548800-1829581200@streetlifeministries.org
SUMMARY:Menlo Park Meals & Fellowship
DESCRIPTION:
URL:https://streetlifeministries.org/event/menlo-park-meals-fellowship/2027-12-23/
LOCATION:Menlo Meals + Fellowship\, 1120 Merrill Street\, Menlo Park\, (Menlo Park Train Station)\, United States
GEO:37.454856873;-122.182403564
X-APPLE-STRUCTURED-LOCATION;VALUE=URI;X-ADDRESS=Menlo Meals + Fellowship 1120 Merrill Street Menlo Park (Menlo Park Train Station) United States;X-APPLE-RADIUS=500;X-TITLE=1120 Merrill Street:geo:-122.182403564,37.454856873
END:VEVENT
BEGIN:VEVENT
DTSTART;TZID=America/Los_Angeles:20271228T080000
DTEND;TZID=America/Los_Angeles:20271228T170000
DTSTAMP:20260425T133217
CREATED:20250624T175159Z
LAST-MODIFIED:20250624T175159Z
UID:10002739-1829980800-1830013200@streetlifeministries.org
SUMMARY:Menlo Park Meals & Fellowship
DESCRIPTION:
URL:https://streetlifeministries.org/event/menlo-park-meals-fellowship/2027-12-28/
LOCATION:Menlo Meals + Fellowship\, 1120 Merrill Street\, Menlo Park\, (Menlo Park Train Station)\, United States
GEO:37.454856873;-122.182403564
X-APPLE-STRUCTURED-LOCATION;VALUE=URI;X-ADDRESS=Menlo Meals + Fellowship 1120 Merrill Street Menlo Park (Menlo Park Train Station) United States;X-APPLE-RADIUS=500;X-TITLE=1120 Merrill Street:geo:-122.182403564,37.454856873
END:VEVENT
BEGIN:VEVENT
DTSTART;TZID=America/Los_Angeles:20271230T080000
DTEND;TZID=America/Los_Angeles:20271230T170000
DTSTAMP:20260425T133217
CREATED:20250624T175159Z
LAST-MODIFIED:20250624T175159Z
UID:10002740-1830153600-1830186000@streetlifeministries.org
SUMMARY:Menlo Park Meals & Fellowship
DESCRIPTION:
URL:https://streetlifeministries.org/event/menlo-park-meals-fellowship/2027-12-30/
LOCATION:Menlo Meals + Fellowship\, 1120 Merrill Street\, Menlo Park\, (Menlo Park Train Station)\, United States
GEO:37.454856873;-122.182403564
X-APPLE-STRUCTURED-LOCATION;VALUE=URI;X-ADDRESS=Menlo Meals + Fellowship 1120 Merrill Street Menlo Park (Menlo Park Train Station) United States;X-APPLE-RADIUS=500;X-TITLE=1120 Merrill Street:geo:-122.182403564,37.454856873
END:VEVENT
BEGIN:VEVENT
DTSTART;TZID=America/Los_Angeles:20280104T080000
DTEND;TZID=America/Los_Angeles:20280104T170000
DTSTAMP:20260425T133217
CREATED:20250624T175159Z
LAST-MODIFIED:20250624T175159Z
UID:10002741-1830585600-1830618000@streetlifeministries.org
SUMMARY:Menlo Park Meals & Fellowship
DESCRIPTION:
URL:https://streetlifeministries.org/event/menlo-park-meals-fellowship/2028-01-04/
LOCATION:Menlo Meals + Fellowship\, 1120 Merrill Street\, Menlo Park\, (Menlo Park Train Station)\, United States
GEO:37.454856873;-122.182403564
X-APPLE-STRUCTURED-LOCATION;VALUE=URI;X-ADDRESS=Menlo Meals + Fellowship 1120 Merrill Street Menlo Park (Menlo Park Train Station) United States;X-APPLE-RADIUS=500;X-TITLE=1120 Merrill Street:geo:-122.182403564,37.454856873
END:VEVENT
BEGIN:VEVENT
DTSTART;TZID=America/Los_Angeles:20280106T080000
DTEND;TZID=America/Los_Angeles:20280106T170000
DTSTAMP:20260425T133217
CREATED:20250624T175159Z
LAST-MODIFIED:20250624T175159Z
UID:10002742-1830758400-1830790800@streetlifeministries.org
SUMMARY:Menlo Park Meals & Fellowship
DESCRIPTION:
URL:https://streetlifeministries.org/event/menlo-park-meals-fellowship/2028-01-06/
LOCATION:Menlo Meals + Fellowship\, 1120 Merrill Street\, Menlo Park\, (Menlo Park Train Station)\, United States
GEO:37.454856873;-122.182403564
X-APPLE-STRUCTURED-LOCATION;VALUE=URI;X-ADDRESS=Menlo Meals + Fellowship 1120 Merrill Street Menlo Park (Menlo Park Train Station) United States;X-APPLE-RADIUS=500;X-TITLE=1120 Merrill Street:geo:-122.182403564,37.454856873
END:VEVENT
BEGIN:VEVENT
DTSTART;TZID=America/Los_Angeles:20280111T080000
DTEND;TZID=America/Los_Angeles:20280111T170000
DTSTAMP:20260425T133217
CREATED:20250624T175159Z
LAST-MODIFIED:20250624T175159Z
UID:10002743-1831190400-1831222800@streetlifeministries.org
SUMMARY:Menlo Park Meals & Fellowship
DESCRIPTION:
URL:https://streetlifeministries.org/event/menlo-park-meals-fellowship/2028-01-11/
LOCATION:Menlo Meals + Fellowship\, 1120 Merrill Street\, Menlo Park\, (Menlo Park Train Station)\, United States
GEO:37.454856873;-122.182403564
X-APPLE-STRUCTURED-LOCATION;VALUE=URI;X-ADDRESS=Menlo Meals + Fellowship 1120 Merrill Street Menlo Park (Menlo Park Train Station) United States;X-APPLE-RADIUS=500;X-TITLE=1120 Merrill Street:geo:-122.182403564,37.454856873
END:VEVENT
BEGIN:VEVENT
DTSTART;TZID=America/Los_Angeles:20280113T080000
DTEND;TZID=America/Los_Angeles:20280113T170000
DTSTAMP:20260425T133217
CREATED:20250624T175159Z
LAST-MODIFIED:20250624T175159Z
UID:10002744-1831363200-1831395600@streetlifeministries.org
SUMMARY:Menlo Park Meals & Fellowship
DESCRIPTION:
URL:https://streetlifeministries.org/event/menlo-park-meals-fellowship/2028-01-13/
LOCATION:Menlo Meals + Fellowship\, 1120 Merrill Street\, Menlo Park\, (Menlo Park Train Station)\, United States
GEO:37.454856873;-122.182403564
X-APPLE-STRUCTURED-LOCATION;VALUE=URI;X-ADDRESS=Menlo Meals + Fellowship 1120 Merrill Street Menlo Park (Menlo Park Train Station) United States;X-APPLE-RADIUS=500;X-TITLE=1120 Merrill Street:geo:-122.182403564,37.454856873
END:VEVENT
BEGIN:VEVENT
DTSTART;TZID=America/Los_Angeles:20280118T080000
DTEND;TZID=America/Los_Angeles:20280118T170000
DTSTAMP:20260425T133217
CREATED:20250624T175159Z
LAST-MODIFIED:20250624T175159Z
UID:10002745-1831795200-1831827600@streetlifeministries.org
SUMMARY:Menlo Park Meals & Fellowship
DESCRIPTION:
URL:https://streetlifeministries.org/event/menlo-park-meals-fellowship/2028-01-18/
LOCATION:Menlo Meals + Fellowship\, 1120 Merrill Street\, Menlo Park\, (Menlo Park Train Station)\, United States
GEO:37.454856873;-122.182403564
X-APPLE-STRUCTURED-LOCATION;VALUE=URI;X-ADDRESS=Menlo Meals + Fellowship 1120 Merrill Street Menlo Park (Menlo Park Train Station) United States;X-APPLE-RADIUS=500;X-TITLE=1120 Merrill Street:geo:-122.182403564,37.454856873
END:VEVENT
BEGIN:VEVENT
DTSTART;TZID=America/Los_Angeles:20280120T080000
DTEND;TZID=America/Los_Angeles:20280120T170000
DTSTAMP:20260425T133217
CREATED:20250624T175159Z
LAST-MODIFIED:20250624T175159Z
UID:10002746-1831968000-1832000400@streetlifeministries.org
SUMMARY:Menlo Park Meals & Fellowship
DESCRIPTION:
URL:https://streetlifeministries.org/event/menlo-park-meals-fellowship/2028-01-20/
LOCATION:Menlo Meals + Fellowship\, 1120 Merrill Street\, Menlo Park\, (Menlo Park Train Station)\, United States
GEO:37.454856873;-122.182403564
X-APPLE-STRUCTURED-LOCATION;VALUE=URI;X-ADDRESS=Menlo Meals + Fellowship 1120 Merrill Street Menlo Park (Menlo Park Train Station) United States;X-APPLE-RADIUS=500;X-TITLE=1120 Merrill Street:geo:-122.182403564,37.454856873
END:VEVENT
BEGIN:VEVENT
DTSTART;TZID=America/Los_Angeles:20280125T080000
DTEND;TZID=America/Los_Angeles:20280125T170000
DTSTAMP:20260425T133217
CREATED:20250624T175159Z
LAST-MODIFIED:20250624T175159Z
UID:10002747-1832400000-1832432400@streetlifeministries.org
SUMMARY:Menlo Park Meals & Fellowship
DESCRIPTION:
URL:https://streetlifeministries.org/event/menlo-park-meals-fellowship/2028-01-25/
LOCATION:Menlo Meals + Fellowship\, 1120 Merrill Street\, Menlo Park\, (Menlo Park Train Station)\, United States
GEO:37.454856873;-122.182403564
X-APPLE-STRUCTURED-LOCATION;VALUE=URI;X-ADDRESS=Menlo Meals + Fellowship 1120 Merrill Street Menlo Park (Menlo Park Train Station) United States;X-APPLE-RADIUS=500;X-TITLE=1120 Merrill Street:geo:-122.182403564,37.454856873
END:VEVENT
BEGIN:VEVENT
DTSTART;TZID=America/Los_Angeles:20280127T080000
DTEND;TZID=America/Los_Angeles:20280127T170000
DTSTAMP:20260425T133217
CREATED:20250624T175159Z
LAST-MODIFIED:20250624T175159Z
UID:10002748-1832572800-1832605200@streetlifeministries.org
SUMMARY:Menlo Park Meals & Fellowship
DESCRIPTION:
URL:https://streetlifeministries.org/event/menlo-park-meals-fellowship/2028-01-27/
LOCATION:Menlo Meals + Fellowship\, 1120 Merrill Street\, Menlo Park\, (Menlo Park Train Station)\, United States
GEO:37.454856873;-122.182403564
X-APPLE-STRUCTURED-LOCATION;VALUE=URI;X-ADDRESS=Menlo Meals + Fellowship 1120 Merrill Street Menlo Park (Menlo Park Train Station) United States;X-APPLE-RADIUS=500;X-TITLE=1120 Merrill Street:geo:-122.182403564,37.454856873
END:VEVENT
BEGIN:VEVENT
DTSTART;TZID=America/Los_Angeles:20280201T080000
DTEND;TZID=America/Los_Angeles:20280201T170000
DTSTAMP:20260425T133217
CREATED:20250624T175159Z
LAST-MODIFIED:20250624T175159Z
UID:10002749-1833004800-1833037200@streetlifeministries.org
SUMMARY:Menlo Park Meals & Fellowship
DESCRIPTION:
URL:https://streetlifeministries.org/event/menlo-park-meals-fellowship/2028-02-01/
LOCATION:Menlo Meals + Fellowship\, 1120 Merrill Street\, Menlo Park\, (Menlo Park Train Station)\, United States
GEO:37.454856873;-122.182403564
X-APPLE-STRUCTURED-LOCATION;VALUE=URI;X-ADDRESS=Menlo Meals + Fellowship 1120 Merrill Street Menlo Park (Menlo Park Train Station) United States;X-APPLE-RADIUS=500;X-TITLE=1120 Merrill Street:geo:-122.182403564,37.454856873
END:VEVENT
BEGIN:VEVENT
DTSTART;TZID=America/Los_Angeles:20280203T080000
DTEND;TZID=America/Los_Angeles:20280203T170000
DTSTAMP:20260425T133217
CREATED:20250624T175159Z
LAST-MODIFIED:20250624T175159Z
UID:10002750-1833177600-1833210000@streetlifeministries.org
SUMMARY:Menlo Park Meals & Fellowship
DESCRIPTION:
URL:https://streetlifeministries.org/event/menlo-park-meals-fellowship/2028-02-03/
LOCATION:Menlo Meals + Fellowship\, 1120 Merrill Street\, Menlo Park\, (Menlo Park Train Station)\, United States
GEO:37.454856873;-122.182403564
X-APPLE-STRUCTURED-LOCATION;VALUE=URI;X-ADDRESS=Menlo Meals + Fellowship 1120 Merrill Street Menlo Park (Menlo Park Train Station) United States;X-APPLE-RADIUS=500;X-TITLE=1120 Merrill Street:geo:-122.182403564,37.454856873
END:VEVENT
END:VCALENDAR